Workbook
Name _edn1: 'ЗАЯВКА'!$A$512
Name _edn2: 'ЗАЯВКА'!$A$514
Name _edn3: 'ЗАЯВКА'!$A$516
Name _edn4: 'ЗАЯВКА'!$A$518
Name _edn5: 'ЗАЯВКА'!$A$522
Name _edn6: 'ЗАЯВКА'!$A$525
Name _edn7: 'ЗАЯВКА'!$A$527
Name _edn8: 'ЗАЯВКА'!$A$529
Name _edn9: 'ЗАЯВКА'!$A$531
Name _ednref1: 'ЗАЯВКА'!$B$251
Name _ednref2: 'ЗАЯВКА'!$B$339
Name _ednref3: 'ЗАЯВКА'!$B$344
Name _ednref4: 'ЗАЯВКА'!$B$361
Name _ednref5: 'ЗАЯВКА'!$B$363
Name _ednref6: 'ЗАЯВКА'!$B$368
Name _ednref7: 'ЗАЯВКА'!$B$410
Name _ednref8: 'ЗАЯВКА'!$B$445
Name _ednref9: 'ЗАЯВКА'!$B$472

Sheet ЗАЯВКА
A1: Приложение № 1 к приказу Минэкономразвития России от 26.06.2025 № 424
E2: форма
A3: КОНКУРСНАЯ ЗАЯВКА МУНИЦИПАЛЬНОГО ОБРАЗОВАНИЯ, представляемая для участия во Всероссийском конкурсе «Лучшая муниципальная практика» по номинации «Повышение эффективности управления территорией муниципального образования»
A5: (наименование муниципального образования)
A7: (субъект Российской Федерации)
A9: (наименование номинации)
A11: Прошу организовать рассмотрение настоящей конкурсной заявки, муниципального образования, представляемой для участия во Всероссийском конкурсе «Лучшая муниципальная практика» по номинации «Повышение эффективности управления территорией муниципального образования» (далее – конкурсная заявка и конкурс соответственно). С условиями и требованиями конкурсного отбора ознакомлен и согласен. По вопросам участия прошу взаимодействовать с
A13: (фамилия, имя и отчество (при наличии), должность контактного лица, его номер телефона и адрес электронной почты (при наличии))
A14: Описание практики муниципального образования (далее - описание практики)
A15: № п/п | B15: Признаки элемента практики | C15: Содержание
A16: 1 | B16: Наименование практики, направленной на повышение эффективности управления территорией муниципального образования
C17: (присваивается муниципальным образованием самостоятельно с кратким отражением реализуемой практики)
A18: 2 | B18: Направления практики
C19: (осуществляется выбор не менее двух следующих направлений практики: "Инвестиции", "Управление имуществом и инфраструктурой", "Новые источники доходов бюджета и управление муниципальными заимствованиями")
A20: 3 | B20: Описание механизмов, составляющих управленческую практику
C21: (краткое описание механизмов, применяемых при реализации практики)
A22: 4 | B22: Результаты реализации описываемых практик, которые подтверждаются соответствующими значениями показателей
C23: (краткое описание достигнутых результатов при реализации практики, включая цифровые значения)
A24: 5 | B24: Презентационные материалы (не более 7 слайдов) | C24: Прикладываются в качестве приложения к настоящей конкурсной заявке.
A25: Показатели, характеризующие деятельность муниципального образования
A26: № п/п | B26: Наименование показателя | C26: Исходные данные | E26: Значение показателя
A27: Раздел 1. Показатели, характеризующие социально-экономическую ситуацию в муниципальном образовании
A28: 1.1 | B28: Средний темп роста численности постоянного населения муниципального образования за три последних отчетных года (Источник: Росстат), рассчитываемый по формуле: где: U11i – значение соответствующего показателя в i-м муниципальном образовании; Ain; Ain-1; Ain-2; Ain-3 – численность постоянного населения i-ого муниципального образования, соответственно, в ______ г., ______ г., ______ г. и ______ г. | E28: =GEOMEAN((D29/D30),(D30/D31),(D31/D32)) -> #VALUE!
C29: Ain =
C30: Ain-1 =
C31: Ain-2 =
C32: Ain-3 =
A33: 1.2 | B33: Средний темп роста объема инвестиций в основной капитал (за исключением бюджетных средств) на территории муниципального образования в расчете на 1 жителя за три последних отчетных финансовых года (Источник: Росстат), рассчитываемый по формуле: где: U12i – значение соответствующего показателя в i-м муниципальном образовании; Ain; Ain-1; Ain-2; Ain-3 – объем инвестиций в основной капитал (за исключением бюджетных средств) на территории i-ого муниципального образования, соответственно, в ______ г., ______ г., ______ г. и ______ г.; Bin; Bin-1; Bin-2; Bin-3 – численность постоянного населения i-ого муниципального образования, соответственно, в ______ г., ______ г., ______ г. и ______ г. | E33: =GEOMEAN(((D34/D38)/(D35/D39)),((D35/D39)/(D36/D40)),((D36/D40)/(D37/D41))) -> #VALUE!
C34: Ain =
C35: Ain-1 =
C36: Ain-2 =
C37: Ain-3 =
C38: Bin =
C39: Bin-1 =
C40: Bin-2 =
C41: Bin-3 =
A42: 1.3 | B42: Средний темп роста оборота розничной торговли на территории муниципального образования за три последних отчетных финансовых года (Источник: Росстат), рассчитываемый по формуле: где: U13i – значение соответствующего показателя в i-м муниципальном образовании; Ain; Ain-1; Ain-2; Ain-3 – оборот розничной торговли на территории i-ого муниципального образования, соответственно, в ______ г., ______ г., ______ г. и ______ г. | E42: =GEOMEAN((D43/D44),(D44/D45),(D45/D46)) -> #VALUE!
C43: Ain =
C44: Ain-1 =
C45: Ain-2 =
...

Sheet ДЛЯ РАСЧЕТОВ
A1: Субъект Российской Федерации | B1: Муниципальное образование | C1: п. 1.1 | D1: п. 1.2 | E1: п. 1.3 | F1: п. 1.4 | G1: п. 1.5 | H1: п. 1.6 | I1: п. 1.7 | J1: п. 1.8 | K1: п. 2.1 | L1: п. 2.2 | M1: п. 2.3 | N1: п. 2.4 | O1: п. 2.5 | P1: п. 2.6 | Q1: п. 2.7 | R1: п. 2.8 | S1: п. 2.9 | T1: п. 2.10 | U1: п. 3.1.1 | V1: п. 3.1.2 | W1: п. 3.1.3 | X1: п. 3.1.4 | Y1: п. 3.1.5 | Z1: п. 3.1.6 | AA1: п. 3.1.7 | AB1: п. 3.2.1 | AC1: п. 3.2.2 | AD1: п. 3.2.3 | AE1: п. 3.2.4 | AF1: п. 3.2.5 | AG1: п. 3.2.6 | AH1: п. 3.2.7 | AI1: п. 3.2.8 | AJ1: п. 3.2.9 | AK1: п. 3.2.10 | AL1: п. 3.2.11 | AM1: п. 3.2.12 | AN1: п. 3.3.1 | AO1: п. 3.3.2 | AP1: п. 3.3.3 | AQ1: п. 3.3.4 | AR1: п. 3.3.5 | AS1: п. 3.3.6 | AT1: п. 3.3.7 | AU1: п. 3.3.8 | AV1: п. 3.3.9 | AW1: п. 3.3.10 | AX1: п. 3.3.11 | AY1: п. 3.3.12 | AZ1: п. 3.3.13 | BA1: п. 3.3.14
A2: =ЗАЯВКА!A6 -> 0 | B2: =ЗАЯВКА!A4 -> 0 | C2: ='ЗАЯВКА'!E28 -> #VALUE! | D2: ='ЗАЯВКА'!E33 -> #VALUE! | E2: ='ЗАЯВКА'!E42 -> #VALUE! | F2: ='ЗАЯВКА'!E47 -> #VALUE! | G2: ='ЗАЯВКА'!E56 -> #VALUE! | H2: ='ЗАЯВКА'!E61 -> #DIV/0! | I2: ='ЗАЯВКА'!E64 -> #DIV/0! | J2: ='ЗАЯВКА'!E67 -> #DIV/0! | K2: ='ЗАЯВКА'!E71 -> #VALUE! | L2: ='ЗАЯВКА'!E76 -> #DIV/0! | M2: ='ЗАЯВКА'!E79 -> #DIV/0! | N2: ='ЗАЯВКА'!E82 -> #DIV/0! | O2: ='ЗАЯВКА'!E85 -> #DIV/0! | P2: ='ЗАЯВКА'!E88 -> #DIV/0! | Q2: ='ЗАЯВКА'!E91 -> #DIV/0! | R2: ='ЗАЯВКА'!E94 -> #DIV/0! | S2: ='ЗАЯВКА'!E97 -> #DIV/0! | T2: ='ЗАЯВКА'!E100 -> #DIV/0! | U2: ='ЗАЯВКА'!E105 -> #VALUE! | V2: ='ЗАЯВКА'!E110 -> #VALUE! | W2: ='ЗАЯВКА'!E115 -> #DIV/0! | X2: ='ЗАЯВКА'!E118 -> #VALUE! | Y2: ='ЗАЯВКА'!E123 -> #VALUE! | Z2: ='ЗАЯВКА'!E128 -> 0 | AA2: ='ЗАЯВКА'!E139 -> 0 | AB2: =IF('ЗАЯВКА'!E146="да",1,0) -> 0 | AC2: ='ЗАЯВКА'!E149 -> #VALUE! | AD2: ='ЗАЯВКА'!E154 -> #DIV/0! | AE2: ='ЗАЯВКА'!E157 -> #VALUE! | AF2: ='ЗАЯВКА'!E162 -> #DIV/0! | AG2: ='ЗАЯВКА'!E165 -> #VALUE! | AH2: ='ЗАЯВКА'!E170 -> 0 | AI2: ='ЗАЯВКА'!E173 -> #DIV/0! | AJ2: ='ЗАЯВКА'!E176 -> #DIV/0! | AK2: =IF('ЗАЯВКА'!E179="да",1,0) -> 0 | AL2: =IF('ЗАЯВКА'!E180="да",1,0) -> 0 | AM2: =IF('ЗАЯВКА'!E181="да",1,0) -> 0 | AN2: ='ЗАЯВКА'!E183 -> #DIV/0! | AO2: ='ЗАЯВКА'!E186 -> #DIV/0! | AP2: =IF('ЗАЯВКА'!D189="нет",1,0) -> 0 | AQ2: ='ЗАЯВКА'!E190 -> #VALUE! | AR2: ='ЗАЯВКА'!E195 -> #DIV/0! | AS2: ='ЗАЯВКА'!E198 -> #DIV/0! | AT2: ='ЗАЯВКА'!E201 -> #DIV/0! | AU2: =IF('ЗАЯВКА'!E205="да",1,0) -> 0 | AV2: ='ЗАЯВКА'!E206 -> #DIV/0! | AW2: ='ЗАЯВКА'!E210 -> #DIV/0! | AX2: ='ЗАЯВКА'!E213 -> #DIV/0! | AY2: ='ЗАЯВКА'!E216 -> #DIV/0! | AZ2: ='ЗАЯВКА'!E219 -> #DIV/0! | BA2: ='ЗАЯВКА'!E222 -> #DIV/0!
A4: *Данные заявки переносятся в таблицу для рейтингования по разделам (блоки разделов отделены друг от друга толстой границей)
