Workbook

Sheet Консол
A1: Анализ исполнения консолидированного бюджета Моргаушского муниципального округа на 01.02.2023 г.
A2: Показатели | B2: Код БК | C2: Консолидированный бюджет | F2: Районный бюджет
C3: план на 2023 г. | D3: исполнено на 01.02.2023 г. | E3: % исполнения к плану | F3: план на 2023 г. | G3: исполнено на 01.02.2023 г. | H3: % исполнения к плану
A4: НАЛОГОВЫЕ ДОХОДЫ | C4: =SUM(C5:C13) -> 411895.42 | D4: =SUM(D5:D13) -> 88254.864 | E4: =D4/C4*100 -> 21.426522 | F4: =SUM(F5:F13) -> 411895.42 | G4: =SUM(G5:G13) -> 88254.864 | H4: =G4/F4*100 -> 21.426522
A5: налог на доходы физических лиц | B5: 10102 | C5: =F5 -> 299265.1 | D5: =G5 -> 75160.383 | E5: =D5/C5*100 -> 25.114984 | F5: =район!C6 -> 299265.1 | G5: =район!D6 -> 75160.383 | H5: =G5/F5*100 -> 25.114984
A6: налоги на товары (работы и услуги), реализуемые на территории РФ | B6: 10300 | C6: =F6 -> 25111.324 | D6: =G6 -> 7507.4776 | E6: =D6/C6*100 -> 29.896781 | F6: =район!C8 -> 25111.324 | G6: =район!D8 -> 7507.4776 | H6: =G6/F6*100 -> 29.896781
A7: налог на совокупный доход | B7: 10500 | C7: =F7 -> 47550 | D7: =G7 -> -1496.6443 | E7: =D7/C7*100 -> -3.1475169 | F7: =район!C13 -> 47550 | G7: =район!D13 -> -1496.6443 | H7: =G7/F7*100 -> -3.1475169
A8: налог на имущество | B8: 10601 | C8: =F8 -> 10428 | D8: =G8 -> 525.18668 | E8: =D8/C8*100 -> 5.0363126 | F8: =SUM(район!C19) -> 10428 | G8: =SUM(район!D19) -> 525.18668
A9: транспортный налог | B9: 10604 | C9: =F9 -> 3365 | D9: =G9 -> 124.60386 | E9: =D9/C9*100 -> 3.7029379 | F9: =SUM(район!C20) -> 3365 | G9: =район!D20 -> 124.60386 | H9: =G9/F9*100 -> 3.7029379
A10: земельный налог | B10: 10606 | C10: =F10 -> 17613 | D10: =G10 -> 3529.9587 | E10: =D10/C10*100 -> 20.04178 | F10: =SUM(район!C23) -> 17613 | G10: =SUM(район!D23) -> 3529.9587 | H10: 0
A11: налоги, сборы за пользование природными ресурсами | B11: 10701 | C11: =F11 -> 505 | D11: =G11 -> 90.464 | E11: =D11/C11*100 -> 17.913663 | F11: =район!C26 -> 505 | G11: =район!D26 -> 90.464 | H11: =G11/F11*100 -> 17.913663
A12: госпошлина | B12: 10800 | C12: =F12 -> 8058 | D12: =G12 -> 2813.4342 | E12: =D12/C12*100 -> 34.914795 | F12: =район!C28 -> 8058 | G12: =район!D28 -> 2813.4342 | H12: =G12/F12*100 -> 34.914795
A13: задол. по отм. нал., сборам | B13: 10900 | C13: =F13 -> 0 | D13: =G13 -> 0 | F13: =район!C32 -> 0 | G13: =район!D32 -> 0
A14: НЕНАЛОГОВЫЕ ДОХОДЫ | C14: =SUM(C15:C21) -> 59455.936 | D14: =SUM(D15:D21) -> 42062.212 | E14: =D14/C14*100 -> 70.745185 | F14: =F15+F16+F17+F18+F20+F21+F19 -> 59455.936 | G14: =G15+G16+G17+G18+G20+G21+G19 -> 42062.212 | H14: =G14/F14*100 -> 70.745185
A15: доходы от использования имущества, находящегося в государственной и муниципальной собственности | B15: 11100 | C15: =F15 -> 13340 | D15: =G15 -> 8596.9211 | E15: =D15/C15*100 -> 64.444686 | F15: =район!C38 -> 13340 | G15: =район!D38 -> 8596.9211 | H15: =G15/F15*100 -> 64.444686
A16: плата за негативное воздействие на окуржающую среду | B16: 11200 | C16: =F16 -> 0 | D16: =G16 -> 0 | E16: =D16/C16*100 -> #DIV/0! | F16: =район!C48 -> 0 | G16: =район!D48 -> 0 | H16: =G16/F16*100 -> #DIV/0!
A17: доходы от оказания платных услуг и компенсации затрат государства | B17: 11300 | C17: =F17 -> 1000 | D17: =G17 -> 348.99247 | E17: =D17/C17*100 -> 34.899247 | F17: =район!C50 -> 1000 | G17: =район!D50 -> 348.99247 | H17: =G17/F17*100 -> 34.899247
A18: доходы от продажи материальных и нематериальных активов | B18: 11400 | C18: =F18 -> 12500 | D18: =G18 -> 2728.8219 | E18: =D18/C18*100 -> 21.830575 | F18: =район!C53 -> 12500 | G18: =район!D53 -> 2728.8219 | H18: =G18/F18*100 -> 21.830575
A19: административные платежи и сборы | B19: 11500 | C19: =F19 -> 0 | D19: =G19 -> 28796.553 | F19: =район!C58 -> 0 | G19: =район!D66 -> 28796.553
A20: штрафы, санкции, возмещние ущерба | B20: 11600 | C20: =F20 -> 2500 | D20: =G20 -> 1590.9241 | E20: =D20/C20*100 -> 63.636964 | F20: =район!C60 -> 2500 | G20: =район!D60 -> 1590.9241 | H20: =G20/F20*100 -> 63.636964
A21: прочие неналоговые доходы | B21: 11700 | C21: =F21 -> 30115.936 | D21: =G21 -> 0 | F21: =район!C66 -> 30115.936
A22: ДОХОДЫ ОТ ПРЕДПРИНИМАТЕЛЬСКОЙ ДЕЯТЕЛЬНОСТИ | B22: 30000 | C22: =F22 -> 0 | D22: =G22 -> 0 | F22: 0 | G22: 0
A23: ИТОГО СОБСТВЕННЫХ ДОХОДОВ | B23: 10000 | C23: =SUM(C4,C14,C22,) -> 471351.36 | D23: =SUM(D4,D14,) -> 130317.08 | E23: =D23/C23*100 -> 27.647544 | F23: =SUM(F4,F14,) -> 471351.36 | G23: =SUM(G4,G14,G22) -> 130317.08 | H23: =G23/F23*100 -> 27.647544
A24: БЕЗВОЗМЕЗДНЫЕ ПЕРЕЧИСЛЕНИЯ | B24: 20200 | C24: 717224.66 | D24: -46567.792 | E24: =D24/C24*100 -> -6.4927762 | F24: =район!C70 -> 1246602.1 | G24: =район!D70 -> 362361.17 | H24: =G24/F24*100 -> 29.067908
A25: Прочие безвозмездные поступления | B25: 20700 | C25: =F25 -> 0 | D25: =SUM(G25) -> 0 | E25: =D25/C25*100 -> #DIV/0! | F25: 0 | G25: 0
A26: Возврат излишне уплаченных сумм | B26: 20800 | C26: =F26 -> 0 | D26: =район!D75 -> 0 | E26: =D26/C26*100 -> #DIV/0! | F26: 0 | G26: 0
A27: Доходы бюджетов муниц.районов от возврата оргнизациями остатков субсидий прошлых лет | B27: 21800 | C27: 0 | D27: =SUM(район!D76) -> 0 | F27: 0 | G27: 0
A28: Возврат остатков субсидий и субвенций | B28: 21900 | C28: =F28 -> 0 | D28: -87055.707 | F28: =район!C77 -> 0 | G28: =район!D77 -> -25594.683
A29: ВСЕГО ДОХОДОВ | C29: =C24+C23+C28+C25 -> 1188576 | D29: =D24+D23+D25+D27+D26 -> 83749.283 | E29: =D29/C29*100 -> 7.0461865 | F29: =F24+F23 -> 1717953.5 | G29: =G24+G23+G26 -> 492678.24 | H29: =G29/F29*100 -> 28.678206
A30: ВСЕГО РАСХОДОВ | C30: =C31+C32+C33+C34+C35+C36+C37+C38+C39+C43+C40+C41+C42 -> #REF! | D30: =SUM(D31:D43) -> #REF! | E30: =D30/C30*100 -> #REF! | F30: =SUM(F31+F32+F33+F34+F35+F36+F37+F38+F39+F40+F41+F42+F43) -> #REF! | G30: =SUM(G31:G43) -> #REF! | H30: =G30/F30*100 -> #REF!
A31: общегосударственные вопросы | B31: 0100 | C31: =F31 -> 196851.11 | D31: =G31 -> 50255.474 | E31: =D31/C31*100 -> 25.529688 | F31: =район!C82 -> 196851.11 | G31: =район!D82 -> 50255.474 | H31: =G31/F31*100 -> 25.529688
A32: национальная оборона | B32: 0200 | C32: =F32 -> 3475.7 | D32: =G32 -> 1005.736 | E32: =D32/C32*100 -> 28.936213 | F32: =район!C92 -> 3475.7 | G32: =район!D92 -> 1005.736 | H32: =G32/F32*100 -> 28.936213
A33: национальная безопасность и правоохранительная деятельность | B33: 0300 | C33: =F33 -> 14619.282 | D33: =G33 -> 2768.8871 | E33: =D33/C33*100 -> 18.939966 | F33: =район!C94 -> 14619.282 | G33: =район!D94 -> 2768.8871 | H33: =G33/F33*100 -> 18.939966
A34: национальная экономика | B34: 0400 | C34: 119953.7 | D34: 12.33 | E34: =D34/C34*100 -> 0.010278966 | F34: =район!C99 -> 243862.35 | G34: =район!D99 -> 51304.748 | H34: =G34/F34*100 -> 21.038405
A35: жилищно-коммунальное хозяйство | B35: 0500 | C35: 132002.97 | D35: 20.5 | E35: =D35/C35*100 -> 0.015529954 | F35: =район!C120 -> 347092.51 | G35: =район!D120 -> 11266.157 | H35: =G35/F35*100 -> 3.2458658
A36: охрана окружающей среды | B36: 0600 | C36: =F36 -> 3744.4755 | D36: =G36 -> 0 | E36: =D36/C36*100 -> 0 | F36: =район!C138 -> 3744.4755 | G36: =район!D138 -> 0 | H36: =G36/F36*100 -> 0
A37: образование | B37: 0700 | C37: =F37 -> 794430.49 | D37: =G37 -> 305551.79 | E37: =D37/C37*100 -> 38.46174 | F37: =район!C143 -> 794430.49 | G37: =район!D143 -> 305551.79 | H37: =G37/F37*100 -> 38.46174
A38: культура | B38: 0800 | C38: 53583.964 | D38: 3468.4 | E38: =D38/C38*100 -> 6.4728321 | F38: =район!C166 -> 108191.84 | G38: =район!D166 -> 38227.109 | H38: =G38/F38*100 -> 35.332711
A39: социальная политика | B39: 1000 | C39: 40552.978 | D39: 0 | E39: =D39/C39*100 -> 0 | F39: =район!C175 -> 78128.091 | G39: =район!D175 -> 11615.069 | H39: =G39/F39*100 -> 14.8667
A40: физическая культура | B40: 1100 | C40: 7825.1 | D40: 306.254 | E40: =D40/C40*100 -> 3.9137391 | F40: =район!C187 -> 40413.69 | G40: =район!D187 -> 13573.664 | H40: =G40/F40*100 -> 33.586797
...

Sheet Справка
AD1: Приложение 3
AD2: к письму Минфина Чувашии
AD3: от 02.02.2007 №04-16/491
B4: С П Р А В К А
B5: об исполнении бюджетов поселений Моргаушского района на 1 января 2023 г.
A7: № п/п | B7: Наименование поселений | C7: Доходы - всего (код дохода 00085000000000000000) | F7: в том числе: | DM7: Расходы - всего (код расхода 00096000000000000000) | FC7: Дефицит - всего (код БК 00079000000000000000)
F8: Налоговые и неналоговые доходы (код дохода 00010000000000000000) | L8: из них: | CF8: Безвозмездные поступления (код дохода 00020000000000000000) | CI8: из них: | DD8: Доходы от предпринимательской и иной приносящей доход деятельности (код дохода 00030000000000000000) | DP8: из них:
L9: налог на доходы физических лиц (код дохода 00010102000010000110) | R9: доходы от уплаты акцизов на дизельное топливо 00010302230010000110 | U9: доходы от уплаты акцизов на моторные масла 00010302240010000110 | X9: доходы от уплаты акцизов на автомобильный бензин 00010302250010000110 | AA9: доходы от уплаты акцизов на прямогонный бензин 00010302260010000110 | AD9: единый сельскохозяйственный налог (код дохода 00010503000010000110) | AG9: налог на имущество физических лиц, зачисляемые в бюджеты поселений (код дохода 00010601030100000110) | AJ9: земельный налог (код дохода 00010606000000000110) | AM9: Госпошлина (108) | AP9: Задолженность и перерасчеты по отмененным налогам, сборам и иным обязательным платежам (код дохода 00010900000000000000) | AS9: арендная плата за земли, находящиеся в государственной собственности до разграничения государственной собственности на землю, и поступления от продажи права на заключение договоров аренды указанных земельных участков (код дохода 00011105010000000120) | AV9: арендная плата за земли после разграничения государственной собственности на землю и поступления от продажи права на заключение договоров аренды указанных земельных участков (код дохода 00011105025100000120) | AY9: доходы от сдачи в аренду имущества, находящегося в оперативном управлении органов управления поселений и создаваемых ими учреждений и в хозяйственном ведении муниципальных унитарных предприятий (код дохода 00011105035100000120) | BB9: Задолженность и перерасчет по отмененным налогам (109) | BE9: Доходы от оказания платных услуг и компенсации затрат государства 000 113 00000 00 0000 000 | BH9: Доходы от реализации имущества, находящегося в собственности сельских поселений 000 11402050100000 410 | BK9: Доходы от реализации имущества 000 114 02014100000 420 | BN9: Прочие доходы от оказания платных услуг получателям средств бюджетов поселений и компенсации затрат бюджетов поселений (код 000 113 03050 10 0000 180 | BQ9: Денежные взыскания (штрафы) за нарушение законодательства о налогах и сборах (116 00000 00 0000 000) | BT9: Штрафы, санкции, возмещение ущерба (код 000 1 16 00000 00 0000 000) | BW9: прочие неналоговые доходы бюджетов поселений (код 000 1 17 00000 00 0000 000) | BZ9: Государственная пошлина за совершение нотариальных действийдолжностными лицами органов местного самоуправления (000 1 08 04020 01 0000 110) | CC9: Возврат остатков субсидий и сцбвенций из бюджетов поселений (000 1 19 05000 10 0000 151) | CI9: дотации бюджетам поселений на выравнивание уровня бюджетной обеспеченности (код доходов 00020215001100000151) | CL9: дотации бюджетам поселений на поддержку мер по обеспечению сбалансированности бюджетов (код доходов 00020215002000000151) | CO9: Субсидии | CR9: Субвенции | CU9: Иные межбюджетные трансферты | CX9: Прочие безвозмездные поступления | DA9: Возврат остатков субсидий, субвенций и иных межбюджетных трансфертов, имеющих целевое назначение, прошлых лет | DG9: Прочие безвозмездные поступления в бюджеты поселений | DJ9: Прочие безвозмездные поступления от других бюджетов бюджетной системы | DP9: Общегосударственные вопросы (код расхода 00001000000000000000) | DS9: в том числе: | EE9: Национальная оборона (02000000000000) | EH9: Национальная безопасность (0300000000000000) | EK9: Национальная экономика (код расхода 00004000000000000000) | EN9: Жилищно-коммунальное хозяйство (код расхода 00005000000000000000) | EQ9: Культура (код расхода 00008000000000000000) | ET9: Cоциальная политика (код БК расходов 100000000000) | EW9: Физическая культура и спорт (1101000000000000000) | EZ9: Межбюджетные трансферты (140000000000)
DS11: Функционирование местных администраций (код расхода 01040000000000000) | DV11: Обеспечение проведения выборов и референдумов (010700000000000) | DY11: Резервные фонды (0111000000000000) | EB11: Другие общегосударственные расходы (0113000000000000)
C12: план | D12: факт | E12: процент исполнения | F12: план | G12: факт | H12: процент исполнения | L12: план | M12: факт | N12: процент исполнения | R12: план | S12: факт | T12: процент исполнения | U12: план | V12: факт | W12: процент исполнения | X12: план | Y12: факт | Z12: процент исполнения | AA12: план | AB12: факт | AC12: процент исполнения | AD12: план | AE12: факт | AF12: процент исполнения | AG12: план | AH12: факт | AI12: процент исполнения | AJ12: план | AK12: факт | AL12: процент исполнения | AM12: план | AN12: факт | AO12: процент исполнения | AP12: план | AQ12: факт | AR12: процент исполнения | AS12: план | AT12: факт | AU12: процент исполнения | AV12: план | AW12: факт | AX12: процент исполнения | AY12: план | AZ12: факт | BA12: процент исполнения | BB12: план | BC12: факт | BD12: процент исполнения | BE12: план | BF12: факт | BG12: процент исполнения | BK12: план | BL12: факт | BM12: процент исполнения | BN12: план | BO12: факт | BP12: процент исполнения | BQ12: план | BR12: факт | BS12: процент исполнения | BT12: план | BU12: факт | BV12: процент исполнения | BW12: план | BX12: факт | BY12: процент исполнения | BZ12: план | CA12: факт | CB12: процент исполнения | CC12: план | CD12: факт | CE12: процент исполнения | CF12: план | CG12: факт | CH12: процент исполнения | CI12: план | CJ12: факт | CK12: процент исполнения | CL12: план | CM12: факт | CN12: процент исполнения | CO12: план | CP12: факт | CQ12: процент исполнения | CR12: план | CS12: факт | CT12: процент исполнения | CU12: план | CV12: факт | CW12: процент исполнения | CX12: план | CY12: факт | CZ12: процент исполнения | DA12: план | DB12: факт | DC12: процент исполнения | DD12: план | DE12: факт | DF12: процент исполнения | DG12: план | DH12: факт | DI12: процент исполнения | DJ12: план | DK12: факт | DL12: процент исполнения | DM12: план | DN12: факт | DO12: процент исполнения | DP12: план | DQ12: факт | DR12: процент исполнения | DS12: план | DT12: факт | DU12: процент исполнения | DV12: план | DW12: факт | DX12: процент исполнения | DY12: план | DZ12: факт | EA12: процент исполнения | EB12: план | EC12: факт | ED12: процент исполнения | EE12: план | EF12: факт | EG12: процент исполнения | EH12: план | EI12: факт | EJ12: процент исполнения | EK12: план | EL12: факт | EM12: процент исполнения | EN12: план | EO12: факт | EP12: процент исполнения | EQ12: план | ER12: факт | ES12: процент исполнения | ET12: план | EU12: факт | EV12: процент исполнения | EW12: план | EX12: факт | EY12: процент исполнения | EZ12: план | FA12: факт | FB12: процент исполнения | FC12: план | FD12: факт | FE12: процент исполнения
A13: 1 | B13: 2 | C13: 3 | D13: 4 | E13: 5 | F13: 6 | G13: 7 | H13: 8 | L13: 9 | M13: 10 | N13: 11 | R13: 12 | S13: 13 | T13: 14 | U13: 15 | V13: 16 | W13: 17 | X13: 18 | Y13: 19 | Z13: 20 | AA13: 21 | AB13: 22 | AC13: 23 | AD13: 24 | AE13: 25 | AF13: 26 | AG13: 27 | AH13: 28 | AI13: 29 | AJ13: 30 | AK13: 31 | AL13: 32 | AM13: 33 | AN13: 34 | AO13: 35 | AP13: 36 | AQ13: 37 | AR13: 38 | AS13: 39 | AT13: 40 | AU13: 41 | AV13: 42 | AW13: 43 | AX13: 44 | AY13: 45 | AZ13: 46 | BA13: 47 | BB13: 48 | BC13: 49 | BD13: 50 | BE13: 48 | BF13: 49 | BG13: 50 | BH13: 51 | BI13: 52 | BJ13: 56 | BK13: 51 | BL13: 52 | BM13: 53 | BN13: 60 | BO13: 61 | BP13: 62 | BQ13: 63 | BR13: 64 | BS13: 65 | BT13: 66 | BU13: 67 | BV13: 68 | BW13: 54 | BX13: 55 | BY13: 56 | BZ13: 72 | CA13: 73 | CB13: 74 | CC13: 75 | CD13: 76 | CE13: 77 | CF13: 57 | CG13: 58 | CH13: 59 | CI13: 60 | CJ13: 61 | CK13: 62 | CL13: 63 | CM13: 64 | CN13: 65 | CO13: 66 | CP13: 67 | CQ13: 68 | CR13: 69 | CS13: 70 | CT13: 71 | CU13: 72 | CV13: 73 | CW13: 74 | CX13: 75 | CY13: 76 | CZ13: 77 | DA13: 78 | DB13: 79 | DC13: 80 | DD13: 96 | DE13: 97 | DF13: 98 | DG13: 99 | DH13: 100 | DI13: 101 | DJ13: 102 | DK13: 103 | DL13: 104 | DM13: 81 | DN13: 82 | DO13: 83 | DP13: 84 | DQ13: 85 | DR13: 86 | DS13: 87 | DT13: 88 | DU13: 89 | DV13: 90 | DW13: 91 | DX13: 92 | DY13: 93 | DZ13: 94 | EA13: 95 | EB13: 96 | EC13: 97 | ED13: 98 | EE13: 99 | EF13: 100 | EG13: 101 | EH13: 102 | EI13: 103 | EJ13: 104 | EK13: 105 | EL13: 106 | EM13: 107 | EN13: 108 | EO13: 109 | EP13: 110 | EQ13: 111 | ER13: 112 | ES13: 113 | ET13: 114 | EU13: 115 | EV13: 116 | EW13: 117 | EX13: 118 | EY13: 119 | EZ13: 120 | FA13: 121 | FB13: 122 | FC13: 123 | FD13: 124 | FE13: 125
A14: 1 | B14: Александровское | C14: =F14+CF14 -> 7133.6503 | D14: =G14+CG14+DE14 -> 7163.8775 | E14: =D14/C14*100 -> 100.42373 | F14: =L14+AD14+AG14+AJ14+AM14+AS14+AY14+BK14+BW14+BT14+AP14+BE14+R14+X14+U14+AA14+AV14 -> 1098.621 | G14: =M14+AE14+AH14+AK14+AN14+AT14+AZ14+BL14+AQ14+BX14+BU14+BF14+S14+Y14+V14+AB14+AW14 -> 1128.8483 | H14: =G14/F14*100 -> 102.75138 | I14: =L14+R14+U14+X14+AA14+AD14+AG14+AJ14+AM14 -> 613.77 | L14: =Але!C6 -> 81 | M14: =Але!D6 -> 81.83063 | N14: =M14/L14*100 -> 101.02547 | O14: =R14+U14+X14+AA14 -> 286.77 | P14: =S14+V14+Y14+AB14 -> 339.03285 | R14: =Але!C8 -> 106.965 | S14: =Але!D8 -> 169.95956 | T14: =S14/R14*100 -> 158.89268 | U14: =Але!C9 -> 1.147 | V14: =Але!D9 -> 0.91805 | W14: =V14/U14*100 -> 80.039233 | X14: =Але!C10 -> 178.658 | Y14: =Але!D10 -> 187.65454 | Z14: =Y14/X14*100 -> 105.03562 | AA14: =Але!C11 -> 0 | AB14: =Але!D11 -> -19.4993 | AC14: =AB14/AA14*100 -> #DIV/0! | AD14: =Але!C13 -> 10 | AE14: =Але!D13 -> 0 | AF14: =AE14/AD14*100 -> 0 | AG14: =Але!C15 -> 86 | AH14: =Але!D15 -> 68.34394 | AI14: =AH14/AG14*100 -> 79.469698 | AJ14: =Але!C16 -> 147 | AK14: =Але!D16 -> 142.96259 | AL14: =AK14/AJ14*100 -> 97.253463 | AM14: =Але!C18 -> 3 | AN14: =Але!D18 -> 1.1 | AO14: =AN14/AM14*100 -> 36.666667 | AR14: =AQ14/AP14*100 -> #DIV/0! | AS14: 0 | AT14: 0 | AU14: =AT14/AS14*100 -> #DIV/0! | AV14: =Але!C27 -> 50 | AW14: =Але!D27 -> 54.28468 | AX14: =AW14/AV14*100 -> 108.56936 | AY14: =Але!C28 -> 0 | AZ14: =Але!D28 -> 0 | BA14: =AZ14/AY14*100 -> #DIV/0! | BD14: =BC14/BB14*100 -> #DIV/0! | BE14: =Але!C29 -> 0 | BF14: =Але!D29 -> 0.35256 | BG14: =BF14/BE14*100 -> #DIV/0! | BH14: =Але!C30 -> 0 | BI14: =Але!D30 -> 0.35256 | BJ14: =BI14/BH14*100 -> #DIV/0! | BK14: =Але!C32 -> 0 | BL14: =Але!D31 -> 0 | BM14: =BL14/BK14*100 -> #DIV/0! | BP14: =BO14/BN14*100 -> #DIV/0! | BV14: =BU14/BT14*100 -> #DIV/0! | BW14: =Але!C34 -> 434.851 | BX14: =Але!D36 -> 440.941 | BY14: =BX14/BW14*100 -> 101.40048 | CB14: =BZ14/CA14*100 -> #DIV/0! | CE14: =CC14/CD14*100 -> #DIV/0! | CF14: =CI14+CL14+CO14+CR14+CX14+CU14 -> 6035.0293 | CG14: =CJ14+CM14+CP14+CS14+CY14+CV14+DB14 -> 6035.0293 | CH14: =CG14/CF14*100 -> 100 | CI14: =Але!C39 -> 1839.6 | CJ14: =Але!D39 -> 1839.6 | CK14: =CJ14/CI14*100 -> 100 | CL14: =Але!C40 -> 0 | CM14: =Але!D40 -> 0 | CN14: =CM14/CL14*100 -> #DIV/0! | CO14: =Але!C41 -> 2800.9645 | CP14: =Але!D41 -> 2800.9645 | CQ14: =CP14/CO14*100 -> 100 | CR14: =Але!C42 -> 108.54453 | CS14: =Але!D42 -> 108.54453 | CT14: =CS14/CR14*100 -> 100 | CU14: =Але!C44 -> 1285.9202 | CV14: =Але!D44 -> 1285.9202 | CW14: =CV14/CU14*100 -> 100 | CX14: =Але!C43 -> 0 | CY14: =Але!D43 -> 0 | CZ14: =CY14/CX14*100 -> #DIV/0! | DB14: =Але!D45 -> 0 | DC14: =DB13:DB14/DA14*100 -> #DIV/0! | DF14: =DE14/DD14*100 -> #DIV/0! | DM14: =DP14+EE14+EH14+EK14+EN14+EQ14+ET14+EW14+EZ14 -> 7895.2142 | DN14: =DQ14+EF14+EI14+EL14+EO14+ER14+EU14+EX14+FA14 -> 7712.6722 | DO14: =DN14/DM14*100 -> 97.687941 | DP14: =DS14+DV14+DY14+EB14 -> 1412.8372 | DQ14: =DT14+DW14+DZ14+EC14 -> 1397.4266 | DR14: =DQ14/DP14*100 -> 98.909249 | DS14: =Але!C54 -> 1409.1872 | DT14: =Але!D54 -> 1394.7766 | DU14: =DT14/DS14*100 -> 98.977386 | DV14: =Але!C57 -> 0 | DW14: =Але!D57 -> 0 | DX14: =DW14/DV14*100 -> #DIV/0! | DY14: =Але!C58 -> 1 | DZ14: =Але!D58 -> 0 | EA14: =DZ14/DY14*100 -> 0 | EB14: =Але!C59 -> 2.65 | EC14: =Але!D59 -> 2.65 | ED14: =EC14/EB14*100 -> 100 | EE14: =Але!C61 -> 108.54453 | EF14: =Але!D61 -> 108.54453 | EG14: =EF14/EE14*100 -> 100 | EH14: =Але!C62 -> 18 | EI14: =Але!D62 -> 17.32196 | EJ14: =EI14/EH14*100 -> 96.233111 | EK14: =Але!C68 -> 851.65996 | EL14: =Але!D68 -> 760.8612 | EM14: =EL14/EK14*100 -> 89.338614 | EN14: =Але!C73 -> 5212.0376 | EO14: =Але!D73 -> 5136.3829 | EP14: =EO14/EN14*100 -> 98.548462 | EQ14: =Але!C77 -> 286.6 | ER14: =Але!D77 -> 286.6 | ES14: =ER14/EQ14*100 -> 100 | ET14: =Але!C79 -> 0 | EU14: =Але!D79 -> 0 | EV14: =EU14/ET14*100 -> #DIV/0! | EW14: =Але!C84 -> 5.535 | EX14: =Але!D84 -> 5.535 | EY14: =EX14/EW14*100 -> 100 | EZ14: =Але!C90 -> 0 | FA14: =Але!D90 -> 0 | FB14: =FA14/EZ14*100 -> #DIV/0! | FC14: =SUM(C14-DM14) -> -761.56396 | FD14: =SUM(D14-DN14) -> -548.79468 | FE14: =FD14/FC14*100% -> 0.72061535
A15: 2 | B15: Большесундырское | C15: =F15+CF15 -> 59182.849 | D15: =G15+CG15+DE15 -> 39002.107 | E15: =D15/C15*100 -> 65.901029 | F15: =L15+AD15+AG15+AJ15+AM15+AS15+AY15+BK15+BW15+BT15+AP15+BE15+R15+X15+U15+AA15+AV15 -> 3972.4 | G15: =M15+AE15+AH15+AK15+AN15+AT15+AZ15+BL15+AQ15+BX15+BU15+BF15+S15+Y15+V15+AB15+AW15 -> 6686.2259 | H15: =G15/F15*100 -> 168.31704 | I15: =L15+R15+U15+X15+AA15+AD15+AG15+AJ15+AM15 -> 3692.4 | L15: =Сун!C6 -> 396 | M15: =Сун!D6 -> 1142.7193 | N15: =M15/L15*100 -> 288.56547 | O15: =R15+U15+X15+AA15 -> 823.4 | P15: =S15+V15+Y15+AB15 -> 973.46063 | R15: =Сун!C8 -> 307.128 | S15: =Сун!D8 -> 488.0027 | T15: =S15/R15*100 -> 158.89229 | U15: =Сун!C9 -> 3.294 | V15: =Сун!D9 -> 2.63592 | W15: =V15/U15*100 -> 80.021858 | X15: =Сун!C10 -> 512.978 | Y15: =Сун!D10 -> 538.81008 | Z15: =Y15/X15*100 -> 105.03571 | AA15: =Сун!C11 -> 0 | AB15: =Сун!D11 -> -55.98807 | AC15: =AB15/AA15*100 -> #DIV/0! | AD15: =Сун!C13 -> 45 | AE15: =Сун!D13 -> 42.50697 | AF15: =AE15/AD15*100 -> 94.459933 | AG15: =Сун!C15 -> 1023 | AH15: =Сун!D15 -> 1140.8602 | AI15: =AH15/AG15*100 -> 111.52103 | AJ15: =Сун!C16 -> 1395 | AK15: =Сун!D16 -> 1677.9717 | AL15: =AK15/AJ15*100 -> 120.28471 | AM15: =Сун!C18 -> 10 | AN15: =Сун!D18 -> 8.17 | AO15: =AN15/AM15*100 -> 81.7 | AR15: =AQ15/AP15*100 -> #DIV/0! | AS15: =Сун!C27 -> 0 | AT15: =Сун!D27 -> 0 | AU15: =AT15/AS15*100 -> #DIV/0! | AV15: =Сун!C28 -> 200 | AW15: =Сун!D28 -> 221 | AX15: =AW15/AV15*100 -> 110.5 | AY15: =Сун!C29 -> 50 | AZ15: =Сун!D29 -> 37.503 | BA15: =AZ15/AY15*100 -> 75.006 | BD15: =BC15/BB15*100 -> #DIV/0! | BE15: =Сун!C31 -> 30 | BF15: =SUM(Сун!D30) -> 165.45399 | BG15: =BF15/BE15*100 -> 551.5133 | BK15: =Сун!C33 -> 0 | BL15: =Сун!D33 -> 1132.147 | BM15: =BL15/BK15*100 -> #DIV/0! | BP15: =BO15/BN15*100 -> #DIV/0! | BQ15: =Сун!C36 -> 0 | BR15: =Сун!D36 -> 144.43317 | BT15: =Сун!C36 -> 0 | BU15: =Сун!D36 -> 144.43317 | BV15: =BU15/BT15*100 -> #DIV/0! | BW15: =Сун!C38 -> 0 | BX15: =Сун!D38 -> 0 | BY15: =BX15/BW15*100 -> #DIV/0! | CB15: =BZ15/CA15*100 -> #DIV/0! | CE15: =CC15/CD15*100 -> #DIV/0! | CF15: =CI15+CL15+CO15+CR15+CX15+CU15 -> 55210.449 | CG15: =CJ15+CM15+CP15+CS15+CY15+CV15+DB15 -> 32315.881 | CH15: =CG15/CF15*100 -> 58.532183 | CI15: =Сун!C43 -> 5604.2 | CJ15: =Сун!D43 -> 5604.2 | CK15: =CJ15/CI15*100 -> 100 | CL15: =Сун!C44 -> 0 | CM15: =Сун!D44 -> 0 | CN15: =CM15/CL15*100 -> #DIV/0! | CO15: =Сун!C45 -> 47116.958 | CP15: =Сун!D45 -> 25825.013 | CQ15: =CP15/CO15*100 -> 54.810442 | CR15: =Сун!C47 -> 309.01751 | CS15: =Сун!D47 -> 309.01751 | CT15: =CS15/CR15*100 -> 100 | CU15: =Сун!C48 -> 2180.273 | CV15: =Сун!D48 -> 577.6501 | CW15: =CV15/CU15*100 -> 26.494393 | CX15: =Сун!C49 -> 0 | CY15: =Сун!D49 -> 0 | CZ15: =CY15/CX15*100 -> #DIV/0! | DF15: =DE15/DD15*100 -> #DIV/0! | DM15: =DP15+EE15+EH15+EK15+EN15+EQ15+ET15+EW15+EZ15 -> 60977.589 | DN15: =DQ15+EF15+EI15+EL15+EO15+ER15+EU15+EX15+FA15 -> 37072.416 | DO15: =DN15/DM15*100 -> 60.79679 | DP15: =DS15+DV15+DY15+EB15 -> 2166.4862 | DQ15: =DT15+DW15+DZ15+EC15 -> 1969.2427 | DR15: =DQ15/DP15*100 -> 90.895697 | DS15: =Сун!C60 -> 2123.1742 | DT15: =Сун!D60 -> 1956.9307 | DU15: =DT15/DS15*100 -> 92.170051 | DV15: =Сун!C63 -> 0 | DW15: =Сун!D63 -> 0 | DX15: =DW15/DV15*100 -> #DIV/0! | DY15: =Сун!C64 -> 1 | DZ15: =Сун!D64 -> 0 | EA15: =DZ15/DY15*100 -> 0 | EB15: =Сун!C65 -> 42.312 | EC15: =Сун!D65 -> 12.312 | ED15: =EC15/EB15*100 -> 29.098128 | EE15: =Сун!C67 -> 273.28601 | EF15: =Сун!D67 -> 273.28601 | EG15: =EF15/EE15*100 -> 100 | EH15: =Сун!C68 -> 16.63134 | EI15: =Сун!D68 -> 16.63134 | EJ15: =EI15/EH15*100 -> 100 | EK15: =Сун!C74 -> 2844.9801 | EL15: =Сун!D74 -> 2513.6552 | EM15: =EL15/EK15*100 -> 88.354049 | EN15: =Сун!C79 -> 52464.655 | EO15: =Сун!D79 -> 29146.558 | EP15: =EO15/EN15*100 -> 55.554656 | EQ15: =Сун!C84 -> 3211.5503 | ER15: =Сун!D84 -> 3153.0431 | ES15: =ER15/EQ15*100 -> 98.178227 | ET15: =Сун!C87 -> 0 | EU15: =Сун!D87 -> 0 | EV15: =EU15/ET15*100 -> #DIV/0! | EW15: =Сун!C92 -> 0 | EX15: =Сун!D92 -> 0 | EY15: =EX15/EW15*100 -> #DIV/0! | EZ15: =Сун!C98 -> 0 | FA15: =Сун!D98 -> 0 | FB15: =FA15/EZ15*100 -> #DIV/0! | FC15: =SUM(C15-DM15) -> -1794.7398 | FD15: =SUM(D15-DN15) -> 1929.6901 | FE15: =FD15/FC15*100% -> -1.0751921
A16: 3 | B16: Ильинское | C16: =F16+CF16 -> 18638.027 | D16: =G16+CG16+DE16 -> 17278.989 | E16: =D16/C16*100 -> 92.708256 | F16: =L16+AD16+AG16+AJ16+AM16+AS16+AY16+BK16+BW16+BT16+AP16+BE16+R16+X16+U16+AA16+AV16 -> 3627.0881 | G16: =M16+AE16+AH16+AK16+AN16+AT16+AZ16+BL16+AQ16+BX16+BU16+BF16+S16+Y16+V16+AB16+AW16 -> 3559.9952 | H16: =G16/F16*100 -> 98.150227 | I16: =L16+R16+U16+X16+AA16+AD16+AG16+AJ16+AM16 -> 2207.97 | L16: =Иль!C6 -> 120 | M16: =Иль!D6 -> 65.11987 | N16: =M16/L16*100 -> 54.266558 | O16: =R16+U16+X16+AA16 -> 777.97 | P16: =S16+V16+Y16+AB16 -> 919.75251 | R16: =Иль!C8 -> 290.183 | S16: =Иль!D8 -> 461.07841 | T16: =S16/R16*100 -> 158.89229 | U16: =Иль!C9 -> 3.112 | V16: =Иль!D9 -> 2.49055 | W16: =V16/U16*100 -> 80.030527 | X16: =Иль!C10 -> 484.675 | Y16: =Иль!D10 -> 509.08263 | Z16: =Y16/X16*100 -> 105.03588 | AA16: =Иль!C11 -> 0 | AB16: =Иль!D11 -> -52.89908 | AC16: =AB16/AA16*100 -> #DIV/0! | AD16: =Иль!C13 -> 10 | AE16: =Иль!D13 -> 2.793 | AF16: =AE16/AD16*100 -> 27.93 | AG16: =Иль!C15 -> 406 | AH16: =Иль!D15 -> 463.41651 | AI16: =AH16/AG16*100 -> 114.142 | AJ16: =Иль!C16 -> 890 | AK16: =Иль!D16 -> 831.42898 | AL16: =AK16/AJ16*100 -> 93.418987 | AM16: =Иль!C18 -> 4 | AN16: =Иль!D18 -> 3.05 | AO16: =AN16/AM16*100 -> 76.25 | AR16: =AQ16/AP16*100 -> #DIV/0! | AS16: =Иль!C27 -> 0 | AT16: =Иль!D27 -> 0 | AU16: =AT16/AS16*100 -> #DIV/0! | AV16: =Иль!C28 -> 250 | AW16: =Иль!D28 -> 284.21056 | AX16: =AW16/AV16*100 -> 113.68422 | AY16: =Иль!C29 -> 20 | AZ16: =Иль!D29 -> 46.20765 | BA16: =AZ16/AY16*100 -> 231.03825 | BD16: =BC16/BB16*100 -> #DIV/0! | BE16: =Иль!C30 -> 30 | BF16: =Иль!D30 -> 85.46 | BG16: =BF16/BE16*100 -> 284.86667 | BK16: =Иль!C35 -> 0 | BL16: =SUM(Иль!D33) -> 0 | BM16: =BL16/BK16*100 -> #DIV/0! | BP16: =BO16/BN16*100 -> #DIV/0! | BT16: =Иль!C36 -> 82.90176 | BU16: =Иль!D36 -> 85.20245 | BV16: =BU16/BT16*100 -> 102.7752 | BW16: =SUM(Иль!C39) -> 1036.2164 | BX16: =Иль!D39 -> 773.35372 | BY16: =BX16/BW16*100 -> 74.632455 | CB16: =BZ16/CA16*100 -> #DIV/0! | CE16: =CC16/CD16*100 -> #DIV/0! | CF16: =CI16+CL16+CO16+CR16+CX16+CU16 -> 15010.938 | CG16: =CJ16+CM16+CP16+CS16+CY16+CV16+DB16 -> 13718.994 | CH16: =CG16/CF16*100 -> 91.393314 | CI16: =Иль!C43 -> 2693 | CJ16: =Иль!D43 -> 2693 | CK16: =CJ16/CI16*100 -> 100 | CL16: =Иль!C44 -> 0 | CM16: =Иль!D44 -> 0 | CN16: =CM16/CL16*100 -> #DIV/0! | CO16: =Иль!C45 -> 10312.837 | CP16: =Иль!D45 -> 9111.3297 | CQ16: =CP16/CO16*100 -> 88.349398 | CR16: =Иль!C47 -> 126.63952 | CS16: =Иль!D47 -> 126.63952 | CT16: =CS16/CR16*100 -> 100 | CU16: =Иль!C48 -> 1878.4616 | CV16: =Иль!D48 -> 1788.0249 | CW16: =CV16/CU16*100 -> 95.185598 | CX16: =Иль!C49 -> 0 | CY16: =Иль!D49 -> 0 | CZ16: =CY16/CX16*100 -> #DIV/0! | DF16: =DE16/DD16*100 -> #DIV/0! | DL16: 0 | DM16: =DP16+EE16+EH16+EK16+EN16+EQ16+ET16+EW16+EZ16 -> 19744.993 | DN16: =DQ16+EF16+EI16+EL16+EO16+ER16+EU16+EX16+FA16 -> 17806.487 | DO16: =DN16/DM16*100 -> 90.182289 | DP16: =DS16+DV16+DY16+EB16 -> 1513.7357 | DQ16: =DT16+DW16+DZ16+EC16 -> 1451.2435 | DR16: =DQ16/DP16*100 -> 95.87166 | DS16: =Иль!C58 -> 1501.3077 | DT16: =Иль!D58 -> 1439.8155 | DU16: =DT16/DS16*100 -> 95.904093 | DV16: =Иль!C61 -> 0 | DW16: =Иль!D61 -> 0 | DX16: =DW16/DV16*100 -> #DIV/0! | DY16: =Иль!C62 -> 1 | DZ16: =Иль!D62 -> 0 | EA16: =DZ16/DY16*100 -> 0 | EB16: =Иль!C63 -> 11.428 | EC16: =Иль!D63 -> 11.428 | ED16: =EC16/EB16*100 -> 100 | EE16: =Иль!C65 -> 112.34692 | EF16: =Иль!D65 -> 112.34692 | EG16: =EF16/EE16*100 -> 100 | EH16: =Иль!C66 -> 27.51134 | EI16: =Иль!D66 -> 27.51134 | EJ16: =EI16/EH16*100 -> 100 | EK16: =Иль!C72 -> 10038.508 | EL16: =Иль!D72 -> 9454.4382 | EM16: =EL16/EK16*100 -> 94.181706 | EN16: =Иль!C79 -> 5947.437 | EO16: =Иль!D79 -> 4655.4927 | EP16: =EO16/EN16*100 -> 78.277292 | EQ16: =Иль!C83 -> 2099.4523 | ER16: =Иль!D83 -> 2099.4523 | ES16: =ER16/EQ16*100 -> 100 | ET16: =Иль!C85 -> 0 | EU16: =Иль!D85 -> 0 | EV16: =EU16/ET16*100 -> #DIV/0! | EW16: =Иль!C90 -> 6.002 | EX16: =Иль!D90 -> 6.002 | EY16: =EX16/EW16*100 -> 100 | EZ16: =Иль!C96 -> 0 | FA16: =Иль!D96 -> 0 | FB16: =FA16/EZ16*100 -> #DIV/0! | FC16: =SUM(C16-DM16) -> -1106.9669 | FD16: =SUM(D16-DN16) -> -527.49764 | FE16: =FD16/FC16*100 -> 47.652523
A17: 4 | B17: Кадикасинское | C17: =F17+CF17 -> 12995.165 | D17: =G17+CG17+DE17 -> 14657.816 | E17: =D17/C17*100 -> 112.79438 | F17: =L17+AD17+AG17+AJ17+AM17+AS17+AY17+BK17+BW17+BT17+AP17+BE17+R17+X17+U17+AA17+AV17 -> 6189.3123 | G17: =M17+AE17+AH17+AK17+AN17+AT17+AZ17+BL17+AQ17+BX17+BU17+BF17+S17+Y17+V17+AB17+AW17 -> 7851.9632 | H17: =G17/F17*100 -> 126.86326 | I17: =L17+R17+U17+X17+AA17+AD17+AG17+AJ17+AM17 -> 5123.31 | L17: =Кад!C6 -> 594 | M17: =Кад!D6 -> 769.03701 | N17: =M17/L17*100 -> 129.46751 | O17: =R17+U17+X17+AA17 -> 971.31 | P17: =S17+V17+Y17+AB17 -> 1094.3041 | R17: =Кад!C8 -> 390.953 | S17: =Кад!D8 -> 548.58234 | T17: =S17/R17*100 -> 140.31926 | U17: =Кад!C9 -> 3.702 | V17: =Кад!D9 -> 2.9632 | W17: =V17/U17*100 -> 80.04322 | X17: =Кад!C10 -> 576.655 | Y17: =Кад!D10 -> 605.69684 | Z17: =Y17/X17*100 -> 105.03626 | AA17: =Кад!C11 -> 0 | AB17: =Кад!D11 -> -62.93831 | AC17: =AB17/AA17*100 -> #DIV/0! | AD17: =Кад!C13 -> 75 | AE17: =Кад!D13 -> 139.50817 | AF17: =AE17/AD17*100 -> 186.01089 | AG17: =Кад!C15 -> 473 | AH17: =Кад!D15 -> 558.89953 | AI17: =AH17/AG17*100 -> 118.16058 | AJ17: =Кад!C16 -> 3000 | AK17: =Кад!D16 -> 3263.7217 | AL17: =AK17/AJ17*100 -> 108.79072 | AM17: =Кад!C18 -> 10 | AN17: =Кад!D18 -> 7.4 | AO17: =AN17/AM17*100 -> 74 | AR17: =AQ17/AP17*100 -> #DIV/0! | AS17: 0 | AT17: 0 | AU17: =AT17/AS17*100 -> #DIV/0! | AV17: =Кад!C27 -> 200 | AW17: =Кад!D27 -> 247.834 | AX17: =AW17/AV17*100 -> 123.917 | AY17: =Кад!C28 -> 12 | AZ17: =Кад!D28 -> 18 | BA17: =AZ17/AY17*100 -> 150 | BD17: =BC17/BB17*100 -> #DIV/0! | BE17: =Кад!C30 -> 30 | BF17: =Кад!D30 -> 80.3417 | BG17: =BF17/BE17*100 -> 267.80567 | BK17: =Кад!C33 -> 0 | BL17: =Кад!D33 -> 0 | BM17: =BL17/BK17*100 -> #DIV/0! | BP17: =BO17/BN17*100 -> #DIV/0! | BT17: =Кад!C34 -> 0 | BU17: =Кад!D34 -> 15.28323 | BV17: =BU17/BT17*100 -> #DIV/0! | BW17: =Кад!C36 -> 824.00226 | BX17: =Кад!D36 -> 1657.6338 | BY17: =BX17/BW17*100 -> 201.1686 | CB17: =BZ17/CA17*100 -> #DIV/0! | CE17: =CC17/CD17*100 -> #DIV/0! | CF17: =CI17+CL17+CO17+CR17+CX17+CU17 -> 6805.8526 | CG17: =CJ17+CM17+CP17+CS17+CY17+CV17+DB17 -> 6805.8526 | CH17: =CG17/CF17*100 -> 100 | CI17: =Кад!C41 -> 2418.1 | CJ17: =Кад!D41 -> 2418.1 | CK17: =CJ17/CI17*100 -> 100 | CL17: =Кад!C42 -> 0 | CM17: =Кад!D42 -> 0 | CN17: =CM17/CL17*100 -> #DIV/0! | CO17: =Кад!C43 -> 3774.861 | CP17: =Кад!D43 -> 3774.861 | CQ17: =CP17/CO17*100 -> 100 | CR17: =Кад!C45 -> 280.75861 | CS17: =Кад!D45 -> 280.75861 | CT17: =CS17/CR17*100 -> 100 | CU17: =Кад!C46 -> 332.133 | CV17: =Кад!D46 -> 332.133 | CW17: =CV17/CU17*100 -> 100 | CX17: =Кад!C47 -> 0 | CY17: =Кад!D47 -> 0 | CZ17: =CY17/CX17*100 -> #DIV/0! | DF17: =DE17/DD17*100 -> #DIV/0! | DM17: =DP17+EE17+EH17+EK17+EN17+EQ17+ET17+EW17+EZ17 -> 15075.563 | DN17: =DQ17+EF17+EI17+EL17+EO17+ER17+EU17+EX17+FA17 -> 14810.015 | DO17: =DN17/DM17*100 -> 98.238552 | DP17: =DS17+DV17+DY17+EB17 -> 2356.408 | DQ17: =DT17+DW17+DZ17+EC17 -> 2283.4608 | DR17: =DQ17/DP17*100 -> 96.904306 | DS17: =Кад!C57 -> 2223.308 | DT17: =Кад!D57 -> 2161.1443 | DU17: =DT17/DS17*100 -> 97.204001 | DV17: =Кад!C60 -> 0 | DW17: =Кад!D60 -> 0 | DX17: =DW17/DV17*100 -> #DIV/0! | DY17: =Кад!C61 -> 10 | DZ17: =Кад!D61 -> 0 | EA17: =DZ17/DY17*100 -> 0 | EB17: =Кад!C62 -> 123.1 | EC17: =Кад!D62 -> 122.3165 | ED17: =EC17/EB17*100 -> 99.363526 | EE17: =Кад!C64 -> 280.75861 | EF17: =Кад!D64 -> 280.75861 | EG17: =EF17/EE17*100 -> 100 | EH17: =Кад!C65 -> 7.8 | EI17: =Кад!D65 -> 7.63134 | EJ17: =EI17/EH17*100 -> 97.837692 | EK17: =Кад!C71 -> 5183.358 | EL17: =Кад!D71 -> 5128.8055 | EM17: =EL17/EK17*100 -> 98.947544 | EN17: =Кад!C76 -> 4934.9865 | EO17: =Кад!D76 -> 4797.1322 | EP17: =EO17/EN17*100 -> 97.206592 | EQ17: =Кад!C80 -> 2312.252 | ER17: =Кад!D80 -> 2312.2264 | ES17: =ER17/EQ17*100 -> 99.998894 | ET17: =Кад!C82 -> 0 | EU17: =Кад!D82 -> 0 | EV17: =EU17/ET17*100 -> #DIV/0! | EW17: =Кад!C87 -> 0 | EX17: =Кад!D87 -> 0 | EY17: =EX17/EW17*100 -> #DIV/0! | EZ17: =Кад!C93 -> 0 | FA17: =Кад!D93 -> 0 | FB17: =FA17/EZ17*100 -> #DIV/0! | FC17: =SUM(C17-DM17) -> -2080.3983 | FD17: =SUM(D17-DN17) -> -152.19908 | FE17: =FD17/FC17*100 -> 7.3158626
A18: 5 | B18: Моргаушское | C18: =F18+CF18 -> 29606.027 | D18: =G18+CG18+DE18 -> 17652.123 | E18: =D18/C18*100 -> 59.623411 | F18: =L18+AD18+AG18+AJ18+AM18+AS18+AY18+BK18+BW18+BT18+AP18+BE18+R18+X18+U18+AA18+AV18 -> 5994.7681 | G18: =M18+AE18+AH18+AK18+AN18+AT18+AZ18+BL18+AQ18+BX18+BU18+BF18+S18+Y18+V18+AB18+AW18 -> 6126.5436 | H18: =G18/F18*100 -> 102.19818 | I18: =L18+R18+U18+X18+AA18+AD18+AG18+AJ18+AM18 -> 5784.1004 | L18: =Мор!C6 -> 2181 | M18: =Мор!D6 -> 2334.3495 | N18: =M18/L18*100 -> 107.03116 | O18: =R18+U18+X18+AA18 -> 557.1004 | P18: =S18+V18+Y18+AB18 -> 540.43852 | R18: =Мор!C8 -> 270.4994 | S18: =Мор!D8 -> 270.92563 | T18: =S18/R18*100 -> 100.15757 | U18: =Мор!C9 -> 1.828 | V18: =Мор!D9 -> 1.46341 | W18: =V18/U18*100 -> 80.055252 | X18: =Мор!C10 -> 284.773 | Y18: =Мор!D10 -> 299.1325 | Z18: =Y18/X18*100 -> 105.04244 | AA18: =Мор!C11 -> 0 | AB18: =Мор!D11 -> -31.08302 | AC18: =AB18/AA18*100 -> #DIV/0! | AD18: =Мор!C13 -> 80 | AE18: =Мор!D13 -> 53.9865 | AF18: =AE18/AD18*100 -> 67.483125 | AG18: =Мор!C15 -> 1266 | AH18: =Мор!D15 -> 1456.0142 | AI18: =AH18/AG18*100 -> 115.00902 | AJ18: =Мор!C16 -> 1700 | AK18: =Мор!D16 -> 981.05989 | AL18: =AK18/AJ18*100 -> 57.709405 | AM18: =Мор!C18 -> 0 | AN18: =Мор!D18 -> 0 | AO18: =AN18/AM18*100 -> #DIV/0! | AP18: =Мор!C22 -> 0 | AQ18: =Мор!D22 -> 0 | AR18: =AQ18/AP18*100 -> #DIV/0! | AS18: 0 | AU18: =AT18/AS18*100 -> #DIV/0! | AV18: =Мор!C27 -> 0 | AW18: =Мор!D27 -> 0 | AX18: =AW18/AV18*100 -> #DIV/0! | AY18: =Мор!C28 -> 0 | AZ18: =Мор!D28 -> 0 | BA18: =AZ18/AY18*100 -> #DIV/0! | BD18: =BC18/BB18*100 -> #DIV/0! | BE18: =Мор!C29 -> 0 | BF18: =Мор!D29 -> 70 | BG18: =BF18/BE18*100 -> #DIV/0! | BK18: =Мор!C33 -> 0 | BL18: =SUM(Мор!D31) -> 15.811 | BM18: =Мор!E33 -> #DIV/0! | BN18: =Мор!F33 -> 0 | BO18: =Мор!G33 -> 0 | BP18: =Мор!H33 -> 0 | BQ18: =Мор!I33 -> 0 | BR18: =Мор!J33 -> 0 | BS18: =Мор!K33 -> 0 | BT18: =Мор!C34 -> 0 | BU18: =Мор!D34 -> 0 | BV18: =BU18/BT18*100 -> #DIV/0! | BW18: =Мор!C36 -> 210.66771 | BX18: =Мор!D36 -> 674.88398 | BY18: =BX18/BW18*100 -> 320.35473 | CB18: =BZ18/CA18*100 -> #DIV/0! | CE18: =CC18/CD18*100 -> #DIV/0! | CF18: =CI18+CL18+CO18+CR18+CX18+CU18 -> 23611.259 | CG18: =CJ18+CM18+CP18+CS18+CY18+CV18+DB18 -> 11525.579 | CH18: =CG18/CF18*100 -> 48.813913 | CI18: =Мор!C41 -> 8286.3 | CJ18: =Мор!D41 -> 8286.3 | CK18: =CJ18/CI18*100 -> 100 | CL18: =Мор!C42 -> 0 | CM18: =Мор!D42 -> 0 | CN18: =CM18/CL18*100 -> #DIV/0! | CO18: =Мор!C43 -> 12879.856 | CP18: =Мор!D43 -> 1640.2046 | CQ18: =CP18/CO18*100 -> 12.73465 | CR18: =Мор!C45 -> 64.3444 | CS18: =Мор!D45 -> 64.3167 | CT18: =CS18/CR18*100 -> 99.95695 | CU18: =Мор!C46 -> 2380.758 | CV18: =Мор!D46 -> 1534.758 | CW18: =CV18/CU18*100 -> 64.465099 | CX18: =Мор!C48 -> 0 | CY18: =Мор!D48 -> 0 | CZ18: =CY18/CX18*100 -> #DIV/0! | DB18: =SUM(Мор!D49) -> 0 | DF18: =DE18/DD18*100 -> #DIV/0! | DM18: =DP18+EE18+EH18+EK18+EN18+EQ18+ET18+EW18+EZ18 -> 31911.257 | DN18: =DQ18+EF18+EI18+EL18+EO18+ER18+EU18+EX18+FA18 -> 18988.433 | DO18: =DN18/DM18*100 -> 59.50387 | DP18: =DS18+DV18+DY18+EB18 -> 2428.6605 | DQ18: =DT18+DW18+DZ18+EC18 -> 2288.1989 | DR18: =DQ18/DP18*100 -> 94.216498 | DS18: =Мор!C58 -> 2389.4525 | DT18: =Мор!D58 -> 2268.9909 | DU18: =DT18/DS18*100 -> 94.95861 | DV18: =Мор!C61 -> 0 | DW18: =Мор!D61 -> 0 | DX18: =DW18/DV18*100 -> #DIV/0! | DY18: =Мор!C62 -> 10 | DZ18: =Мор!D62 -> 0 | EA18: =DZ18/DY18*100 -> 0 | EB18: =Мор!C63 -> 29.208 | EC18: =Мор!D63 -> 19.208 | ED18: =EC18/EB18*100 -> 65.762805 | EE18: =Мор!C64 -> 0 | EF18: =Мор!D64 -> 0 | EG18: =EF18/EE18*100 -> #DIV/0! | EH18: =Мор!C66 -> 15 | EI18: =Мор!D66 -> 9.9 | EJ18: =EI18/EH18*100 -> 66 | EK18: =Мор!C72 -> 3588.0215 | EL18: =Мор!D72 -> 3506.3091 | EM18: =EL18/EK18*100 -> 97.722635 | EN18: =Мор!C77 -> 19062.275 | EO18: =Мор!D77 -> 6375.725 | EP18: =EO18/EN18*100 -> 33.446821 | EQ18: =Мор!C81 -> 6815.3 | ER18: =Мор!D81 -> 6808.3 | ES18: =ER18/EQ18*100 -> 99.89729 | ET18: =Мор!C84 -> 0 | EU18: =Мор!D84 -> 0 | EV18: =EU18/ET18*100 -> #DIV/0! | EW18: =Мор!C89 -> 2 | EX18: =Мор!D89 -> 0 | EY18: =EX18/EW18*100 -> 0 | EZ18: =Мор!C95 -> 0 | FA18: =Мор!D95 -> 0 | FB18: =FA18/EZ18*100 -> #DIV/0! | FC18: =SUM(C18-DM18) -> -2305.2303 | FD18: =SUM(D18-DN18) -> -1336.31 | FE18: =FD18/FC18*100 -> 57.968612
A19: 6 | B19: Москакасинское | C19: =F19+CF19 -> 22750.407 | D19: =G19+CG19+DE19 -> 22342.562 | E19: =D19/C19*100 -> 98.207309 | F19: =L19+AD19+AG19+AJ19+AM19+AS19+AY19+BK19+BW19+BT19+AP19+BE19+R19+X19+U19+AA19+AV19 -> 7887.6426 | G19: =M19+AE19+AH19+AK19+AN19+AT19+AZ19+BL19+AQ19+BX19+BU19+BF19+S19+Y19+V19+AB19+AW19 -> 7596.219 | H19: =G19/F19*100 -> 96.305314 | I19: =L19+R19+U19+X19+AA19+AD19+AG19+AJ19+AM19 -> 5621.4026 | L19: =Мос!C6 -> 1704 | M19: =Мос!D6 -> 1630.0955 | N19: =M19/L19*100 -> 95.662879 | O19: =R19+U19+X19+AA19 -> 960.31 | P19: =S19+V19+Y19+AB19 -> 1017.0986 | R19: =Мос!C8 -> 420.896 | S19: =Мос!D8 -> 509.87867 | T19: =S19/R19*100 -> 121.14125 | U19: =Мос!C9 -> 3.441 | V19: =Мос!D9 -> 2.75415 | W19: =V19/U19*100 -> 80.039233 | X19: =Мос!C10 -> 535.973 | Y19: =Мос!D10 -> 562.96364 | Z19: =Y19/X19*100 -> 105.03582 | AA19: =Мос!C11 -> 0 | AB19: =Мос!D11 -> -58.49787 | AC19: =AB19/AA19*100 -> #DIV/0! | AD19: =Мос!C13 -> 60 | AE19: =Мос!D13 -> 58.41 | AF19: =AE19/AD19*100 -> 97.35 | AG19: =Мос!C15 -> 999 | AH19: =Мос!D15 -> 581.25049 | AI19: =AH19/AG19*100 -> 58.183232 | AJ19: =Мос!C16 -> 1890.0926 | AK19: =Мос!D16 -> 1943.6412 | AL19: =AK19/AJ19*100 -> 102.83312 | AM19: =Мос!C18 -> 8 | AN19: =Мос!D18 -> 3.7 | AO19: =AN19/AM19*100 -> 46.25 | AR19: =AQ19/AP19*100 -> #DIV/0! | AS19: =Мос!C27 -> 0 | AT19: 0 | AU19: =AT19/AS19*100 -> #DIV/0! | AV19: 0 | AW19: =Мос!D27 -> 27.3 | AX19: =AW19/AV19*100 -> #DIV/0! | AY19: =Мос!C26 -> 0 | AZ19: =Мос!D28 -> 0 | BA19: =AZ19/AY19*100 -> #DIV/0! | BD19: =BC19/BB19*100 -> #DIV/0! | BE19: =Мос!C30 -> 0 | BF19: =Мос!D30 -> 0.39237 | BG19: =BF19/BE19*100 -> #DIV/0! | BK19: =SUM(Мос!C31) -> 1366.24 | BL19: =Мос!D31 -> 1366.24 | BM19: =BL19/BK19*100 -> 100 | BP19: =BO19/BN19*100 -> #DIV/0! | BT19: =Мос!C34 -> 0 | BU19: =Мос!D35 -> 10.48064 | BV19: =BU19/BT19*100 -> #DIV/0! | BW19: =Мос!C36 -> 900 | BX19: =Мос!D36 -> 957.61023 | BY19: =BX19/BW19*100 -> 106.40114 | CB19: =BZ19/CA19*100 -> #DIV/0! | CE19: =CC19/CD19*100 -> #DIV/0! | CF19: =CI19+CL19+CO19+CR19+CX19+CU19 -> 14862.764 | CG19: =CJ19+CM19+CP19+CS19+CY19+CV19+DB19 -> 14746.343 | CH19: =CG19/CF19*100 -> 99.216695 | CI19: =SUM(Мос!C41) -> 1479.2 | CJ19: =SUM(Мос!D41) -> 1479.2 | CK19: =CJ19/CI19*100 -> 100 | CL19: =Мос!C42 -> 0 | CM19: =Мос!D42 -> 0 | CN19: =CM19/CL19*100 -> #DIV/0! | CO19: =Мос!C43 -> 9585.9363 | CP19: =Мос!D43 -> 9480.7693 | CQ19: =CP19/CO19*100 -> 98.902904 | CR19: =Мос!C45 -> 100.99429 | CS19: =Мос!D45 -> 100.99429 | CT19: =CS19/CR19*100 -> 100 | CU19: =Мос!C46 -> 3696.6336 | CV19: =Мос!D46 -> 3685.3798 | CW19: =CV19/CU19*100 -> 99.695565 | CX19: =Мос!C51 -> 0 | CY19: =Мос!D51 -> 0 | CZ19: =CY19/CX19*100 -> #DIV/0! | DF19: =DE19/DD19*100 -> #DIV/0! | DM19: =DP19+EE19+EH19+EK19+EN19+EQ19+ET19+EW19+EZ19 -> 23503.717 | DN19: =DQ19+EF19+EI19+EL19+EO19+ER19+EU19+EX19+FA19 -> 22321.864 | DO19: =DN19/DM19*100 -> 94.971631 | DP19: =DS19+DV19+DY19+EB19 -> 2831.9648 | DQ19: =DT19+DW19+DZ19+EC19 -> 2787.7169 | DR19: =DQ19/DP19*100 -> 98.437556 | DS19: =Мос!C59 -> 2660.6981 | DT19: =Мос!D59 -> 2617.4502 | DU19: =DT19/DS19*100 -> 98.374567 | DV19: =Мос!C62 -> 0 | DW19: =Мос!D62 -> 0 | DX19: =DW19/DV19*100 -> #DIV/0! | DY19: =Мос!C63 -> 1 | DZ19: =Мос!D63 -> 0 | EA19: =DZ19/DY19*100 -> 0 | EB19: =Мос!C64 -> 170.26667 | EC19: =Мос!D64 -> 170.26667 | ED19: =EC19/EB19*100 -> 100 | EE19: =Мос!C66 -> 100.99429 | EF19: =Мос!D66 -> 100.99429 | EG19: =EF19/EE19*100 -> 100 | EH19: =Мос!C67 -> 10.5 | EI19: =Мос!D67 -> 8 | EJ19: =EI19/EH19*100 -> 76.190476 | EK19: =Мос!C73 -> 4577.6576 | EL19: =Мос!D73 -> 4574.0727 | EM19: =EL19/EK19*100 -> 99.921688 | EN19: =Мос!C78 -> 14680.549 | EO19: =Мос!D78 -> 14467.795 | EP19: =EO19/EN19*100 -> 98.550777 | EQ19: =Мос!C83 -> 1263.052 | ER19: =Мос!D83 -> 344.285 | ES19: =ER19/EQ19*100 -> 27.258181 | ET19: =Мос!C88 -> 4 | EU19: =Мос!D88 -> 4 | EV19: =EU19/ET19*100 -> 100 | EW19: =Мос!C93 -> 35 | EX19: =Мос!D93 -> 35 | EY19: =EX19/EW19*100 -> 100 | EZ19: =Мос!C99 -> 0 | FA19: =Мос!D99 -> 0 | FB19: =FA19/EZ19*100 -> #DIV/0! | FC19: =SUM(C19-DM19) -> -753.31071 | FD19: =SUM(D19-DN19) -> 20.69847 | FE19: =FD19/FC19*100 -> -2.747667
A20: 7 | B20: Орининское | C20: =F20+CF20 -> 14425.718 | D20: =G20+CG20+DE20 -> 15213.795 | E20: =D20/C20*100 -> 105.463 | F20: =L20+AD20+AG20+AJ20+AM20+AS20+AY20+BK20+BW20+BT20+AP20+BE20+R20+X20+U20+AA20+AV20 -> 3258.4829 | G20: =M20+AE20+AH20+AK20+AN20+AT20+AZ20+BL20+AQ20+BX20+BU20+BF20+S20+Y20+V20+AB20+AW20 -> 4301.8335 | H20: =G20/F20*100 -> 132.01952 | I20: =L20+R20+U20+X20+AA20+AD20+AG20+AJ20+AM20 -> 2301.82 | L20: =Ори!C6 -> 273 | M20: =Ори!D6 -> 323.16827 | N20: =M20/L20*100 -> 118.37666 | O20: =R20+U20+X20+AA20 -> 550.82 | P20: =S20+V20+Y20+AB20 -> 651.21163 | R20: =Ори!C8 -> 205.456 | S20: =Ори!D8 -> 326.45698 | T20: =S20/R20*100 -> 158.89387 | U20: =Ори!C9 -> 2.203 | V20: =Ори!D9 -> 1.76338 | W20: =V20/U20*100 -> 80.044485 | X20: =Ори!C10 -> 343.161 | Y20: =Ори!D10 -> 360.44537 | Z20: =Y20/X20*100 -> 105.03681 | AA20: =Ори!C11 -> 0 | AB20: =Ори!D11 -> -37.4541 | AC20: =AB20/AA20*100 -> #DIV/0! | AD20: =Ори!C13 -> 10 | AE20: =Ори!D13 -> 3.70086 | AF20: =AE20/AD20*100 -> 37.0086 | AG20: =Ори!C15 -> 360 | AH20: =Ори!D15 -> 371.22931 | AI20: =AH20/AG20*100 -> 103.11925 | AJ20: =Ори!C16 -> 1100 | AK20: =Ори!D16 -> 1216.3887 | AL20: =AK20/AJ20*100 -> 110.58079 | AM20: =Ори!C18 -> 8 | AN20: =Ори!D18 -> 4.84 | AO20: =AN20/AM20*100 -> 60.5 | AR20: =AQ20/AP20*100 -> #DIV/0! | AS20: 0 | AT20: 0 | AU20: =AT20/AS20*100 -> #DIV/0! | AV20: =Ори!C27 -> 100 | AW20: =Ори!D27 -> 149.25879 | AX20: =AW20/AV20*100 -> 149.25879 | AY20: =Ори!C28 -> 30 | AZ20: =Ори!D28 -> 54.00075 | BA20: =AZ20/AY20*100 -> 180.0025 | BD20: =BC20/BB20*100 -> #DIV/0! | BE20: =Ори!C31 -> 50 | BF20: =Ори!D31 -> 63.02065 | BG20: =BF20/BE20*100 -> 126.0413 | BK20: =Ори!C34 -> 0 | BL20: =SUM(Ори!D32) -> 97.8405 | BM20: =BL20/BK20*100 -> #DIV/0! | BP20: =BO20/BN20*100 -> #DIV/0! | BT20: =Ори!C36 -> 0 | BU20: =Ори!D35 -> 218.01412 | BV20: =BU20/BT20*100 -> #DIV/0! | BW20: =Ори!C37 -> 776.66285 | BX20: =Ори!D37 -> 1149.16 | BY20: =BX20/BW20*100 -> 147.96124 | CB20: =BZ20/CA20*100 -> #DIV/0! | CE20: =CC20/CD20*100 -> #DIV/0! | CF20: =CI20+CL20+CO20+CR20+CX20+CU20 -> 11167.235 | CG20: =CJ20+CM20+CP20+CS20+CY20+CV20+DB20 -> 10911.962 | CH20: =CG20/CF20*100 -> 97.714088 | CI20: =Ори!C42 -> 3478.3 | CJ20: =Ори!D42 -> 3478.3 | CK20: =CJ20/CI20*100 -> 100 | CL20: =Ори!C43 -> 0 | CM20: =Ори!D43 -> 0 | CN20: =CM20/CL20*100 -> #DIV/0! | CO20: =Ори!C44 -> 5605.0821 | CP20: =Ори!D44 -> 5434.8999 | CQ20: =CP20/CO20*100 -> 96.963789 | CR20: =Ори!C46 -> 278.29859 | CS20: =Ори!D46 -> 278.29859 | CT20: =CS20/CR20*100 -> 100 | CU20: =Ори!C47 -> 1805.5544 | CV20: =Ори!D47 -> 1720.4633 | CW20: =CV20/CU20*100 -> 95.287261 | CX20: =Ори!C48 -> 0 | CY20: =Ори!D48 -> 0 | CZ20: =CY20/CX20*100 -> #DIV/0! | DF20: =DE20/DD20*100 -> #DIV/0! | DM20: =DP20+EE20+EH20+EK20+EN20+EQ20+ET20+EW20+EZ20 -> 14735.899 | DN20: =DQ20+EF20+EI20+EL20+EO20+ER20+EU20+EX20+FA20 -> 13577.253 | DO20: =DN20/DM20*100 -> 92.137257 | DP20: =DS20+DV20+DY20+EB20 -> 1880.068 | DQ20: =DT20+DW20+DZ20+EC20 -> 1734.7408 | DR20: =DQ20/DP20*100 -> 92.270108 | DS20: =Ори!C59 -> 1853.566 | DT20: =Ори!D59 -> 1718.2388 | DU20: =DT20/DS20*100 -> 92.699088 | DV20: =Ори!C62 -> 0 | DW20: =Ори!D62 -> 0 | DX20: =DW20/DV20*100 -> #DIV/0! | DY20: =Ори!C63 -> 10 | DZ20: =Ори!D63 -> 0 | EA20: =DZ20/DY20*100 -> 0 | EB20: =Ори!C64 -> 16.502 | EC20: =Ори!D64 -> 16.502 | ED20: =EC20/EB20*100 -> 100 | EE20: =Ори!C66 -> 264.00599 | EF20: =Ори!D66 -> 264.00599 | EG20: =EF20/EE20*100 -> 100 | EH20: =Ори!C67 -> 18.5 | EI20: =Ори!D67 -> 11.56134 | EJ20: =EI20/EH20*100 -> 62.49373 | EK20: =Ори!C73 -> 7933.1312 | EL20: =Ори!D73 -> 7505.4549 | EM20: =EL20/EK20*100 -> 94.608985 | EN20: =Ори!C78 -> 2777.094 | EO20: =Ори!D78 -> 2203.6189 | EP20: =EO20/EN20*100 -> 79.349812 | EQ20: =Ори!C83 -> 1819.1 | ER20: =Ори!D83 -> 1813.8714 | ES20: =ER20/EQ20*100 -> 99.712572 | ET20: =Ори!C85 -> 0 | EU20: =Ори!D85 -> 0 | EV20: =EU20/ET20*100 -> #DIV/0! | EW20: =Ори!C90 -> 44 | EX20: =Ори!D90 -> 44 | EY20: =EX20/EW20*100 -> 100 | EZ20: =Ори!C96 -> 0 | FA20: =Ори!D96 -> 0 | FB20: =FA20/EZ20*100 -> #DIV/0! | FC20: =SUM(C20-DM20) -> -310.18126 | FD20: =SUM(D20-DN20) -> 1636.5421 | FE20: =FD20/FC20*100 -> -527.60831
A21: 8 | B21: Сятракасинское | C21: =F21+CF21 -> 19228.124 | D21: =G21+CG21+DE21 -> 19214.441 | E21: =D21/C21*100 -> 99.928842 | F21: =L21+AD21+AG21+AJ21+AM21+AS21+AY21+BK21+BW21+BT21+AP21+BE21+R21+X21+U21+AA21+AV21 -> 2608.9772 | G21: =M21+AE21+AH21+AK21+AN21+AT21+AZ21+BL21+AQ21+BX21+BU21+BF21+S21+Y21+V21+AB21+AW21 -> 2622.1948 | H21: =G21/F21*100 -> 100.50662 | I21: =L21+R21+U21+X21+AA21+AD21+AG21+AJ21+AM21 -> 1933.927 | L21: =Сят!C6 -> 162 | M21: =Сят!D6 -> 190.92481 | N21: =M21/L21*100 -> 117.85482 | O21: =R21+U21+X21+AA21 -> 779.92697 | P21: =S21+V21+Y21+AB21 -> 808.97938 | R21: =Сят!C8 -> 350.88997 | S21: =Сят!D8 -> 405.54706 | T21: =S21/R21*100 -> 115.5767 | U21: =Сят!C9 -> 2.737 | V21: =Сят!D9 -> 2.19058 | W21: =V21/U21*100 -> 80.035806 | X21: =Сят!C10 -> 426.3 | Y21: =Сят!D10 -> 447.76975 | Z21: =Y21/X21*100 -> 105.0363 | AA21: =Сят!C11 -> 0 | AB21: =Сят!D11 -> -46.52801 | AC21: =AB21/AA21*100 -> #DIV/0! | AD21: =Сят!C13 -> 30 | AE21: =Сят!D13 -> 2.0487 | AF21: =AE21/AD21*100 -> 6.829 | AG21: =Сят!C15 -> 198 | AH21: =Сят!D15 -> 199.17414 | AI21: =AH21/AG21*100 -> 100.593 | AJ21: =Сят!C16 -> 760 | AK21: =Сят!D16 -> 715.0054 | AL21: =AK21/AJ21*100 -> 94.079658 | AM21: =Сят!C18 -> 4 | AN21: =Сят!D18 -> 7.3 | AO21: =AN21/AM21*100 -> 182.5 | AP21: =Сят!C22 -> 0 | AQ21: =Сят!D20 -> 0 | AR21: =AQ21/AP21*100 -> #DIV/0! | AS21: 0 | AT21: 0 | AU21: =AT21/AS21*100 -> #DIV/0! | AV21: =Сят!C27 -> 207.87064 | AW21: =Сят!D27 -> 204.54 | AX21: =AW21/AV21*100 -> 98.397734 | AY21: =Сят!C28 -> 6 | AZ21: =Сят!D28 -> 6.77376 | BA21: =AZ21/AY21*100 -> 112.896 | BD21: =BC21/BB21*100 -> #DIV/0! | BE21: =Сят!C30 -> 10 | BF21: =Сят!D30 -> 7.5 | BG21: =BF21/BE21*100 -> 75 | BK21: =Сят!C31 -> 13.4 | BL21: =SUM(Сят!D31) -> 64.9947 | BM21: =BL21/BK21*100 -> 485.03507 | BP21: =BO21/BN21*100 -> #DIV/0! | BT21: =Сят!C34 -> 0 | BU21: =Сят!D34 -> 0 | BV21: =BU21/BT21*100 -> #DIV/0! | BW21: =Сят!C36 -> 437.77956 | BX21: =Сят!D36 -> 414.9539 | BY21: =BX21/BW21*100 -> 94.786038 | CB21: =BZ21/CA21*100 -> #DIV/0! | CE21: =CC21/CD21*100 -> #DIV/0! | CF21: =CI21+CL21+CO21+CR21+CX21+CU21 -> 16619.146 | CG21: =CJ21+CM21+CP21+CS21+CY21+CV21+DB21 -> 16592.246 | CH21: =CG21/CF21*100 -> 99.838138 | CI21: =Сят!C41 -> 4849.2 | CJ21: =Сят!D41 -> 4849.2 | CK21: =CJ21/CI21*100 -> 100 | CL21: =Сят!C42 -> 0 | CM21: =Сят!D42 -> 0 | CN21: =CM21/CL21*100 -> #DIV/0! | CO21: =Сят!C43 -> 10736.637 | CP21: =Сят!D43 -> 10709.737 | CQ21: =CP21/CO21*100 -> 99.749456 | CR21: =Сят!C44 -> 266.97909 | CS21: =Сят!D44 -> 266.97909 | CT21: =CS21/CR21*100 -> 100 | CU21: =Сят!C48 -> 766.32999 | CV21: =Сят!D48 -> 766.32999 | CW21: =CV21/CU21*100 -> 100 | CX21: =Сят!C49 -> 0 | CY21: =Сят!D49 -> 0 | CZ21: =CY21/CX21*100 -> #DIV/0! | DB21: =Сят!D50 -> 0 | DF21: =DE21/DD21*100 -> #DIV/0! | DM21: =DP21+EE21+EH21+EK21+EN21+EQ21+ET21+EW21+EZ21 -> 19887.453 | DN21: =DQ21+EF21+EI21+EL21+EO21+ER21+EU21+EX21+FA21 -> 19383.764 | DO21: =DN21/DM21*100 -> 97.467303 | DP21: =DS21+DV21+DY21+EB21 -> 1924.6408 | DQ21: =Сят!D56 -> 1770.5265 | DR21: =DQ21/DP21*100 -> 91.992568 | DS21: =Сят!C58 -> 1830.51 | DT21: =Сят!D58 -> 1756.3957 | DU21: =DT21/DS21*100 -> 95.951167 | DV21: =Сят!C61 -> 0 | DW21: =Сят!D61 -> 0 | DX21: =DW21/DV21*100 -> #DIV/0! | DY21: =Сят!C62 -> 10 | DZ21: =Сят!D62 -> 0 | EA21: =DZ21/DY21*100 -> 0 | EB21: =Сят!C63 -> 84.13084 | EC21: =Сят!D63 -> 14.13084 | ED21: =EC21/EB21*100 -> 16.796266 | EE21: =Сят!C65 -> 266.97909 | EF21: =Сят!D65 -> 266.97909 | EG21: =EF21/EE21*100 -> 100 | EH21: =Сят!C66 -> 12.5 | EI21: =Сят!D66 -> 11.87134 | EJ21: =EI21/EH21*100 -> 94.97072 | EK21: =Сят!C72 -> 6575.8639 | EL21: =Сят!D72 -> 6540.8639 | EM21: =EL21/EK21*100 -> 99.46775 | EN21: =Сят!C77 -> 1271.3392 | EO21: =Сят!D77 -> 1020.8332 | EP21: =EO21/EN21*100 -> 80.295897 | EQ21: =Сят!C81 -> 9821.13 | ER21: =Сят!D81 -> 9760.19 | ES21: =ER21/EQ21*100 -> 99.379501 | ET21: =Сят!C83 -> 0 | EU21: =Сят!D83 -> 0 | EV21: =EU21/ET21*100 -> #DIV/0! | EW21: =Сят!C88 -> 15 | EX21: =Сят!D88 -> 12.5 | EY21: =EX21/EW21*100 -> 83.333333 | EZ21: =Сят!C94 -> 0 | FA21: =Сят!D94 -> 0 | FB21: =FA21/EZ21*100 -> #DIV/0! | FC21: =SUM(C21-DM21) -> -659.32936 | FD21: =SUM(D21-DN21) -> -169.32279 | FE21: =FD21/FC21*100 -> 25.681063
A22: 9 | B22: Тораевское | C22: =F22+CF22 -> 11326.065 | D22: =G22+CG22+DE22 -> 12009.553 | E22: =D22/C22*100 -> 106.03465 | F22: =L22+AD22+AG22+AJ22+AM22+AS22+AY22+BK22+BW22+BT22+AP22+BE22+R22+X22+U22+AA22+AV22 -> 2874.0152 | G22: =M22+AE22+AH22+AK22+AN22+AT22+AZ22+BL22+AQ22+BX22+BU22+BF22+S22+Y22+V22+AB22+AW22 -> 3557.5359 | H22: =G22/F22*100 -> 123.78278 | I22: =L22+R22+U22+X22+AA22+AD22+AG22+AJ22+AM22 -> 1837.2266 | L22: =Тор!C6 -> 159 | M22: =Тор!D6 -> 173.74345 | N22: =M22/L22*100 -> 109.27261 | O22: =R22+U22+X22+AA22 -> 938.22664 | P22: =S22+V22+Y22+AB22 -> 1084.2338 | R22: =Тор!C8 -> 363.20564 | S22: =Тор!D8 -> 543.53403 | T22: =S22/R22*100 -> 149.64912 | U22: =Тор!C9 -> 3.668 | V22: =Тор!D9 -> 2.93593 | W22: =V22/U22*100 -> 80.041712 | X22: =Тор!C10 -> 571.353 | Y22: =Тор!D10 -> 600.12295 | Z22: =Y22/X22*100 -> 105.03541 | AA22: =Тор!C11 -> 0 | AB22: =Тор!D11 -> -62.35914 | AC22: =AB22/AA22*100 -> #DIV/0! | AD22: =Тор!C13 -> 30 | AE22: =Тор!D13 -> 5.982 | AF22: =AE22/AD22*100 -> 19.94 | AG22: =Тор!C15 -> 247 | AH22: =Тор!D15 -> 179.51551 | AI22: =AH22/AG22*100 -> 72.678344 | AJ22: =Тор!C16 -> 455 | AK22: =Тор!D16 -> 427.03436 | AL22: =AK22/AJ22*100 -> 93.853705 | AM22: =Тор!C18 -> 8 | AN22: =Тор!D18 -> 6.1 | AO22: =AN22/AM22*100 -> 76.25 | AQ22: =Тор!D20 -> 0 | AR22: =AQ22/AP22*100 -> #DIV/0! | AS22: 0 | AT22: 0 | AU22: =AT22/AS22*100 -> #DIV/0! | AV22: =Тор!C27 -> 320 | AW22: =Тор!D27 -> 488.1133 | AX22: =AW22/AV22*100 -> 152.53541 | AY22: =Тор!C28 -> 30 | AZ22: =Тор!D28 -> 80.44078 | BA22: =AZ22/AY22*100 -> 268.13593 | BD22: =BC22/BB22*100 -> #DIV/0! | BE22: =Тор!C29 -> 130 | BF22: =Тор!D29 -> 137.39689 | BG22: =BF22/BE22*100 -> 105.68992 | BK22: =Тор!C34+Тор!C33 -> 32.2525 | BL22: =Тор!D32 -> 32.2525 | BM22: =BL22/BK22*100 -> 100 | BP22: =BO22/BN22*100 -> #DIV/0! | BT22: =Тор!C35 -> 10.63425 | BU22: =Тор!D35 -> 27.53533 | BV22: =BU22/BT22*100 -> 258.93063 | BW22: =Тор!C37 -> 513.90181 | BX22: =Тор!D37 -> 915.18797 | BY22: =BX22/BW22*100 -> 178.08615 | CB22: =BZ22/CA22*100 -> #DIV/0! | CE22: =CC22/CD22*100 -> #DIV/0! | CF22: =CI22+CL22+CO22+CR22+CX22+CU22 -> 8452.0496 | CG22: =CJ22+CM22+CP22+CS22+CY22+CV22+DB22 -> 8452.017 | CH22: =CG22/CF22*100 -> 99.999615 | CI22: =Тор!C42 -> 2338.7 | CJ22: =Тор!D42 -> 2338.7 | CK22: =CJ22/CI22*100 -> 100 | CL22: =Тор!C43 -> 0 | CM22: =Тор!D43 -> 0 | CN22: =CM22/CL22*100 -> #DIV/0! | CO22: =Тор!C44 -> 4937.9275 | CP22: =Тор!D44 -> 4937.9275 | CQ22: =CP22/CO22*100 -> 100 | CR22: =Тор!C45 -> 110.18913 | CS22: =Тор!D45 -> 110.18913 | CT22: =CS22/CR22*100 -> 100 | CU22: =Тор!C46 -> 1065.233 | CV22: =Тор!D46 -> 1065.2004 | CW22: =CV22/CU22*100 -> 99.996943 | CX22: =Тор!C48 -> 0 | CY22: =Тор!D48 -> 0 | CZ22: =CY22/CX22*100 -> #DIV/0! | DB22: =Тор!D49 -> 0 | DF22: =DE22/DD22*100 -> #DIV/0! | DM22: =DP22+EE22+EH22+EK22+EN22+EQ22+ET22+EW22+EZ22 -> 11856.092 | DN22: =DQ22+EF22+EI22+EL22+EO22+ER22+EU22+EX22+FA22 -> 11659.782 | DO22: =DN22/DM22*100 -> 98.344223 | DP22: =DS22+DV22+DY22+EB22 -> 1352.6251 | DQ22: =DT22+DW22+DZ22+EC22 -> 1336.0837 | DR22: =DQ22/DP22*100 -> 98.77709 | DS22: =Тор!C58 -> 1347.6691 | DT22: =Тор!D58 -> 1332.1277 | DU22: =DT22/DS22*100 -> 98.846795 | DV22: =Тор!C61 -> 0 | DW22: =Тор!D61 -> 0 | DX22: =DW22/DV22*100 -> #DIV/0! | DY22: =Тор!C62 -> 1 | DZ22: =Тор!D62 -> 0 | EA22: =DZ22/DY22*100 -> 0 | EB22: =Тор!C63 -> 3.956 | EC22: =Тор!D63 -> 3.956 | ED22: =EC22/EB22*100 -> 100 | EE22: =Тор!C65 -> 110.18913 | EF22: =+Тор!D64 -> 110.18913 | EG22: =EF22/EE22*100 -> 100 | EH22: =Тор!C66 -> 7.63134 | EI22: =Тор!D66 -> 7.63134 | EJ22: =EI22/EH22*100 -> 100 | EK22: =Тор!C72 -> 5377.7926 | EL22: =Тор!D72 -> 5328.9065 | EM22: =EL22/EK22*100 -> 99.090963 | EN22: =Тор!C78 -> 3897.7041 | EO22: =Тор!D78 -> 3782.8212 | EP22: =EO22/EN22*100 -> 97.052548 | EQ22: =Тор!C82 -> 1099.15 | ER22: =Тор!D82 -> 1083.15 | ES22: =ER22/EQ22*100 -> 98.54433 | ET22: =Тор!C84 -> 9 | EU22: =Тор!D84 -> 9 | EV22: =EU22/ET22*100 -> 100 | EW22: =Тор!C96 -> 2 | EX22: =Тор!D96 -> 2 | EY22: =EX22/EW22*100 -> 100 | EZ22: =Тор!C94 -> 0 | FA22: =Тор!D94 -> 0 | FB22: =FA22/EZ22*100 -> #DIV/0! | FC22: =SUM(C22-DM22) -> -530.02748 | FD22: =SUM(D22-DN22) -> 349.77111 | FE22: =FD22/FC22*100 -> -65.991127
A23: 10 | B23: Хорнойское | C23: =F23+CF23 -> 12584.729 | D23: =G23+CG23+DE23 -> 12865.08 | E23: =D23/C23*100 -> 102.22771 | F23: =L23+AD23+AG23+AJ23+AM23+AS23+AY23+BK23+BW23+BT23+AP23+BE23+R23+X23+U23+AA23+AV23 -> 1935.7252 | G23: =M23+AE23+AH23+AK23+AN23+AT23+AZ23+BL23+AQ23+BX23+BU23+BF23+S23+Y23+V23+AB23+AW23 -> 2216.076 | H23: =G23/F23*100 -> 114.48299 | I23: =L23+R23+U23+X23+AA23+AD23+AG23+AJ23+AM23 -> 1139.73 | L23: =Хор!C6 -> 111 | M23: =Хор!D6 -> 86.458 | N23: =M23/L23*100 -> 77.89009 | O23: =R23+U23+X23+AA23 -> 428.73 | P23: =S23+V23+Y23+AB23 -> 506.87091 | R23: =Хор!C8 -> 159.916 | S23: =Хор!D8 -> 254.09796 | T23: =S23/R23*100 -> 158.89464 | U23: =Хор!C9 -> 1.715 | V23: =Хор!D9 -> 1.37252 | W23: =V23/U23*100 -> 80.030321 | X23: =Хор!C10 -> 267.099 | Y23: =Хор!D10 -> 280.55284 | Z23: =Y23/X23*100 -> 105.03702 | AA23: =Хор!C11 -> 0 | AB23: =Хор!D11 -> -29.15241 | AC23: =AB23/AA23*100 -> #DIV/0! | AD23: =Хор!C13 -> 10 | AE23: =Хор!D13 -> 1.09181 | AF23: =AE23/AD23*100 -> 10.9181 | AG23: =Хор!C15 -> 271 | AH23: =Хор!D15 -> 201.5835 | AI23: =AH23/AG23*100 -> 74.385055 | AJ23: =Хор!C16 -> 314 | AK23: =Хор!D16 -> 323.87514 | AL23: =AK23/AJ23*100 -> 103.14495 | AM23: =Хор!C18 -> 5 | AN23: =Хор!D18 -> 5.5 | AO23: =AN23/AM23*100 -> 110 | AR23: =AQ23/AP23*100 -> #DIV/0! | AS23: 0 | AT23: 0 | AU23: =AT23/AS23*100 -> #DIV/0! | AV23: =Хор!C25 -> 30 | AW23: =Хор!D25 -> 23.9533 | AX23: =AW23/AV23*100 -> 79.844333 | AY23: =Хор!C26 -> 0 | AZ23: =Хор!D26 -> 0 | BA23: =AZ23/AY23*100 -> #DIV/0! | BD23: =BC23/BB23*100 -> #DIV/0! | BE23: =Хор!C27 -> 0 | BF23: =Хор!D27 -> 0.08353 | BG23: =BF23/BE23*100 -> #DIV/0! | BK23: =Хор!C31 -> 0 | BL23: =Хор!D31 -> 0 | BM23: =BL23/BK23*100 -> #DIV/0! | BP23: =BO23/BN23*100 -> #DIV/0! | BU23: =Хор!D32 -> 0.86636 | BV23: =BU23/BT23*100 -> #DIV/0! | BW23: =Хор!C33 -> 765.99516 | BX23: =Хор!D33 -> 1065.7935 | BY23: =BX23/BW23*100 -> 139.13841 | CB23: =BZ23/CA23*100 -> #DIV/0! | CE23: =CC23/CD23*100 -> #DIV/0! | CF23: =CI23+CL23+CO23+CR23+CX23+CU23 -> 10649.004 | CG23: =CJ23+CM23+CP23+CS23+CY23+CV23+DB23 -> 10649.004 | CH23: =CG23/CF23*100 -> 100 | CI23: =Хор!C38 -> 2095.3 | CJ23: =Хор!D38 -> 2095.3 | CK23: =CJ23/CI23*100 -> 100 | CL23: =Хор!C40 -> 0 | CM23: =Хор!D40 -> 0 | CN23: =CM23/CL23*100 -> #DIV/0! | CO23: =Хор!C41 -> 5392.4916 | CP23: =Хор!D41 -> 5392.4916 | CQ23: =CP23/CO23*100 -> 100 | CR23: =Хор!C42 -> 96.75047 | CS23: =Хор!D42 -> 96.75047 | CT23: =CS23/CR23*100 -> 100 | CU23: =Хор!C43 -> 3064.4615 | CV23: =Хор!D43 -> 3064.4615 | CW23: =CV23/CU23*100 -> 100 | CX23: =Хор!C44 -> 0 | CY23: =Хор!D44 -> 0 | CZ23: =CY23/CX23*100 -> #DIV/0! | DF23: =DE23/DD23*100 -> #DIV/0! | DK23: =Хор!D47 -> 0 | DM23: =DP23+EE23+EH23+EK23+EN23+EQ23+ET23+EW23+EZ23 -> 12647.385 | DN23: =DQ23+EF23+EI23+EL23+EO23+ER23+EU23+EX23+FA23 -> 12613.366 | DO23: =DN23/DM23*100 -> 99.731021 | DP23: =DS23+DV23+DY23+EB23 -> 1527.2872 | DQ23: =DT23+DW23+DZ23+EC23 -> 1505.9527 | DR23: =DQ23/DP23*100 -> 98.603113 | DS23: =Хор!C55 -> 1523.1352 | DT23: =Хор!D55 -> 1502.8007 | DU23: =DT23/DS23*100 -> 98.664959 | DV23: =Хор!C58 -> 0 | DW23: =Хор!D58 -> 0 | DX23: =DW23/DV23*100 -> #DIV/0! | DY23: =Хор!C59 -> 1 | DZ23: =Хор!D59 -> 0 | EA23: =DZ23/DY23*100 -> 0 | EB23: =Хор!C60 -> 3.152 | EC23: =Хор!D60 -> 3.152 | ED23: =EC23/EB23*100 -> 100 | EE23: =Хор!C62 -> 96.75047 | EF23: =Хор!D62 -> 96.75047 | EG23: =EF23/EE23*100 -> 100 | EH23: =Хор!C63 -> 7.65134 | EI23: =Хор!D63 -> 7.65134 | EJ23: =EI23/EH23*100 -> 100 | EK23: =Хор!C69 -> 1284.1928 | EL23: =Хор!D69 -> 1271.5086 | EM23: =EL23/EK23*100 -> 99.012277 | EN23: =Хор!C74 -> 8968.1703 | EO23: =Хор!D74 -> 8968.1703 | EP23: =EO23/EN23*100 -> 100 | EQ23: =Хор!C78 -> 758.33289 | ER23: =Хор!D78 -> 758.33289 | ES23: =ER23/EQ23*100 -> 100 | ET23: =Хор!C80 -> 0 | EU23: =Хор!D80 -> 0 | EV23: =EU23/ET23*100 -> #DIV/0! | EW23: =Хор!C85 -> 5 | EX23: =Хор!D85 -> 5 | EY23: =EX23/EW23*100 -> 100 | EZ23: =Хор!C91 -> 0 | FA23: =Хор!D91 -> 0 | FB23: =FA23/EZ23*100 -> #DIV/0! | FC23: =SUM(C23-DM23) -> -62.65628 | FD23: =SUM(D23-DN23) -> 251.71334 | FE23: =FD23/FC23*100 -> -401.73681
