Workbook
Name Алтайский_край: 'регионы и районы'!$K$477:$K$545
Name Амурская_область: 'регионы и районы'!$K$738:$K$766
Name Архангельская_область: 'регионы и районы'!$K$767:$K$792
Name Астраханская_область: 'регионы и районы'!$K$793:$K$805
Name Белгородская_область: 'регионы и районы'!$K$806:$K$827
Name Брянская_область: 'регионы и районы'!$K$828:$K$858
Name Владимирская_область: 'регионы и районы'!$K$859:$K$878
Name Волгоградская_область: 'регионы и районы'!$K$879:$K$916
Name Вологодская_область: 'регионы и районы'!$K$917:$K$944
Name Воронежская_область: 'регионы и районы'!$K$945:$K$978
Name г._Москва: 'регионы и районы'!$K$2244:$K$2255
Name г._Санкт_Петербург: 'регионы и районы'!$K$2256:$K$2273
Name г._Севастополь: 'регионы и районы'!$K$2365:$K$2368
Name Донецкая_Народная_Республика: 'регионы и районы'!$K$2369:$K$2398
Name Еврейская_автономная_область: 'регионы и районы'!$K$2274:$K$2279
Name Забайкальский_край: 'регионы и районы'!$K$2191:$K$2224
Name Запорожская_область: 'регионы и районы'!$K$2324:$K$2339
Name Ивановская_область: 'регионы и районы'!$K$979:$K$1005
Name Иркутская_область: 'регионы и районы'!$K$1006:$K$1047
Name Кабардино_Балкарская_Республика: 'регионы и районы'!$K$168:$K$180
Name Калининградская_область: 'регионы и районы'!$K$1048:$K$1069
Name Калужская_область: 'регионы и районы'!$K$1070:$K$1095
Name Камчатский_край: 'регионы и районы'!$K$1096:$K$1109
Name Карачаево_Черкесская_Республика: 'регионы и районы'!$K$195:$K$206
Name Кемеровская_область___Кузбасс: 'регионы и районы'!$K$1110:$K$1140
Name Кировская_область: 'регионы и районы'!$K$1141:$K$1185
Name Костромская_область: 'регионы и районы'!$K$1186:$K$1214
Name Краснодарский_край: 'регионы и районы'!$K$546:$K$590
Name Красноярский_край: 'регионы и районы'!$K$591:$K$651
Name Курганская_область: 'регионы и районы'!$K$1215:$K$1240
Name Курская_область: 'регионы и районы'!$K$1241:$K$1273
Name Ленинградская_область: 'регионы и районы'!$K$1274:$K$1291
Name Липецкая_область: 'регионы и районы'!$K$1292:$K$1311
Name Луганская_Народная_Республика: 'регионы и районы'!$K$2399:$K$2426
Name Магаданская_область: 'регионы и районы'!$K$1312:$K$1320
Name Московская_область: 'регионы и районы'!$K$1321:$K$1377
Name Мурманская_область: 'регионы и районы'!$K$1378:$K$1394
Name Ненецкий_автономный_округ: 'регионы и районы'!$K$2280:$K$2281
Name Нижегородская_область: 'регионы и районы'!$K$1395:$K$1445
Name Новгородская_область: 'регионы и районы'!$K$1446:$K$1467
Name Новосибирская_область: 'регионы и районы'!$K$1468:$K$1502
Name Омская_область: 'регионы и районы'!$K$1503:$K$1535
Name Оренбургская_область: 'регионы и районы'!$K$1536:$K$1577
Name Орловская_область: 'регионы и районы'!$K$1578:$K$1604
Name Пензенская_область: 'регионы и районы'!$K$1605:$K$1634
Name Пермский_край: 'регионы и районы'!$K$1635:$K$1677
Name Пок: OFFSET(#REF!,0,0,MAX(#REF!),1)
Name Приморский_край: 'регионы и районы'!$K$652:$K$685
Name Псковская_область: 'регионы и районы'!$K$1678:$K$1703
Name Республика_Адыгея: 'регионы и районы'!$K$2:$K$10
Name Республика_Алтай: 'регионы и районы'!$K$97:$K$107
Name Республика_Башкортостан: 'регионы и районы'!$K$11:$K$73
Name Республика_Бурятия: 'регионы и районы'!$K$74:$K$96
Name Республика_Дагестан: 'регионы и районы'!$K$108:$K$158
Name Республика_Ингушетия: 'регионы и районы'!$K$159:$K$167
Name Республика_Калмыкия: 'регионы и районы'!$K$181:$K$194
Name Республика_Карелия: 'регионы и районы'!$K$207:$K$224
Name Республика_Коми: 'регионы и районы'!$K$225:$K$244
Name Республика_Крым: 'регионы и районы'!$K$2340:$K$2364
Name Республика_Марий_Эл: 'регионы и районы'!$K$245:$K$261

Sheet Шаблон
F1: Гиагинский муниципальный район
F2: Кошехабльский муниципальный район
F3: Красногвардейский муниципальный район
F4: Майкопский муниципальный район
F5: Тахтамукайский муниципальный район
F6: Теучежский муниципальный район
F7: Шовгеновский муниципальный район
F8: город Майкоп
F9: город Адыгейск
F10: Абзелиловский муниципальный район
F11: Альшеевский муниципальный район
F12: Архангельский муниципальный район
... F2234: Тунгокоченский муниципальный округ
F2235: Улётовский муниципальный район | L2235: Барий (Ва, суммарно)
F2236: Хилокский муниципальный район | L2236: Серебро (Ag, суммарно)
F2237: Чернышевский муниципальный район | L2237: Висмут (Bi, суммарно)
F2238: Читинский муниципальный район | L2238: Кобальт (Co, суммарно)
F2239: Шелопугинский муниципальный район | L2239: Литий (Li, суммарно)
F2240: Шилкинский муниципальный район | L2240: Олово (Sn, суммарно)
F2241: город Чита | L2241: Стронций (Sr, суммарно)
F2242: ЗАТО поселок Горный | L2242: Аммиак/аммоний-ион (NH3/NH4+)
F2243: Большесельский муниципальный район | L2243: РНК полиовирусов (Poliovirus)
F2244: Борисоглебский муниципальный район | L2244: Толуол
F2245: Брейтовский муниципальный район | L2245: Хлориды (Cl- )
F2246: Гаврилов-Ямский муниципальный район | L2246: Тетрахлорметан
... F2377: Керчь | L2377: Ацетальдегид
D2378: Республика Адыгея | F2378: Красноперекопск | L2378: Радий-226
D2379: Республика Башкортостан | F2379: Саки | L2379: (2,4-Дихлорфенокси)ацетат аммония
D2380: Республика Бурятия | F2380: Судак | L2380: 2,4-Динитрометилбензол
D2381: Республика Алтай | F2381: Феодосия | L2381: Гидросульфид - ион (HS-)
D2382: Республика Дагестан | F2382: Ялта | L2382: 1-Гидрокси-2,4,6-тринитробензол
D2383: Республика Ингушетия | F2383: Балаклавский | L2383: Бор (В, суммарно)
D2384: Кабардино-Балкарская Республика | F2384: Гагаринский | L2384: Магний дихлорат
D2385: Республика Калмыкия | F2385: Ленинский (Район города Севастополь) | L2385: Ртуть (Hg, суммарно)
D2386: Карачаево-Черкесская Республика | F2386: Нахимовский | L2386: Нитраты (NO3-)
D2387: Республика Карелия | F2387: Александровский муниципальный округ | L2387: 1,1-Дихлорэтен
D2388: Республика Коми | F2388: Амвросиевский муниципальный округ | L2388: 1-Гидрокси-2,6-динитро-2-(1-метилпропил)бензол
D2389: Республика Марий Эл | F2389: Артемовский муниципальный округ | L2389: 2,4-Дихлорфеноксиэтановая кислота
... D2466: Херсонская область | F2466: город Новая Каховка | L2466: Po-210
A2467: Сведения об организации, осуществляющей водоснабжение, или гарантирующей организации | C2467: Код точки отбора пробы воды | D2467: Субъект Российской Федерации | E2467: guid | F2467: Муниципальный район (городской округ) | G2467: guid | H2467: Внутрирайонное МО | I2467: Населенный пункт | J2467: Адрес точки отбора проб воды | K2467: Дата отбора пробы воды | L2467: Показатель | M2467: guid | N2467: Единица измерения | O2467: guid | P2467: Результат исследования (испытания, измерения) | Q2467: Погрешность/ неопределённость результата исследования (испытания, измерения) | R2467: Гигиенический норматив | S2467: Величина временного отступления | T2467: Оценка результата исследования (испытания, измерения) | U2467: guid
...

Sheet Соответствие
A1: Соответствует | B1: 550e8400-e29b-41d4-a716-446655440000
A2: Не соответствует | B2: 6ba7b810-9dad-11d1-80b4-00c04fd430c8

Sheet регионы и районы
A1: # | B1: region | C1: reg_guid | I1: # | J1: region_name | K1: territory_name | L1: territory_guid
A2: 01 | B2: Республика Адыгея | C2: e31eb222-52ed-11ec-8de8-00505695a409 | I2: 1 | J2: Республика Адыгея | K2: город Майкоп | L2: 14804344-538e-11ec-84d7-00505695a409
A3: 02 | B3: Республика Башкортостан | C3: e3247f2c-52ed-11ec-8de8-00505695a409 | I3: 2 | J3: Республика Адыгея | K3: Кошехабльский муниципальный район | L3: 146bae34-538e-11ec-84d7-00505695a409
A4: 03 | B4: Республика Бурятия | C4: e3274f2c-52ed-11ec-8de8-00505695a409 | I4: 3 | J4: Республика Адыгея | K4: Гиагинский муниципальный район | L4: 1465235c-538e-11ec-84d7-00505695a409
A5: 04 | B5: Республика Алтай | C5: e321b864-52ed-11ec-8de8-00505695a409 | I5: 4 | J5: Республика Адыгея | K5: город Адыгейск | L5: 14839a8a-538e-11ec-84d7-00505695a409
A6: 05 | B6: Республика Дагестан | C6: e32a894e-52ed-11ec-8de8-00505695a409 | I6: 5 | J6: Республика Адыгея | K6: Красногвардейский муниципальный район | L6: 146ee626-538e-11ec-84d7-00505695a409
A7: 06 | B7: Республика Ингушетия | C7: e32d89dc-52ed-11ec-8de8-00505695a409 | I7: 6 | J7: Республика Адыгея | K7: Майкопский муниципальный район | L7: 1471eccc-538e-11ec-84d7-00505695a409
A8: 07 | B8: Кабардино-Балкарская Республика | C8: e2c90d18-52ed-11ec-8de8-00505695a409 | I8: 7 | J8: Республика Адыгея | K8: Теучежский муниципальный район | L8: 1478fe7c-538e-11ec-84d7-00505695a409
A9: 08 | B9: Республика Калмыкия | C9: e3309140-52ed-11ec-8de8-00505695a409 | I9: 8 | J9: Республика Адыгея | K9: Шовгеновский муниципальный район | L9: 147c3e16-538e-11ec-84d7-00505695a409
A10: 09 | B10: Карачаево-Черкесская Республика | C10: e2d4f5d8-52ed-11ec-8de8-00505695a409 | I10: 9 | J10: Республика Адыгея | K10: Тахтамукайский муниципальный район | L10: 147563de-538e-11ec-84d7-00505695a409
A11: 10 | B11: Республика Карелия | C11: e33392aa-52ed-11ec-8de8-00505695a409 | I11: 10 | J11: Республика Башкортостан | K11: город Уфа | L11: 1559428e-538e-11ec-84d7-00505695a409
A12: 11 | B12: Республика Коми | C12: e3367cd6-52ed-11ec-8de8-00505695a409 | I12: 11 | J12: Республика Башкортостан | K12: Аскинский муниципальный район | L12: 1507b61c-538e-11ec-84d7-00505695a409
A13: 12 | B13: Республика Марий Эл | C13: e33c6312-52ed-11ec-8de8-00505695a409 | I13: 12 | J13: Республика Башкортостан | K13: Балтачевский муниципальный район | L13: 157ee5ac-538e-11ec-84d7-00505695a409
... A90: 95 | B90: Херсонская область | C90: 0f6077f8-5117-11ed-83a1-00505695a409 | I90: 89 | J90: Республика Бурятия | K90: Кабанский муниципальный район | L90: 15a6af10-538e-11ec-84d7-00505695a409
I91: 90 | J91: Республика Бурятия | K91: Окинский муниципальный район | L91: 15bab7c6-538e-11ec-84d7-00505695a409
I92: 91 | J92: Республика Бурятия | K92: Тункинский муниципальный район | L92: 15cc12be-538e-11ec-84d7-00505695a409
I93: 92 | J93: Республика Бурятия | K93: Селенгинский муниципальный район | L93: 15c54bdc-538e-11ec-84d7-00505695a409
I94: 93 | J94: Республика Бурятия | K94: Тарбагатайский муниципальный район | L94: 15c8d068-538e-11ec-84d7-00505695a409
I95: 94 | J95: Республика Бурятия | K95: Северо-Байкальский муниципальный район | L95: 15c1656c-538e-11ec-84d7-00505695a409
I96: 95 | J96: Республика Бурятия | K96: Хоринский муниципальный район | L96: 15cf5280-538e-11ec-84d7-00505695a409
I97: 96 | J97: Республика Алтай | K97: Онгудайский муниципальный район | L97: 148dfa3e-538e-11ec-84d7-00505695a409
I98: 97 | J98: Республика Алтай | K98: Майминский муниципальный район | L98: 148a8b42-538e-11ec-84d7-00505695a409
I99: 98 | J99: Республика Алтай | K99: город Горно-Алтайск | L99: 14aaea54-538e-11ec-84d7-00505695a409
I100: 99 | J100: Республика Алтай | K100: Кош-Агачский муниципальный район | L100: 14870d32-538e-11ec-84d7-00505695a409
I101: 100 | J101: Республика Алтай | K101: Шебалинский муниципальный район | L101: 14a74a2a-538e-11ec-84d7-00505695a409
I102: 101 | J102: Республика Алтай | K102: Чойский муниципальный район | L102: 14a389f8-538e-11ec-84d7-00505695a409
... I2448: 2447 | J2448: Херсонская область | K2448: Скадовский муниципальный округ | L2448: 27ac19ca-5117-11ed-83a1-00505695a409

Sheet Условия колонок
A1: Колонка | B1: Значение по параметру | C1: Справочник | D1: Обязательность заполнения | E1: Текст ошибки
A2: B | B2: inn | C2: /api/references/water_organization | D2: да
A3: E | B3: regionGUID
A4: G | B4: districtGUID
A5: D | B5: region | D5: да
A6: C | B6: point_code | C6: /api/references/water_utility_points
A7: formTemplateGuid | B7: a21f7aa3-1077-497c-96d8-358085e1fd34 | E7: Данный Excel-шаблон не предназначен для импорта в эту форму. Проверьте правильность шаблона или скачайте его и заполните вновь

Sheet Списки
A1: Показатели | B1: Единицы измерения | C1: Единицы измерения
A2: 1-Метил-N-L-альфа-аспартил-L-фенилаланин15:18 | B2: мг/л | C2: Бк/кг
A3: ДДТ и его метаболиты | B3: мг/дм^3 | C3: балл
A4: Campilobacter | B4: -- | C4: ед. рН
A5: Citrobacter | B5: -- | C5: ЕМФ
A6: Enterobacter | B6: -- | C6: БОЕ/100 см^3
A7: Klebsiella oxytoca | B7: -- | C7: градус цветности
A8: Поллоний-210 | B8: Бк/кг | C8: мг/дм^3
A9: Sr-90 | B9: Бк/кг | C9: мгО2/дм^3
A10: Yersinia pseudotuberculosis (возбудитель псевдотубеокулеза) | B10: -- | C10: КОЕ/100см^3
A11: диЕвропий триоксид | B11: мг/л | C11: КОЕ/дм^3
A12: Дихлорамин | B12: мг/л | C12: градус Цельсия
... A19: 1,2,3,4,5,5-Гексахлорциклопента-1,3-диен | B19: мг/л | C19: Число спор в 20 см^3
A20: 1,2,3-Тригидроксибензол | B20: мг/л
A21: 1,2-Дигидроксибензол | B21: мг/л
A22: 1-Гидрокси-2,4,6-тринитробензол | B22: мг/л
A23: 1-Гидрокси-2,4,6-трихлорбензол | B23: мг/л
A24: 1-Гидрокси-2,6-динитро-2-(1-метилпропил)бензол | B24: мг/л
A25: 1-Гидрокси-2-нитробензол | B25: мг/л
A26: 1-Гидрокси-3-метилбензол | B26: мг/л
A27: 1-Гидрокси-4-метилбензол | B27: мг/л
A28: 1-Гидрокси-4-нитробензол | B28: мг/л
A29: 1-Гидрокси-4-хлорбензол | B29: мг/л
A30: 1-Гидроксидиметилбензол | B30: мг/л
A31: 2,4-Динитрометилбензол | B31: мг/л
... A237: Po-210 | B237: Бк/кг

Sheet Показатели
A1: 1-Метил-N-L-альфа-аспартил-L-фенилаланин15:18 | B1: 17e095e4-74b2-11ec-9a31-00505695a40915 | G1: Барий (Ва, суммарно) | H1: 6f7aaae4-67a9-11ec-9e76-00505695a409
A2: ДДТ и его метаболиты | B2: a319b57e-8646-11eb-9796-0200c6dd82e6 | G2: Серебро (Ag, суммарно) | H2: 6f8af606-67a9-11ec-9e76-00505695a409
A3: Campilobacter | B3: f02bd644-6aa9-11ef-96b7-005056958e11 | G3: Висмут (Bi, суммарно) | H3: 6f99fb9c-67a9-11ec-9e76-00505695a409
A4: Citrobacter | B4: ad5e0b70-8646-11eb-9796-0200c6dd82e6 | G4: Кобальт (Co, суммарно) | H4: 6f9e7640-67a9-11ec-9e76-00505695a409
A5: Enterobacter | B5: ac679560-8646-11eb-9796-0200c6dd82e6 | G5: Литий (Li, суммарно) | H5: 6fa3bc40-67a9-11ec-9e76-00505695a409
A6: Klebsiella oxytoca | B6: 5c29e8e0-6aaa-11ef-96b7-005056958e11 | G6: Олово (Sn, суммарно) | H6: 6fb93dfe-67a9-11ec-9e76-00505695a409
A7: Поллоний-210 | B7: decbdff8-cd1b-11ec-8646-00505695a409 | G7: Стронций (Sr, суммарно) | H7: 6fbf0b80-67a9-11ec-9e76-00505695a409
A8: Sr-90 | B8: bd6f87e6-8646-11eb-9796-0200c6dd82e6 | G8: Аммиак/аммоний-ион (NH3/NH4+) | H8: 6ff92c98-67a9-11ec-9e76-00505695a409
A9: Yersinia pseudotuberculosis (возбудитель псевдотубеокулеза) | B9: 9c5ba99a-8646-11eb-9796-0200c6dd82e6 | G9: РНК полиовирусов (Poliovirus) | H9: 9c5c7582-8646-11eb-9796-0200c6dd82e6
A10: диЕвропий триоксид | B10: ba7393d4-8646-11eb-9796-0200c6dd82e6 | G10: Толуол | H10: b0d7b530-8646-11eb-9796-0200c6dd82e6
A11: Дихлорамин | B11: 44da5890-73f3-11ee-9a41-005056958e11 | G11: Хлориды (Cl- ) | H11: bb1b5308-8646-11eb-9796-0200c6dd82e6
A12: Самарий трихлорид | B12: baa5ff86-8646-11eb-9796-0200c6dd82e6 | G12: Тетрахлорметан | H12: bb2739a2-8646-11eb-9796-0200c6dd82e6
... A225: Нитриты (NO2-) | B225: 03fe5d3a-b1e3-11ed-8d7b-005056958e11 | G225: ДНК Salmonella | H225: a92e8e6c-8646-11eb-9796-0200c6dd82e6
G226: ДНК термофильных Кампилобактерий (Campylobacter spp.) | H226: c831a126-3ef5-11ef-8c43-005056958e11
G227: РНК вируса гепатита А | H227: a30c4e0c-8646-11eb-9796-0200c6dd82e6
G228: Цисты кишечных патогенных простейших организмов | H228: dad9944c-d897-11ee-9b07-005056958e11
G229: Яйца и личинки гельминтов | H229: 9f95a520-8646-11eb-9796-0200c6dd82e6
G230: ДНК Shigella | H230: ab2efdbe-8646-11eb-9796-0200c6dd82e6
G231: Поли(гексаметиленгуанидин гидрохлорид) | H231: 9623299a-8646-11eb-9796-0200c6dd82e6
G232: Po-210 | H232: bd56e7cc-8646-11eb-9796-0200c6dd82e6

Sheet Единицы измерения
A1: г/с | B1: 925eecb8-ed86-11ee-9d4e-005056958e11
A2: КОЕ/1000 см^3 | B2: e0526e62-ea8f-11ee-9a52-005056958e11
A3: КОЕ/20 см^3 | B3: ce3e3b9c-bc32-11ee-88dc-005056958e11
A4: бактерий в 1 дм^3 | B4: 05812b22-bffe-11ee-9149-005056958e11
A5: ед. CISM | B5: 73afdf6e-cc95-11ee-9d18-005056958e11
A6: КОЕ спор/20 см^3 | B6: 8c08bce2-df6f-11ee-851d-005056958e11
A7: мкг на порцию | B7: 3c2ce72a-63b6-11ec-84cc-00505695a409
A8: мг на капсулу | B8: 3babce42-63b6-11ec-84cc-00505695a409
A9: мкг на капсулу | B9: 3c045260-63b6-11ec-84cc-00505695a409
A10: мл 0,02 H р-ра Na2S2O3 | B10: cf61563e-253e-11ee-9b89-005056958e11
A11: грамм на таблетку | B11: dd59eec8-1751-11ed-9154-005056958e11
A12: мг в таблетке | B12: 3bbcf0a0-63b6-11ec-84cc-00505695a409
... A425: экз/мкл | B425: ac03202e-cd6d-11ed-9185-005056958e11
