Workbook
Name Алтайский_край: 'регионы и районы'!$K$477:$K$545
Name Амурская_область: 'регионы и районы'!$K$738:$K$766
Name Архангельская_область: 'регионы и районы'!$K$767:$K$792
Name Астраханская_область: 'регионы и районы'!$K$793:$K$805
Name Белгородская_область: 'регионы и районы'!$K$806:$K$827
Name Брянская_область: 'регионы и районы'!$K$828:$K$858
Name Владимирская_область: 'регионы и районы'!$K$859:$K$878
Name Волгоградская_область: 'регионы и районы'!$K$879:$K$916
Name Вологодская_область: 'регионы и районы'!$K$917:$K$944
Name Воронежская_область: 'регионы и районы'!$K$945:$K$978
Name г._Москва: 'регионы и районы'!$K$2244:$K$2255
Name г._Санкт_Петербург: 'регионы и районы'!$K$2256:$K$2273
Name г._Севастополь: 'регионы и районы'!$K$2365:$K$2368
Name Донецкая_Народная_Республика: 'регионы и районы'!$K$2369:$K$2398
Name Еврейская_автономная_область: 'регионы и районы'!$K$2274:$K$2279
Name Забайкальский_край: 'регионы и районы'!$K$2191:$K$2224
Name Запорожская_область: 'регионы и районы'!$K$2324:$K$2339
Name Ивановская_область: 'регионы и районы'!$K$979:$K$1005
Name Иркутская_область: 'регионы и районы'!$K$1006:$K$1047
Name Кабардино_Балкарская_Республика: 'регионы и районы'!$K$168:$K$180
Name Калининградская_область: 'регионы и районы'!$K$1048:$K$1069
Name Калужская_область: 'регионы и районы'!$K$1070:$K$1095
Name Камчатский_край: 'регионы и районы'!$K$1096:$K$1109
Name Карачаево_Черкесская_Республика: 'регионы и районы'!$K$195:$K$206
Name Кемеровская_область___Кузбасс: 'регионы и районы'!$K$1110:$K$1140
Name Кировская_область: 'регионы и районы'!$K$1141:$K$1185
Name Костромская_область: 'регионы и районы'!$K$1186:$K$1214
Name Краснодарский_край: 'регионы и районы'!$K$546:$K$590
Name Красноярский_край: 'регионы и районы'!$K$591:$K$651
Name Курганская_область: 'регионы и районы'!$K$1215:$K$1240
Name Курская_область: 'регионы и районы'!$K$1241:$K$1273
Name Ленинградская_область: 'регионы и районы'!$K$1274:$K$1291
Name Липецкая_область: 'регионы и районы'!$K$1292:$K$1311
Name Луганская_Народная_Республика: 'регионы и районы'!$K$2399:$K$2426
Name Магаданская_область: 'регионы и районы'!$K$1312:$K$1320
Name Московская_область: 'регионы и районы'!$K$1321:$K$1377
Name Мурманская_область: 'регионы и районы'!$K$1378:$K$1394
Name Ненецкий_автономный_округ: 'регионы и районы'!$K$2280:$K$2281
Name Нижегородская_область: 'регионы и районы'!$K$1395:$K$1445
Name Новгородская_область: 'регионы и районы'!$K$1446:$K$1467
Name Новосибирская_область: 'регионы и районы'!$K$1468:$K$1502
Name Омская_область: 'регионы и районы'!$K$1503:$K$1535
Name Оренбургская_область: 'регионы и районы'!$K$1536:$K$1577
Name Орловская_область: 'регионы и районы'!$K$1578:$K$1604
Name Пензенская_область: 'регионы и районы'!$K$1605:$K$1634
Name Пермский_край: 'регионы и районы'!$K$1635:$K$1677
Name Пок: OFFSET(#REF!,0,0,MAX(#REF!),1)
Name Приморский_край: 'регионы и районы'!$K$652:$K$685
Name Псковская_область: 'регионы и районы'!$K$1678:$K$1703
Name Республика_Адыгея: 'регионы и районы'!$K$2:$K$10
Name Республика_Алтай: 'регионы и районы'!$K$97:$K$107
Name Республика_Башкортостан: 'регионы и районы'!$K$11:$K$73
Name Республика_Бурятия: 'регионы и районы'!$K$74:$K$96
Name Республика_Дагестан: 'регионы и районы'!$K$108:$K$158
Name Республика_Ингушетия: 'регионы и районы'!$K$159:$K$167
Name Республика_Калмыкия: 'регионы и районы'!$K$181:$K$194
Name Республика_Карелия: 'регионы и районы'!$K$207:$K$224
Name Республика_Коми: 'регионы и районы'!$K$225:$K$244
Name Республика_Крым: 'регионы и районы'!$K$2340:$K$2364
Name Республика_Марий_Эл: 'регионы и районы'!$K$245:$K$261

Sheet Шаблон
F1: Гиагинский муниципальный район
F2: Кошехабльский муниципальный район
F3: Красногвардейский муниципальный район
F4: Майкопский муниципальный район
F5: Тахтамукайский муниципальный район
F6: Теучежский муниципальный район
F7: Шовгеновский муниципальный район
F8: город Майкоп
F9: город Адыгейск
F10: Абзелиловский муниципальный район
F11: Альшеевский муниципальный район
F12: Архангельский муниципальный район
... F2234: Тунгокоченский муниципальный округ
F2235: Улётовский муниципальный район | L2235: Барий (Ва, суммарно)
F2236: Хилокский муниципальный район | L2236: Серебро (Ag, суммарно)
F2237: Чернышевский муниципальный район | L2237: Висмут (Bi, суммарно)
F2238: Читинский муниципальный район | L2238: Кобальт (Co, суммарно)
F2239: Шелопугинский муниципальный район | L2239: Литий (Li, суммарно)
F2240: Шилкинский муниципальный район | L2240: Олово (Sn, суммарно)
F2241: город Чита | L2241: Стронций (Sr, суммарно)
F2242: ЗАТО поселок Горный | L2242: Аммиак/аммоний-ион (NH3/NH4+)
F2243: Большесельский муниципальный район | L2243: РНК полиовирусов (Poliovirus)
F2244: Борисоглебский муниципальный район | L2244: Толуол
F2245: Брейтовский муниципальный район | L2245: Хлориды (Cl- )
F2246: Гаврилов-Ямский муниципальный район | L2246: Тетрахлорметан
... F2377: Керчь | L2377: Ацетальдегид
D2378: Республика Адыгея | F2378: Красноперекопск | L2378: Радий-226
D2379: Республика Башкортостан | F2379: Саки | L2379: (2,4-Дихлорфенокси)ацетат аммония
D2380: Республика Бурятия | F2380: Судак | L2380: 2,4-Динитрометилбензол
D2381: Республика Алтай | F2381: Феодосия | L2381: Гидросульфид - ион (HS-)
D2382: Республика Дагестан | F2382: Ялта | L2382: 1-Гидрокси-2,4,6-тринитробензол
D2383: Республика Ингушетия | F2383: Балаклавский | L2383: Бор (В, суммарно)
D2384: Кабардино-Балкарская Республика | F2384: Гагаринский | L2384: Магний дихлорат
D2385: Республика Калмыкия | F2385: Ленинский (Район города Севастополь) | L2385: Ртуть (Hg, суммарно)
D2386: Карачаево-Черкесская Республика | F2386: Нахимовский | L2386: Нитраты (NO3-)
D2387: Республика Карелия | F2387: Александровский муниципальный округ | L2387: 1,1-Дихлорэтен
D2388: Республика Коми | F2388: Амвросиевский муниципальный округ | L2388: 1-Гидрокси-2,6-динитро-2-(1-метилпропил)бензол
D2389: Республика Марий Эл | F2389: Артемовский муниципальный округ | L2389: 2,4-Дихлорфеноксиэтановая кислота
... D2466: Херсонская область | F2466: город Новая Каховка | L2466: Po-210
A2467: Сведения об организации, осуществляющей водоснабжение, или гарантирующей организации | C2467: Код точки отбора пробы воды | D2467: Субъект Российской Федерации | E2467: guid | F2467: Муниципальный район (городской округ) | G2467: guid | H2467: Внутрирайонное МО | I2467: Населенный пункт | J2467: Адрес точки отбора проб воды | K2467: Дата отбора пробы воды | L2467: Показатель | M2467: guid | N2467: Единица измерения | O2467: guid | P2467: Результат исследования (испытания, измерения) | Q2467: Погрешность/ неопределённость результата исследования (испытания, измерения) | R2467: Гигиенический норматив | S2467: Величина временного отступления | T2467: Оценка результата исследования (испытания, измерения) | U2467: guid
A2468: Наименование | B2468: ИНН
A2469: 1. | B2469: 2. | C2469: 3. | D2469: 4. | F2469: 5. | H2469: 6. | I2469: 7. | J2469: 8. | K2469: 9. | L2469: 10. | N2469: 11. | P2469: 12. | Q2469: 13. | R2469: 14. | S2469: 15. | T2469: 16.
A2470: МУП "Водоканал" МО г. Канаш Чувашская Республика | B2470: 2123019326 | C2470: 97707000.10110.1400 | D2470: Чувашская Республика - Чувашия | E2470: =IFERROR(VLOOKUP(D2470,'регионы и районы'!B:C,2,0),"") -> e38752c8-52ed-11ec-8de8-00505695a409 | F2470: Канашский муниципальный округ | G2470: {=IFERROR(IF(INDEX('регионы и районы'!L:L,MATCH(1,('регионы и районы'!J:J=D2470)*('регионы и районы'!K:K=F2470),0))=0,"",INDEX('регионы и районы'!L:L,MATCH(1,('регионы и районы'!J:J=D2470)*('регионы и районы'!K:K=F2470),0))),"")} -> 2265bfde-538e-11ec-84d7-00505695a409 | I2470: город Канаш | J2470: 429337, Чувашская Республика - Чувашия, Канаш г, Машиностроителей ул, дом 3 | K2470: 45966 | L2470: Цветность | M2470: =IFERROR(VLOOKUP(L2470,Показатели!G:H,2,0),"") -> aeb0c77e-8646-11eb-9796-0200c6dd82e6 | N2470: =IFERROR(VLOOKUP(Шаблон!L2470,Списки!A:B,2,FALSE),"") -> градус цветности | O2470: =IFERROR(VLOOKUP(N2470,'Единицы измерения'!A:B,2,0),"") -> 4c6af712-63b6-11ec-84cc-00505695a409 | P2470: 5 | Q2470: 1.5 | R2470: не более 20 | T2470: Соответствует | U2470: =IFERROR(VLOOKUP(T2470,[1]Соответствие!A:B,2,0),"") -> 550e8400-e29b-41d4-a716-446655440000
A2471: МУП "Водоканал" МО г. Канаш Чувашская Республика | B2471: 2123019326 | C2471: 97707000.10110.1400 | D2471: Чувашская Республика - Чувашия | E2471: =IFERROR(VLOOKUP(D2471,'регионы и районы'!B:C,2,0),"") -> e38752c8-52ed-11ec-8de8-00505695a409 | F2471: Канашский муниципальный округ | G2471: {=IFERROR(IF(INDEX('регионы и районы'!L:L,MATCH(1,('регионы и районы'!J:J=D2471)*('регионы и районы'!K:K=F2471),0))=0,"",INDEX('регионы и районы'!L:L,MATCH(1,('регионы и районы'!J:J=D2471)*('регионы и районы'!K:K=F2471),0))),"")} -> 2265bfde-538e-11ec-84d7-00505695a409 | I2471: город Канаш | J2471: 429337, Чувашская Республика - Чувашия, Канаш г, Машиностроителей ул, дом 3 | K2471: 45966 | L2471: Мутность (по каолину) | M2471: =IFERROR(VLOOKUP(L2471,Показатели!G:H,2,0),"") -> a0a95056-8646-11eb-9796-0200c6dd82e6 | N2471: =IFERROR(VLOOKUP(Шаблон!L2471,Списки!$A$2:$B$236,2,FALSE),"") -> мг/л | O2471: =IFERROR(VLOOKUP(N2471,'Единицы измерения'!A:B,2,0),"") -> 398e5cb0-63b6-11ec-84cc-00505695a409 | P2471: 0 | Q2471: 0 | R2471: не более 1,5 | T2471: Соответствует | U2471: =IFERROR(VLOOKUP(T2471,[1]Соответствие!A:B,2,0),"") -> 550e8400-e29b-41d4-a716-446655440000
A2472: МУП "Водоканал" МО г. Канаш Чувашская Республика | B2472: 2123019326 | C2472: 97707000.10110.1400 | D2472: Чувашская Республика - Чувашия | E2472: =IFERROR(VLOOKUP(D2472,'регионы и районы'!B:C,2,0),"") -> e38752c8-52ed-11ec-8de8-00505695a409 | F2472: Канашский муниципальный округ | G2472: {=IFERROR(IF(INDEX('регионы и районы'!L:L,MATCH(1,('регионы и районы'!J:J=D2472)*('регионы и районы'!K:K=F2472),0))=0,"",INDEX('регионы и районы'!L:L,MATCH(1,('регионы и районы'!J:J=D2472)*('регионы и районы'!K:K=F2472),0))),"")} -> 2265bfde-538e-11ec-84d7-00505695a409 | I2472: город Канаш | J2472: 429337, Чувашская Республика - Чувашия, Канаш г, Машиностроителей ул, дом 3 | K2472: 45966 | L2472: Запах | M2472: =IFERROR(VLOOKUP(L2472,Показатели!G:H,2,0),"") -> b13d6092-8646-11eb-9796-0200c6dd82e6 | N2472: =IFERROR(VLOOKUP(Шаблон!L2472,Списки!$A$2:$B$236,2,FALSE),"") -> балл | O2472: =IFERROR(VLOOKUP(N2472,'Единицы измерения'!A:B,2,0),"") -> 422ad51a-63b6-11ec-84cc-00505695a409 | P2472: 0 | Q2472: 0 | R2472: не более 2 | T2472: Соответствует | U2472: =IFERROR(VLOOKUP(T2472,[1]Соответствие!A:B,2,0),"") -> 550e8400-e29b-41d4-a716-446655440000
A2473: МУП "Водоканал" МО г. Канаш Чувашская Республика | B2473: 2123019326 | C2473: 97707000.10110.1400 | D2473: Чувашская Республика - Чувашия | E2473: =IFERROR(VLOOKUP(D2473,'регионы и районы'!B:C,2,0),"") -> e38752c8-52ed-11ec-8de8-00505695a409 | F2473: Канашский муниципальный округ | G2473: {=IFERROR(IF(INDEX('регионы и районы'!L:L,MATCH(1,('регионы и районы'!J:J=D2473)*('регионы и районы'!K:K=F2473),0))=0,"",INDEX('регионы и районы'!L:L,MATCH(1,('регионы и районы'!J:J=D2473)*('регионы и районы'!K:K=F2473),0))),"")} -> 2265bfde-538e-11ec-84d7-00505695a409 | I2473: город Канаш | J2473: 429337, Чувашская Республика - Чувашия, Канаш г, Машиностроителей ул, дом 3 | K2473: 45966 | L2473: Привкус | M2473: =IFERROR(VLOOKUP(L2473,Показатели!G:H,2,0),"") -> b0328074-8646-11eb-9796-0200c6dd82e6 | N2473: =IFERROR(VLOOKUP(Шаблон!L2473,Списки!$A$2:$B$236,2,FALSE),"") -> балл | O2473: =IFERROR(VLOOKUP(N2473,'Единицы измерения'!A:B,2,0),"") -> 422ad51a-63b6-11ec-84cc-00505695a409 | P2473: 0 | Q2473: 0 | R2473: не более 2 | T2473: Соответствует | U2473: =IFERROR(VLOOKUP(T2473,[1]Соответствие!A:B,2,0),"") -> 550e8400-e29b-41d4-a716-446655440000
A2474: МУП "Водоканал" МО г. Канаш Чувашская Республика | B2474: 2123019326 | C2474: 97707000.10110.1400 | D2474: Чувашская Республика - Чувашия | E2474: =IFERROR(VLOOKUP(D2474,'регионы и районы'!B:C,2,0),"") -> e38752c8-52ed-11ec-8de8-00505695a409 | F2474: Канашский муниципальный округ | G2474: {=IFERROR(IF(INDEX('регионы и районы'!L:L,MATCH(1,('регионы и районы'!J:J=D2474)*('регионы и районы'!K:K=F2474),0))=0,"",INDEX('регионы и районы'!L:L,MATCH(1,('регионы и районы'!J:J=D2474)*('регионы и районы'!K:K=F2474),0))),"")} -> 2265bfde-538e-11ec-84d7-00505695a409 | I2474: город Канаш | J2474: 429337, Чувашская Республика - Чувашия, Канаш г, Машиностроителей ул, дом 3 | K2474: 45966 | L2474: Общее микробное число (ОМЧ) (37 ± 1,0) °C | M2474: =IFERROR(VLOOKUP(L2474,Показатели!G:H,2,0),"") -> 80364326-22ec-11ed-9c28-005056958e11 | N2474: =IFERROR(VLOOKUP(Шаблон!L2474,Списки!$A$2:$B$236,2,FALSE),"") -> КОЕ/см^3 | O2474: =IFERROR(VLOOKUP(N2474,'Единицы измерения'!A:B,2,0),"") -> 3f17228e-63b6-11ec-84cc-00505695a409 | P2474: 0 | Q2474: 0 | R2474: не более 50 | T2474: Соответствует | U2474: =IFERROR(VLOOKUP(T2474,[1]Соответствие!A:B,2,0),"") -> 550e8400-e29b-41d4-a716-446655440000
A2475: МУП "Водоканал" МО г. Канаш Чувашская Республика | B2475: 2123019326 | C2475: 97707000.10110.1400 | D2475: Чувашская Республика - Чувашия | E2475: =IFERROR(VLOOKUP(D2475,'регионы и районы'!B:C,2,0),"") -> e38752c8-52ed-11ec-8de8-00505695a409 | F2475: Канашский муниципальный округ | G2475: {=IFERROR(IF(INDEX('регионы и районы'!L:L,MATCH(1,('регионы и районы'!J:J=D2475)*('регионы и районы'!K:K=F2475),0))=0,"",INDEX('регионы и районы'!L:L,MATCH(1,('регионы и районы'!J:J=D2475)*('регионы и районы'!K:K=F2475),0))),"")} -> 2265bfde-538e-11ec-84d7-00505695a409 | I2475: город Канаш | J2475: 429337, Чувашская Республика - Чувашия, Канаш г, Машиностроителей ул, дом 3 | K2475: 45966 | L2475: Обобщенные колиформные бактерии | M2475: =IFERROR(VLOOKUP(L2475,Показатели!G:H,2,0),"") -> 6f2e2ad4-67a9-11ec-9e76-00505695a409 | N2475: =IFERROR(VLOOKUP(Шаблон!L2475,Списки!$A$2:$B$236,2,FALSE),"") -> КОЕ/100см^3 | O2475: =IFERROR(VLOOKUP(N2475,'Единицы измерения'!A:B,2,0),"") -> 402b8a3e-63b6-11ec-84cc-00505695a409 | P2475: 0 | Q2475: 0 | R2475: 0 | T2475: Соответствует | U2475: =IFERROR(VLOOKUP(T2475,[1]Соответствие!A:B,2,0),"") -> 550e8400-e29b-41d4-a716-446655440000
A2476: МУП "Водоканал" МО г. Канаш Чувашская Республика | B2476: 2123019326 | C2476: 97707000.10110.1400 | D2476: Чувашская Республика - Чувашия | E2476: =IFERROR(VLOOKUP(D2476,'регионы и районы'!B:C,2,0),"") -> e38752c8-52ed-11ec-8de8-00505695a409 | F2476: Канашский муниципальный округ | G2476: {=IFERROR(IF(INDEX('регионы и районы'!L:L,MATCH(1,('регионы и районы'!J:J=D2476)*('регионы и районы'!K:K=F2476),0))=0,"",INDEX('регионы и районы'!L:L,MATCH(1,('регионы и районы'!J:J=D2476)*('регионы и районы'!K:K=F2476),0))),"")} -> 2265bfde-538e-11ec-84d7-00505695a409 | I2476: город Канаш | J2476: 429337, Чувашская Республика - Чувашия, Канаш г, Машиностроителей ул, дом 3 | K2476: 45966 | L2476: Escherichia coli (E. coli) | M2476: =IFERROR(VLOOKUP(L2476,Показатели!G:H,2,0),"") -> 47e5cfe8-1174-11ed-84e0-005056958e11 | N2476: =IFERROR(VLOOKUP(Шаблон!L2476,Списки!$A$2:$B$236,2,FALSE),"") -> КОЕ/100см^3 | O2476: =IFERROR(VLOOKUP(N2476,'Единицы измерения'!A:B,2,0),"") -> 402b8a3e-63b6-11ec-84cc-00505695a409 | P2476: 0 | Q2476: 0 | R2476: 0 | T2476: Соответствует | U2476: =IFERROR(VLOOKUP(T2476,[1]Соответствие!A:B,2,0),"") -> 550e8400-e29b-41d4-a716-446655440000
A2477: МУП "Водоканал" МО г. Канаш Чувашская Республика | B2477: 2123019326 | C2477: 97707000.10110.1400 | D2477: Чувашская Республика - Чувашия | E2477: =IFERROR(VLOOKUP(D2477,'регионы и районы'!B:C,2,0),"") -> e38752c8-52ed-11ec-8de8-00505695a409 | F2477: Канашский муниципальный округ | G2477: {=IFERROR(IF(INDEX('регионы и районы'!L:L,MATCH(1,('регионы и районы'!J:J=D2477)*('регионы и районы'!K:K=F2477),0))=0,"",INDEX('регионы и районы'!L:L,MATCH(1,('регионы и районы'!J:J=D2477)*('регионы и районы'!K:K=F2477),0))),"")} -> 2265bfde-538e-11ec-84d7-00505695a409 | I2477: город Канаш | J2477: 429337, Чувашская Республика - Чувашия, Канаш г, Машиностроителей ул, дом 3 | K2477: 45966 | L2477: Энтерококки | M2477: =IFERROR(VLOOKUP(L2477,Показатели!G:H,2,0),"") -> ad488eee-8646-11eb-9796-0200c6dd82e6 | N2477: =IFERROR(VLOOKUP(Шаблон!L2477,Списки!$A$2:$B$236,2,FALSE),"") -> КОЕ/100см^3 | O2477: =IFERROR(VLOOKUP(N2477,'Единицы измерения'!A:B,2,0),"") -> 402b8a3e-63b6-11ec-84cc-00505695a409 | P2477: 0 | Q2477: 0 | R2477: 0 | T2477: Соответствует | U2477: =IFERROR(VLOOKUP(T2477,[1]Соответствие!A:B,2,0),"") -> 550e8400-e29b-41d4-a716-446655440000
A2478: МУП "Водоканал" МО г. Канаш Чувашская Республика | B2478: 2123019326 | C2478: 97707000.10110.1400 | D2478: Чувашская Республика - Чувашия | E2478: =IFERROR(VLOOKUP(D2478,'регионы и районы'!B:C,2,0),"") -> e38752c8-52ed-11ec-8de8-00505695a409 | F2478: Канашский муниципальный округ | G2478: {=IFERROR(IF(INDEX('регионы и районы'!L:L,MATCH(1,('регионы и районы'!J:J=D2478)*('регионы и районы'!K:K=F2478),0))=0,"",INDEX('регионы и районы'!L:L,MATCH(1,('регионы и районы'!J:J=D2478)*('регионы и районы'!K:K=F2478),0))),"")} -> 2265bfde-538e-11ec-84d7-00505695a409 | I2478: город Канаш | J2478: 429337, Чувашская Республика - Чувашия, Канаш г, Машиностроителей ул, дом 3 | K2478: 45966 | L2478: Хлор остаточный общий | M2478: =IFERROR(VLOOKUP(L2478,Показатели!G:H,2,0),"") -> a2e6af26-8646-11eb-9796-0200c6dd82e6 | N2478: =IFERROR(VLOOKUP(Шаблон!L2478,Списки!$A$2:$B$236,2,FALSE),"") -> мг/л | O2478: =IFERROR(VLOOKUP(N2478,'Единицы измерения'!A:B,2,0),"") -> 398e5cb0-63b6-11ec-84cc-00505695a409 | P2478: 0.17 | Q2478: 0.05 | R2478: не более 1,2 | T2478: Соответствует | U2478: =IFERROR(VLOOKUP(T2478,[1]Соответствие!A:B,2,0),"") -> 550e8400-e29b-41d4-a716-446655440000
A2479: МУП "Водоканал" МО г. Канаш Чувашская Республика | B2479: 2123019326 | C2479: 97707000001.10110.1700 | D2479: Чувашская Республика - Чувашия | E2479: =IFERROR(VLOOKUP(D2479,'регионы и районы'!B:C,2,0),"") -> e38752c8-52ed-11ec-8de8-00505695a409 | F2479: Канашский муниципальный округ | G2479: {=IFERROR(IF(INDEX('регионы и районы'!L:L,MATCH(1,('регионы и районы'!J:J=D2479)*('регионы и районы'!K:K=F2479),0))=0,"",INDEX('регионы и районы'!L:L,MATCH(1,('регионы и районы'!J:J=D2479)*('регионы и районы'!K:K=F2479),0))),"")} -> 2265bfde-538e-11ec-84d7-00505695a409 | I2479: город Канаш | J2479: 429334, Чувашская Республика - Чувашия, Канаш г, Ленина пр-кт, дом 36 | K2479: 45966 | L2479: Цветность | M2479: =IFERROR(VLOOKUP(L2479,Показатели!G:H,2,0),"") -> aeb0c77e-8646-11eb-9796-0200c6dd82e6 | N2479: =IFERROR(VLOOKUP(Шаблон!L2479,Списки!$A$2:$B$236,2,FALSE),"") -> градус цветности | O2479: =IFERROR(VLOOKUP(N2479,'Единицы измерения'!A:B,2,0),"") -> 4c6af712-63b6-11ec-84cc-00505695a409 | P2479: 5 | Q2479: 1.5 | R2479: не более 20 | T2479: Соответствует | U2479: =IFERROR(VLOOKUP(T2479,[1]Соответствие!A:B,2,0),"") -> 550e8400-e29b-41d4-a716-446655440000
A2480: МУП "Водоканал" МО г. Канаш Чувашская Республика | B2480: 2123019326 | C2480: 97707000001.10110.1700 | D2480: Чувашская Республика - Чувашия | E2480: =IFERROR(VLOOKUP(D2480,'регионы и районы'!B:C,2,0),"") -> e38752c8-52ed-11ec-8de8-00505695a409 | F2480: Канашский муниципальный округ | G2480: {=IFERROR(IF(INDEX('регионы и районы'!L:L,MATCH(1,('регионы и районы'!J:J=D2480)*('регионы и районы'!K:K=F2480),0))=0,"",INDEX('регионы и районы'!L:L,MATCH(1,('регионы и районы'!J:J=D2480)*('регионы и районы'!K:K=F2480),0))),"")} -> 2265bfde-538e-11ec-84d7-00505695a409 | I2480: город Канаш | J2480: 429334, Чувашская Республика - Чувашия, Канаш г, Ленина пр-кт, дом 36 | K2480: 45966 | L2480: Мутность (по каолину) | M2480: =IFERROR(VLOOKUP(L2480,Показатели!G:H,2,0),"") -> a0a95056-8646-11eb-9796-0200c6dd82e6 | N2480: =IFERROR(VLOOKUP(Шаблон!L2480,Списки!$A$2:$B$236,2,FALSE),"") -> мг/л | O2480: =IFERROR(VLOOKUP(N2480,'Единицы измерения'!A:B,2,0),"") -> 398e5cb0-63b6-11ec-84cc-00505695a409 | P2480: 0 | Q2480: 0 | R2480: не более 1,5 | T2480: Соответствует | U2480: =IFERROR(VLOOKUP(T2480,[1]Соответствие!A:B,2,0),"") -> 550e8400-e29b-41d4-a716-446655440000
A2481: МУП "Водоканал" МО г. Канаш Чувашская Республика | B2481: 2123019326 | C2481: 97707000001.10110.1700 | D2481: Чувашская Республика - Чувашия | E2481: =IFERROR(VLOOKUP(D2481,'регионы и районы'!B:C,2,0),"") -> e38752c8-52ed-11ec-8de8-00505695a409 | F2481: Канашский муниципальный округ | G2481: {=IFERROR(IF(INDEX('регионы и районы'!L:L,MATCH(1,('регионы и районы'!J:J=D2481)*('регионы и районы'!K:K=F2481),0))=0,"",INDEX('регионы и районы'!L:L,MATCH(1,('регионы и районы'!J:J=D2481)*('регионы и районы'!K:K=F2481),0))),"")} -> 2265bfde-538e-11ec-84d7-00505695a409 | I2481: город Канаш | J2481: 429334, Чувашская Республика - Чувашия, Канаш г, Ленина пр-кт, дом 36 | K2481: 45966 | L2481: Запах | M2481: =IFERROR(VLOOKUP(L2481,Показатели!G:H,2,0),"") -> b13d6092-8646-11eb-9796-0200c6dd82e6 | N2481: =IFERROR(VLOOKUP(Шаблон!L2481,Списки!$A$2:$B$236,2,FALSE),"") -> балл | O2481: =IFERROR(VLOOKUP(N2481,'Единицы измерения'!A:B,2,0),"") -> 422ad51a-63b6-11ec-84cc-00505695a409 | P2481: 0 | Q2481: 0 | R2481: не более 2 | T2481: Соответствует | U2481: =IFERROR(VLOOKUP(T2481,[1]Соответствие!A:B,2,0),"") -> 550e8400-e29b-41d4-a716-446655440000
A2482: МУП "Водоканал" МО г. Канаш Чувашская Республика | B2482: 2123019326 | C2482: 97707000001.10110.1700 | D2482: Чувашская Республика - Чувашия | E2482: =IFERROR(VLOOKUP(D2482,'регионы и районы'!B:C,2,0),"") -> e38752c8-52ed-11ec-8de8-00505695a409 | F2482: Канашский муниципальный округ | G2482: {=IFERROR(IF(INDEX('регионы и районы'!L:L,MATCH(1,('регионы и районы'!J:J=D2482)*('регионы и районы'!K:K=F2482),0))=0,"",INDEX('регионы и районы'!L:L,MATCH(1,('регионы и районы'!J:J=D2482)*('регионы и районы'!K:K=F2482),0))),"")} -> 2265bfde-538e-11ec-84d7-00505695a409 | I2482: город Канаш | J2482: 429334, Чувашская Республика - Чувашия, Канаш г, Ленина пр-кт, дом 36 | K2482: 45966 | L2482: Привкус | M2482: =IFERROR(VLOOKUP(L2482,Показатели!G:H,2,0),"") -> b0328074-8646-11eb-9796-0200c6dd82e6 | N2482: =IFERROR(VLOOKUP(Шаблон!L2482,Списки!$A$2:$B$236,2,FALSE),"") -> балл | O2482: =IFERROR(VLOOKUP(N2482,'Единицы измерения'!A:B,2,0),"") -> 422ad51a-63b6-11ec-84cc-00505695a409 | P2482: 0 | Q2482: 0 | R2482: не более 2 | T2482: Соответствует | U2482: =IFERROR(VLOOKUP(T2482,[1]Соответствие!A:B,2,0),"") -> 550e8400-e29b-41d4-a716-446655440000
... A2534: МУП "Водоканал" МО г. Канаш Чувашская Республика | B2534: 2123019326 | C2534: 97707000.10110.0200 | D2534: Чувашская Республика - Чувашия | E2534: =IFERROR(VLOOKUP(D2534,'регионы и районы'!B:C,2,0),"") -> e38752c8-52ed-11ec-8de8-00505695a409 | F2534: Канашский муниципальный округ | G2534: {=IFERROR(IF(INDEX('регионы и районы'!L:L,MATCH(1,('регионы и районы'!J:J=D2534)*('регионы и районы'!K:K=F2534),0))=0,"",INDEX('регионы и районы'!L:L,MATCH(1,('регионы и районы'!J:J=D2534)*('регионы и районы'!K:K=F2534),0))),"")} -> 2265bfde-538e-11ec-84d7-00505695a409 | I2534: город Канаш | J2534: 429333, Чувашская Республика - Чувашия, Канаш г, Ибресинское ш, дом 1 | K2534: 45967 | L2534: Привкус | M2534: =IFERROR(VLOOKUP(L2534,Показатели!G:H,2,0),"") -> b0328074-8646-11eb-9796-0200c6dd82e6 | N2534: =IFERROR(VLOOKUP(Шаблон!L2534,Списки!$A$2:$B$236,2,FALSE),"") -> балл | O2534: =IFERROR(VLOOKUP(N2534,'Единицы измерения'!A:B,2,0),"") -> 422ad51a-63b6-11ec-84cc-00505695a409 | P2534: 0 | Q2534: 0 | R2534: не более 2 | T2534: Соответствует | U2534: =IFERROR(VLOOKUP(T2534,[1]Соответствие!A:B,2,0),"") -> 550e8400-e29b-41d4-a716-446655440000
A2535: МУП "Водоканал" МО г. Канаш Чувашская Республика | B2535: 2123019326 | C2535: 97707000.10110.0200 | D2535: Чувашская Республика - Чувашия | E2535: =IFERROR(VLOOKUP(D2535,'регионы и районы'!B:C,2,0),"") -> e38752c8-52ed-11ec-8de8-00505695a409 | F2535: Канашский муниципальный округ | G2535: {=IFERROR(IF(INDEX('регионы и районы'!L:L,MATCH(1,('регионы и районы'!J:J=D2535)*('регионы и районы'!K:K=F2535),0))=0,"",INDEX('регионы и районы'!L:L,MATCH(1,('регионы и районы'!J:J=D2535)*('регионы и районы'!K:K=F2535),0))),"")} -> 2265bfde-538e-11ec-84d7-00505695a409 | I2535: город Канаш | J2535: 429333, Чувашская Республика - Чувашия, Канаш г, Ибресинское ш, дом 1 | K2535: 45967 | L2535: Общее микробное число (ОМЧ) (37 ± 1,0) °C | M2535: =IFERROR(VLOOKUP(L2535,Показатели!G:H,2,0),"") -> 80364326-22ec-11ed-9c28-005056958e11 | O2535: =IFERROR(VLOOKUP(N2535,'Единицы измерения'!A:B,2,0),"") | P2535: 1 | Q2535: 0 | R2535: не более 50 | T2535: Соответствует | U2535: =IFERROR(VLOOKUP(T2535,[1]Соответствие!A:B,2,0),"") -> 550e8400-e29b-41d4-a716-446655440000
A2536: МУП "Водоканал" МО г. Канаш Чувашская Республика | B2536: 2123019326 | C2536: 97707000.10110.0200 | D2536: Чувашская Республика - Чувашия | E2536: =IFERROR(VLOOKUP(D2536,'регионы и районы'!B:C,2,0),"") -> e38752c8-52ed-11ec-8de8-00505695a409 | F2536: Канашский муниципальный округ | G2536: {=IFERROR(IF(INDEX('регионы и районы'!L:L,MATCH(1,('регионы и районы'!J:J=D2536)*('регионы и районы'!K:K=F2536),0))=0,"",INDEX('регионы и районы'!L:L,MATCH(1,('регионы и районы'!J:J=D2536)*('регионы и районы'!K:K=F2536),0))),"")} -> 2265bfde-538e-11ec-84d7-00505695a409 | I2536: город Канаш | J2536: 429333, Чувашская Республика - Чувашия, Канаш г, Ибресинское ш, дом 1 | K2536: 45967 | L2536: Обобщенные колиформные бактерии | M2536: =IFERROR(VLOOKUP(L2536,Показатели!G:H,2,0),"") -> 6f2e2ad4-67a9-11ec-9e76-00505695a409 | N2536: =IFERROR(VLOOKUP(Шаблон!L2536,Списки!$A$2:$B$236,2,FALSE),"") -> КОЕ/100см^3 | O2536: =IFERROR(VLOOKUP(N2536,'Единицы измерения'!A:B,2,0),"") -> 402b8a3e-63b6-11ec-84cc-00505695a409 | P2536: 0 | Q2536: 0 | R2536: 0 | T2536: Соответствует | U2536: =IFERROR(VLOOKUP(T2536,[1]Соответствие!A:B,2,0),"") -> 550e8400-e29b-41d4-a716-446655440000
A2537: МУП "Водоканал" МО г. Канаш Чувашская Республика | B2537: 2123019326 | C2537: 97707000.10110.0200 | D2537: Чувашская Республика - Чувашия | E2537: =IFERROR(VLOOKUP(D2537,'регионы и районы'!B:C,2,0),"") -> e38752c8-52ed-11ec-8de8-00505695a409 | F2537: Канашский муниципальный округ | G2537: {=IFERROR(IF(INDEX('регионы и районы'!L:L,MATCH(1,('регионы и районы'!J:J=D2537)*('регионы и районы'!K:K=F2537),0))=0,"",INDEX('регионы и районы'!L:L,MATCH(1,('регионы и районы'!J:J=D2537)*('регионы и районы'!K:K=F2537),0))),"")} -> 2265bfde-538e-11ec-84d7-00505695a409 | I2537: город Канаш | J2537: 429333, Чувашская Республика - Чувашия, Канаш г, Ибресинское ш, дом 1 | K2537: 45967 | L2537: Escherichia coli (E. coli) | M2537: =IFERROR(VLOOKUP(L2537,Показатели!G:H,2,0),"") -> 47e5cfe8-1174-11ed-84e0-005056958e11 | N2537: =IFERROR(VLOOKUP(Шаблон!L2537,Списки!$A$2:$B$236,2,FALSE),"") -> КОЕ/100см^3 | O2537: =IFERROR(VLOOKUP(N2537,'Единицы измерения'!A:B,2,0),"") -> 402b8a3e-63b6-11ec-84cc-00505695a409 | P2537: 0 | Q2537: 0 | R2537: 0 | T2537: Соответствует | U2537: =IFERROR(VLOOKUP(T2537,[1]Соответствие!A:B,2,0),"") -> 550e8400-e29b-41d4-a716-446655440000
A2538: МУП "Водоканал" МО г. Канаш Чувашская Республика | B2538: 2123019326 | C2538: 97707000.10110.0200 | D2538: Чувашская Республика - Чувашия | E2538: =IFERROR(VLOOKUP(D2538,'регионы и районы'!B:C,2,0),"") -> e38752c8-52ed-11ec-8de8-00505695a409 | F2538: Канашский муниципальный округ | G2538: {=IFERROR(IF(INDEX('регионы и районы'!L:L,MATCH(1,('регионы и районы'!J:J=D2538)*('регионы и районы'!K:K=F2538),0))=0,"",INDEX('регионы и районы'!L:L,MATCH(1,('регионы и районы'!J:J=D2538)*('регионы и районы'!K:K=F2538),0))),"")} -> 2265bfde-538e-11ec-84d7-00505695a409 | I2538: город Канаш | J2538: 429333, Чувашская Республика - Чувашия, Канаш г, Ибресинское ш, дом 1 | K2538: 45967 | L2538: Энтерококки | M2538: =IFERROR(VLOOKUP(L2538,Показатели!G:H,2,0),"") -> ad488eee-8646-11eb-9796-0200c6dd82e6 | N2538: =IFERROR(VLOOKUP(Шаблон!L2538,Списки!$A$2:$B$236,2,FALSE),"") -> КОЕ/100см^3 | O2538: =IFERROR(VLOOKUP(N2538,'Единицы измерения'!A:B,2,0),"") -> 402b8a3e-63b6-11ec-84cc-00505695a409 | P2538: 0 | Q2538: 0 | R2538: 0 | T2538: Соответствует | U2538: =IFERROR(VLOOKUP(T2538,[1]Соответствие!A:B,2,0),"") -> 550e8400-e29b-41d4-a716-446655440000
A2539: МУП "Водоканал" МО г. Канаш Чувашская Республика | B2539: 2123019326 | C2539: 97707000.10110.0200 | D2539: Чувашская Республика - Чувашия | E2539: =IFERROR(VLOOKUP(D2539,'регионы и районы'!B:C,2,0),"") -> e38752c8-52ed-11ec-8de8-00505695a409 | F2539: Канашский муниципальный округ | G2539: {=IFERROR(IF(INDEX('регионы и районы'!L:L,MATCH(1,('регионы и районы'!J:J=D2539)*('регионы и районы'!K:K=F2539),0))=0,"",INDEX('регионы и районы'!L:L,MATCH(1,('регионы и районы'!J:J=D2539)*('регионы и районы'!K:K=F2539),0))),"")} -> 2265bfde-538e-11ec-84d7-00505695a409 | I2539: город Канаш | J2539: 429333, Чувашская Республика - Чувашия, Канаш г, Ибресинское ш, дом 1 | K2539: 45967 | L2539: Хлор остаточный общий | M2539: =IFERROR(VLOOKUP(L2539,Показатели!G:H,2,0),"") -> a2e6af26-8646-11eb-9796-0200c6dd82e6 | N2539: =IFERROR(VLOOKUP(Шаблон!L2539,Списки!$A$2:$B$236,2,FALSE),"") -> мг/л | O2539: =IFERROR(VLOOKUP(N2539,'Единицы измерения'!A:B,2,0),"") -> 398e5cb0-63b6-11ec-84cc-00505695a409 | P2539: 0.15 | Q2539: 0.05 | R2539: не более 1,2 | T2539: Соответствует | U2539: =IFERROR(VLOOKUP(T2539,[1]Соответствие!A:B,2,0),"") -> 550e8400-e29b-41d4-a716-446655440000
A2540: МУП "Водоканал" МО г. Канаш Чувашская Республика | B2540: 2123019326 | C2540: 97707000.10150.1000 | D2540: Чувашская Республика - Чувашия | E2540: =IFERROR(VLOOKUP(D2540,'регионы и районы'!B:C,2,0),"") -> e38752c8-52ed-11ec-8de8-00505695a409 | F2540: Канашский муниципальный округ | G2540: {=IFERROR(IF(INDEX('регионы и районы'!L:L,MATCH(1,('регионы и районы'!J:J=D2540)*('регионы и районы'!K:K=F2540),0))=0,"",INDEX('регионы и районы'!L:L,MATCH(1,('регионы и районы'!J:J=D2540)*('регионы и районы'!K:K=F2540),0))),"")} -> 2265bfde-538e-11ec-84d7-00505695a409 | I2540: город Канаш | J2540: 429335, Чувашская Республика - Чувашия, Канаш г, Северная ул | K2540: 45967 | L2540: Цветность | M2540: =IFERROR(VLOOKUP(L2540,Показатели!G:H,2,0),"") -> aeb0c77e-8646-11eb-9796-0200c6dd82e6 | N2540: =IFERROR(VLOOKUP(Шаблон!L2540,Списки!$A$2:$B$236,2,FALSE),"") -> градус цветности | O2540: =IFERROR(VLOOKUP(N2540,'Единицы измерения'!A:B,2,0),"") -> 4c6af712-63b6-11ec-84cc-00505695a409 | P2540: 5 | Q2540: 1.5 | R2540: не более 20 | T2540: Соответствует | U2540: =IFERROR(VLOOKUP(T2540,[1]Соответствие!A:B,2,0),"") -> 550e8400-e29b-41d4-a716-446655440000
A2541: МУП "Водоканал" МО г. Канаш Чувашская Республика | B2541: 2123019326 | C2541: 97707000.10150.1000 | D2541: Чувашская Республика - Чувашия | E2541: =IFERROR(VLOOKUP(D2541,'регионы и районы'!B:C,2,0),"") -> e38752c8-52ed-11ec-8de8-00505695a409 | F2541: Канашский муниципальный округ | G2541: {=IFERROR(IF(INDEX('регионы и районы'!L:L,MATCH(1,('регионы и районы'!J:J=D2541)*('регионы и районы'!K:K=F2541),0))=0,"",INDEX('регионы и районы'!L:L,MATCH(1,('регионы и районы'!J:J=D2541)*('регионы и районы'!K:K=F2541),0))),"")} -> 2265bfde-538e-11ec-84d7-00505695a409 | I2541: город Канаш | J2541: 429335, Чувашская Республика - Чувашия, Канаш г, Северная ул | K2541: 45967 | L2541: Мутность (по каолину) | M2541: =IFERROR(VLOOKUP(L2541,Показатели!G:H,2,0),"") -> a0a95056-8646-11eb-9796-0200c6dd82e6 | N2541: =IFERROR(VLOOKUP(Шаблон!L2541,Списки!$A$2:$B$236,2,FALSE),"") -> мг/л | O2541: =IFERROR(VLOOKUP(N2541,'Единицы измерения'!A:B,2,0),"") -> 398e5cb0-63b6-11ec-84cc-00505695a409 | P2541: 0 | Q2541: 0 | R2541: не более 1,5 | T2541: Соответствует | U2541: =IFERROR(VLOOKUP(T2541,[1]Соответствие!A:B,2,0),"") -> 550e8400-e29b-41d4-a716-446655440000
A2542: МУП "Водоканал" МО г. Канаш Чувашская Республика | B2542: 2123019326 | C2542: 97707000.10150.1000 | D2542: Чувашская Республика - Чувашия | E2542: =IFERROR(VLOOKUP(D2542,'регионы и районы'!B:C,2,0),"") -> e38752c8-52ed-11ec-8de8-00505695a409 | F2542: Канашский муниципальный округ | G2542: {=IFERROR(IF(INDEX('регионы и районы'!L:L,MATCH(1,('регионы и районы'!J:J=D2542)*('регионы и районы'!K:K=F2542),0))=0,"",INDEX('регионы и районы'!L:L,MATCH(1,('регионы и районы'!J:J=D2542)*('регионы и районы'!K:K=F2542),0))),"")} -> 2265bfde-538e-11ec-84d7-00505695a409 | I2542: город Канаш | J2542: 429335, Чувашская Республика - Чувашия, Канаш г, Северная ул | K2542: 45967 | L2542: Запах | M2542: =IFERROR(VLOOKUP(L2542,Показатели!G:H,2,0),"") -> b13d6092-8646-11eb-9796-0200c6dd82e6 | N2542: =IFERROR(VLOOKUP(Шаблон!L2542,Списки!$A$2:$B$236,2,FALSE),"") -> балл | O2542: =IFERROR(VLOOKUP(N2542,'Единицы измерения'!A:B,2,0),"") -> 422ad51a-63b6-11ec-84cc-00505695a409 | P2542: 0 | Q2542: 0 | R2542: не более 2 | T2542: Соответствует | U2542: =IFERROR(VLOOKUP(T2542,[1]Соответствие!A:B,2,0),"") -> 550e8400-e29b-41d4-a716-446655440000
A2543: МУП "Водоканал" МО г. Канаш Чувашская Республика | B2543: 2123019326 | C2543: 97707000.10150.1000 | D2543: Чувашская Республика - Чувашия | E2543: =IFERROR(VLOOKUP(D2543,'регионы и районы'!B:C,2,0),"") -> e38752c8-52ed-11ec-8de8-00505695a409 | F2543: Канашский муниципальный округ | G2543: {=IFERROR(IF(INDEX('регионы и районы'!L:L,MATCH(1,('регионы и районы'!J:J=D2543)*('регионы и районы'!K:K=F2543),0))=0,"",INDEX('регионы и районы'!L:L,MATCH(1,('регионы и районы'!J:J=D2543)*('регионы и районы'!K:K=F2543),0))),"")} -> 2265bfde-538e-11ec-84d7-00505695a409 | I2543: город Канаш | J2543: 429335, Чувашская Республика - Чувашия, Канаш г, Северная ул | K2543: 45967 | L2543: Привкус | M2543: =IFERROR(VLOOKUP(L2543,Показатели!G:H,2,0),"") -> b0328074-8646-11eb-9796-0200c6dd82e6 | N2543: =IFERROR(VLOOKUP(Шаблон!L2543,Списки!$A$2:$B$236,2,FALSE),"") -> балл | O2543: =IFERROR(VLOOKUP(N2543,'Единицы измерения'!A:B,2,0),"") -> 422ad51a-63b6-11ec-84cc-00505695a409 | P2543: 0 | Q2543: 0 | R2543: не более 2 | T2543: Соответствует | U2543: =IFERROR(VLOOKUP(T2543,[1]Соответствие!A:B,2,0),"") -> 550e8400-e29b-41d4-a716-446655440000
A2544: МУП "Водоканал" МО г. Канаш Чувашская Республика | B2544: 2123019326 | C2544: 97707000.10150.1000 | D2544: Чувашская Республика - Чувашия | E2544: =IFERROR(VLOOKUP(D2544,'регионы и районы'!B:C,2,0),"") -> e38752c8-52ed-11ec-8de8-00505695a409 | F2544: Канашский муниципальный округ | G2544: {=IFERROR(IF(INDEX('регионы и районы'!L:L,MATCH(1,('регионы и районы'!J:J=D2544)*('регионы и районы'!K:K=F2544),0))=0,"",INDEX('регионы и районы'!L:L,MATCH(1,('регионы и районы'!J:J=D2544)*('регионы и районы'!K:K=F2544),0))),"")} -> 2265bfde-538e-11ec-84d7-00505695a409 | I2544: город Канаш | J2544: 429335, Чувашская Республика - Чувашия, Канаш г, Северная ул | K2544: 45967 | L2544: Общее микробное число (ОМЧ) (37 ± 1,0) °C | M2544: =IFERROR(VLOOKUP(L2544,Показатели!G:H,2,0),"") -> 80364326-22ec-11ed-9c28-005056958e11 | N2544: =IFERROR(VLOOKUP(Шаблон!L2544,Списки!$A$2:$B$236,2,FALSE),"") -> КОЕ/см^3 | O2544: =IFERROR(VLOOKUP(N2544,'Единицы измерения'!A:B,2,0),"") -> 3f17228e-63b6-11ec-84cc-00505695a409 | P2544: 0 | Q2544: 0 | R2544: не более 50 | T2544: Соответствует | U2544: =IFERROR(VLOOKUP(T2544,[1]Соответствие!A:B,2,0),"") -> 550e8400-e29b-41d4-a716-446655440000
A2545: МУП "Водоканал" МО г. Канаш Чувашская Республика | B2545: 2123019326 | C2545: 97707000.10150.1000 | D2545: Чувашская Республика - Чувашия | E2545: =IFERROR(VLOOKUP(D2545,'регионы и районы'!B:C,2,0),"") -> e38752c8-52ed-11ec-8de8-00505695a409 | F2545: Канашский муниципальный округ | G2545: {=IFERROR(IF(INDEX('регионы и районы'!L:L,MATCH(1,('регионы и районы'!J:J=D2545)*('регионы и районы'!K:K=F2545),0))=0,"",INDEX('регионы и районы'!L:L,MATCH(1,('регионы и районы'!J:J=D2545)*('регионы и районы'!K:K=F2545),0))),"")} -> 2265bfde-538e-11ec-84d7-00505695a409 | I2545: город Канаш | J2545: 429335, Чувашская Республика - Чувашия, Канаш г, Северная ул | K2545: 45967 | L2545: Обобщенные колиформные бактерии | M2545: =IFERROR(VLOOKUP(L2545,Показатели!G:H,2,0),"") -> 6f2e2ad4-67a9-11ec-9e76-00505695a409 | N2545: =IFERROR(VLOOKUP(Шаблон!L2545,Списки!$A$2:$B$236,2,FALSE),"") -> КОЕ/100см^3 | O2545: =IFERROR(VLOOKUP(N2545,'Единицы измерения'!A:B,2,0),"") -> 402b8a3e-63b6-11ec-84cc-00505695a409 | P2545: 0 | Q2545: 0 | R2545: 0 | T2545: Соответствует | U2545: =IFERROR(VLOOKUP(T2545,[1]Соответствие!A:B,2,0),"") -> 550e8400-e29b-41d4-a716-446655440000
A2546: МУП "Водоканал" МО г. Канаш Чувашская Республика | B2546: 2123019326 | C2546: 97707000.10150.1000 | D2546: Чувашская Республика - Чувашия | E2546: =IFERROR(VLOOKUP(D2546,'регионы и районы'!B:C,2,0),"") -> e38752c8-52ed-11ec-8de8-00505695a409 | F2546: Канашский муниципальный округ | G2546: {=IFERROR(IF(INDEX('регионы и районы'!L:L,MATCH(1,('регионы и районы'!J:J=D2546)*('регионы и районы'!K:K=F2546),0))=0,"",INDEX('регионы и районы'!L:L,MATCH(1,('регионы и районы'!J:J=D2546)*('регионы и районы'!K:K=F2546),0))),"")} -> 2265bfde-538e-11ec-84d7-00505695a409 | I2546: город Канаш | J2546: 429335, Чувашская Республика - Чувашия, Канаш г, Северная ул | K2546: 45967 | L2546: Escherichia coli (E. coli) | M2546: =IFERROR(VLOOKUP(L2546,Показатели!G:H,2,0),"") -> 47e5cfe8-1174-11ed-84e0-005056958e11 | N2546: =IFERROR(VLOOKUP(Шаблон!L2546,Списки!$A$2:$B$236,2,FALSE),"") -> КОЕ/100см^3 | O2546: =IFERROR(VLOOKUP(N2546,'Единицы измерения'!A:B,2,0),"") -> 402b8a3e-63b6-11ec-84cc-00505695a409 | P2546: 0 | Q2546: 0 | R2546: 0 | T2546: Соответствует | U2546: =IFERROR(VLOOKUP(T2546,[1]Соответствие!A:B,2,0),"") -> 550e8400-e29b-41d4-a716-446655440000
A2547: МУП "Водоканал" МО г. Канаш Чувашская Республика | B2547: 2123019326 | C2547: 97707000.10150.1000 | D2547: Чувашская Республика - Чувашия | E2547: =IFERROR(VLOOKUP(D2547,'регионы и районы'!B:C,2,0),"") -> e38752c8-52ed-11ec-8de8-00505695a409 | F2547: Канашский муниципальный округ | G2547: {=IFERROR(IF(INDEX('регионы и районы'!L:L,MATCH(1,('регионы и районы'!J:J=D2547)*('регионы и районы'!K:K=F2547),0))=0,"",INDEX('регионы и районы'!L:L,MATCH(1,('регионы и районы'!J:J=D2547)*('регионы и районы'!K:K=F2547),0))),"")} -> 2265bfde-538e-11ec-84d7-00505695a409 | I2547: город Канаш | J2547: 429335, Чувашская Республика - Чувашия, Канаш г, Северная ул | K2547: 45967 | L2547: Энтерококки | M2547: =IFERROR(VLOOKUP(L2547,Показатели!G:H,2,0),"") -> ad488eee-8646-11eb-9796-0200c6dd82e6 | N2547: =IFERROR(VLOOKUP(Шаблон!L2547,Списки!$A$2:$B$236,2,FALSE),"") -> КОЕ/100см^3 | O2547: =IFERROR(VLOOKUP(N2547,'Единицы измерения'!A:B,2,0),"") -> 402b8a3e-63b6-11ec-84cc-00505695a409 | P2547: 0 | Q2547: 0 | R2547: 0 | T2547: Соответствует | U2547: =IFERROR(VLOOKUP(T2547,[1]Соответствие!A:B,2,0),"") -> 550e8400-e29b-41d4-a716-446655440000
... A3097: МУП "Водоканал" МО г. Канаш Чувашская Республика | B3097: 2123019326 | C3097: 97516000276.10150.1000 | D3097: Чувашская Республика - Чувашия | E3097: =IFERROR(VLOOKUP(D3097,'регионы и районы'!B:C,2,0),"") -> e38752c8-52ed-11ec-8de8-00505695a409 | F3097: Канашский муниципальный округ | G3097: {=IFERROR(IF(INDEX('регионы и районы'!L:L,MATCH(1,('регионы и районы'!J:J=D3097)*('регионы и районы'!K:K=F3097),0))=0,"",INDEX('регионы и районы'!L:L,MATCH(1,('регионы и районы'!J:J=D3097)*('регионы и районы'!K:K=F3097),0))),"")} -> 2265bfde-538e-11ec-84d7-00505695a409 | I3097: город Канаш | J3097: 429320, Чувашская Республика - Чувашия, Канашский, Келте-Сюле д | K3097: 45968 | L3097: Общий органический углерод | M3097: =IFERROR(VLOOKUP(L3097,Показатели!G:H,2,0),"") -> 6f6660ca-67a9-11ec-9e76-00505695a409 | N3097: =IFERROR(VLOOKUP(Шаблон!L3097,Списки!$A$2:$B$236,2,FALSE),"") -> мг/дм^3 | O3097: =IFERROR(VLOOKUP(N3097,'Единицы измерения'!A:B,2,0),"") -> 3a3d90cc-63b6-11ec-84cc-00505695a409 | P3097: 2.3 | Q3097: 0.5 | R3097: не более 5,0 | T3097: Соответствует | U3097: =IFERROR(VLOOKUP(T3097,[1]Соответствие!A:B,2,0),"") -> 550e8400-e29b-41d4-a716-446655440000
E3098: =IFERROR(VLOOKUP(D3098,'регионы и районы'!B:C,2,0),"") | G3098: {=IFERROR(IF(INDEX('регионы и районы'!L:L,MATCH(1,('регионы и районы'!J:J=D3098)*('регионы и районы'!K:K=F3098),0))=0,"",INDEX('регионы и районы'!L:L,MATCH(1,('регионы и районы'!J:J=D3098)*('регионы и районы'!K:K=F3098),0))),"")} | M3098: =IFERROR(VLOOKUP(L3098,Показатели!G:H,2,0),"") | N3098: =IFERROR(VLOOKUP(Шаблон!L3098,Списки!$A$2:$B$236,2,FALSE),"") | O3098: =IFERROR(VLOOKUP(N3098,'Единицы измерения'!A:B,2,0),"") | U3098: =IFERROR(VLOOKUP(T3098,[1]Соответствие!A:B,2,0),"")
E3099: =IFERROR(VLOOKUP(D3099,'регионы и районы'!B:C,2,0),"") | G3099: {=IFERROR(IF(INDEX('регионы и районы'!L:L,MATCH(1,('регионы и районы'!J:J=D3099)*('регионы и районы'!K:K=F3099),0))=0,"",INDEX('регионы и районы'!L:L,MATCH(1,('регионы и районы'!J:J=D3099)*('регионы и районы'!K:K=F3099),0))),"")} | M3099: =IFERROR(VLOOKUP(L3099,Показатели!G:H,2,0),"") | N3099: =IFERROR(VLOOKUP(Шаблон!L3099,Списки!$A$2:$B$236,2,FALSE),"") | O3099: =IFERROR(VLOOKUP(N3099,'Единицы измерения'!A:B,2,0),"") | U3099: =IFERROR(VLOOKUP(T3099,[1]Соответствие!A:B,2,0),"")
E3100: =IFERROR(VLOOKUP(D3100,'регионы и районы'!B:C,2,0),"") | G3100: {=IFERROR(IF(INDEX('регионы и районы'!L:L,MATCH(1,('регионы и районы'!J:J=D3100)*('регионы и районы'!K:K=F3100),0))=0,"",INDEX('регионы и районы'!L:L,MATCH(1,('регионы и районы'!J:J=D3100)*('регионы и районы'!K:K=F3100),0))),"")} | M3100: =IFERROR(VLOOKUP(L3100,Показатели!G:H,2,0),"") | N3100: =IFERROR(VLOOKUP(Шаблон!L3100,Списки!$A$2:$B$236,2,FALSE),"") | O3100: =IFERROR(VLOOKUP(N3100,'Единицы измерения'!A:B,2,0),"") | U3100: =IFERROR(VLOOKUP(T3100,[1]Соответствие!A:B,2,0),"")
E3101: =IFERROR(VLOOKUP(D3101,'регионы и районы'!B:C,2,0),"") | G3101: {=IFERROR(IF(INDEX('регионы и районы'!L:L,MATCH(1,('регионы и районы'!J:J=D3101)*('регионы и районы'!K:K=F3101),0))=0,"",INDEX('регионы и районы'!L:L,MATCH(1,('регионы и районы'!J:J=D3101)*('регионы и районы'!K:K=F3101),0))),"")} | M3101: =IFERROR(VLOOKUP(L3101,Показатели!G:H,2,0),"") | N3101: =IFERROR(VLOOKUP(Шаблон!L3101,Списки!$A$2:$B$236,2,FALSE),"") | O3101: =IFERROR(VLOOKUP(N3101,'Единицы измерения'!A:B,2,0),"") | U3101: =IFERROR(VLOOKUP(T3101,[1]Соответствие!A:B,2,0),"")
E3102: =IFERROR(VLOOKUP(D3102,'регионы и районы'!B:C,2,0),"") | G3102: {=IFERROR(IF(INDEX('регионы и районы'!L:L,MATCH(1,('регионы и районы'!J:J=D3102)*('регионы и районы'!K:K=F3102),0))=0,"",INDEX('регионы и районы'!L:L,MATCH(1,('регионы и районы'!J:J=D3102)*('регионы и районы'!K:K=F3102),0))),"")} | M3102: =IFERROR(VLOOKUP(L3102,Показатели!G:H,2,0),"") | N3102: =IFERROR(VLOOKUP(Шаблон!L3102,Списки!$A$2:$B$236,2,FALSE),"") | O3102: =IFERROR(VLOOKUP(N3102,'Единицы измерения'!A:B,2,0),"") | U3102: =IFERROR(VLOOKUP(T3102,[1]Соответствие!A:B,2,0),"")
E3103: =IFERROR(VLOOKUP(D3103,'регионы и районы'!B:C,2,0),"") | G3103: {=IFERROR(IF(INDEX('регионы и районы'!L:L,MATCH(1,('регионы и районы'!J:J=D3103)*('регионы и районы'!K:K=F3103),0))=0,"",INDEX('регионы и районы'!L:L,MATCH(1,('регионы и районы'!J:J=D3103)*('регионы и районы'!K:K=F3103),0))),"")} | M3103: =IFERROR(VLOOKUP(L3103,Показатели!G:H,2,0),"") | N3103: =IFERROR(VLOOKUP(Шаблон!L3103,Списки!$A$2:$B$236,2,FALSE),"") | O3103: =IFERROR(VLOOKUP(N3103,'Единицы измерения'!A:B,2,0),"") | U3103: =IFERROR(VLOOKUP(T3103,[1]Соответствие!A:B,2,0),"")
E3104: =IFERROR(VLOOKUP(D3104,'регионы и районы'!B:C,2,0),"") | G3104: {=IFERROR(IF(INDEX('регионы и районы'!L:L,MATCH(1,('регионы и районы'!J:J=D3104)*('регионы и районы'!K:K=F3104),0))=0,"",INDEX('регионы и районы'!L:L,MATCH(1,('регионы и районы'!J:J=D3104)*('регионы и районы'!K:K=F3104),0))),"")} | M3104: =IFERROR(VLOOKUP(L3104,Показатели!G:H,2,0),"") | N3104: =IFERROR(VLOOKUP(Шаблон!L3104,Списки!$A$2:$B$236,2,FALSE),"") | O3104: =IFERROR(VLOOKUP(N3104,'Единицы измерения'!A:B,2,0),"") | U3104: =IFERROR(VLOOKUP(T3104,[1]Соответствие!A:B,2,0),"")
E3105: =IFERROR(VLOOKUP(D3105,'регионы и районы'!B:C,2,0),"") | G3105: {=IFERROR(IF(INDEX('регионы и районы'!L:L,MATCH(1,('регионы и районы'!J:J=D3105)*('регионы и районы'!K:K=F3105),0))=0,"",INDEX('регионы и районы'!L:L,MATCH(1,('регионы и районы'!J:J=D3105)*('регионы и районы'!K:K=F3105),0))),"")} | M3105: =IFERROR(VLOOKUP(L3105,Показатели!G:H,2,0),"") | N3105: =IFERROR(VLOOKUP(Шаблон!L3105,Списки!$A$2:$B$236,2,FALSE),"") | O3105: =IFERROR(VLOOKUP(N3105,'Единицы измерения'!A:B,2,0),"") | U3105: =IFERROR(VLOOKUP(T3105,[1]Соответствие!A:B,2,0),"")
E3106: =IFERROR(VLOOKUP(D3106,'регионы и районы'!B:C,2,0),"") | G3106: {=IFERROR(IF(INDEX('регионы и районы'!L:L,MATCH(1,('регионы и районы'!J:J=D3106)*('регионы и районы'!K:K=F3106),0))=0,"",INDEX('регионы и районы'!L:L,MATCH(1,('регионы и районы'!J:J=D3106)*('регионы и районы'!K:K=F3106),0))),"")} | M3106: =IFERROR(VLOOKUP(L3106,Показатели!G:H,2,0),"") | N3106: =IFERROR(VLOOKUP(Шаблон!L3106,Списки!$A$2:$B$236,2,FALSE),"") | O3106: =IFERROR(VLOOKUP(N3106,'Единицы измерения'!A:B,2,0),"") | U3106: =IFERROR(VLOOKUP(T3106,[1]Соответствие!A:B,2,0),"")
E3107: =IFERROR(VLOOKUP(D3107,'регионы и районы'!B:C,2,0),"") | G3107: {=IFERROR(IF(INDEX('регионы и районы'!L:L,MATCH(1,('регионы и районы'!J:J=D3107)*('регионы и районы'!K:K=F3107),0))=0,"",INDEX('регионы и районы'!L:L,MATCH(1,('регионы и районы'!J:J=D3107)*('регионы и районы'!K:K=F3107),0))),"")} | M3107: =IFERROR(VLOOKUP(L3107,Показатели!G:H,2,0),"") | N3107: =IFERROR(VLOOKUP(Шаблон!L3107,Списки!$A$2:$B$236,2,FALSE),"") | O3107: =IFERROR(VLOOKUP(N3107,'Единицы измерения'!A:B,2,0),"") | U3107: =IFERROR(VLOOKUP(T3107,[1]Соответствие!A:B,2,0),"")
E3108: =IFERROR(VLOOKUP(D3108,'регионы и районы'!B:C,2,0),"") | G3108: {=IFERROR(IF(INDEX('регионы и районы'!L:L,MATCH(1,('регионы и районы'!J:J=D3108)*('регионы и районы'!K:K=F3108),0))=0,"",INDEX('регионы и районы'!L:L,MATCH(1,('регионы и районы'!J:J=D3108)*('регионы и районы'!K:K=F3108),0))),"")} | M3108: =IFERROR(VLOOKUP(L3108,Показатели!G:H,2,0),"") | N3108: =IFERROR(VLOOKUP(Шаблон!L3108,Списки!$A$2:$B$236,2,FALSE),"") | O3108: =IFERROR(VLOOKUP(N3108,'Единицы измерения'!A:B,2,0),"") | U3108: =IFERROR(VLOOKUP(T3108,[1]Соответствие!A:B,2,0),"")
E3109: =IFERROR(VLOOKUP(D3109,'регионы и районы'!B:C,2,0),"") | G3109: {=IFERROR(IF(INDEX('регионы и районы'!L:L,MATCH(1,('регионы и районы'!J:J=D3109)*('регионы и районы'!K:K=F3109),0))=0,"",INDEX('регионы и районы'!L:L,MATCH(1,('регионы и районы'!J:J=D3109)*('регионы и районы'!K:K=F3109),0))),"")} | M3109: =IFERROR(VLOOKUP(L3109,Показатели!G:H,2,0),"") | N3109: =IFERROR(VLOOKUP(Шаблон!L3109,Списки!$A$2:$B$236,2,FALSE),"") | O3109: =IFERROR(VLOOKUP(N3109,'Единицы измерения'!A:B,2,0),"") | U3109: =IFERROR(VLOOKUP(T3109,[1]Соответствие!A:B,2,0),"")
... E3469: =IFERROR(VLOOKUP(D3469,'регионы и районы'!B:C,2,0),"") | G3469: {=IFERROR(IF(INDEX('регионы и районы'!L:L,MATCH(1,('регионы и районы'!J:J=D3469)*('регионы и районы'!K:K=F3469),0))=0,"",INDEX('регионы и районы'!L:L,MATCH(1,('регионы и районы'!J:J=D3469)*('регионы и районы'!K:K=F3469),0))),"")} | M3469: =IFERROR(VLOOKUP(L3469,Показатели!G:H,2,0),"") | N3469: =IFERROR(VLOOKUP(Шаблон!L3469,Списки!$A$2:$B$236,2,FALSE),"") | O3469: =IFERROR(VLOOKUP(N3469,'Единицы измерения'!A:B,2,0),"") | U3469: =IFERROR(VLOOKUP(T3469,[1]Соответствие!A:B,2,0),"")

Sheet Соответствие
A1: Соответствует | B1: 550e8400-e29b-41d4-a716-446655440000
A2: Не соответствует | B2: 6ba7b810-9dad-11d1-80b4-00c04fd430c8

Sheet регионы и районы
A1: # | B1: region | C1: reg_guid | I1: # | J1: region_name | K1: territory_name | L1: territory_guid
A2: 01 | B2: Республика Адыгея | C2: e31eb222-52ed-11ec-8de8-00505695a409 | I2: 1 | J2: Республика Адыгея | K2: город Майкоп | L2: 14804344-538e-11ec-84d7-00505695a409
A3: 02 | B3: Республика Башкортостан | C3: e3247f2c-52ed-11ec-8de8-00505695a409 | I3: 2 | J3: Республика Адыгея | K3: Кошехабльский муниципальный район | L3: 146bae34-538e-11ec-84d7-00505695a409
A4: 03 | B4: Республика Бурятия | C4: e3274f2c-52ed-11ec-8de8-00505695a409 | I4: 3 | J4: Республика Адыгея | K4: Гиагинский муниципальный район | L4: 1465235c-538e-11ec-84d7-00505695a409
A5: 04 | B5: Республика Алтай | C5: e321b864-52ed-11ec-8de8-00505695a409 | I5: 4 | J5: Республика Адыгея | K5: город Адыгейск | L5: 14839a8a-538e-11ec-84d7-00505695a409
A6: 05 | B6: Республика Дагестан | C6: e32a894e-52ed-11ec-8de8-00505695a409 | I6: 5 | J6: Республика Адыгея | K6: Красногвардейский муниципальный район | L6: 146ee626-538e-11ec-84d7-00505695a409
A7: 06 | B7: Республика Ингушетия | C7: e32d89dc-52ed-11ec-8de8-00505695a409 | I7: 6 | J7: Республика Адыгея | K7: Майкопский муниципальный район | L7: 1471eccc-538e-11ec-84d7-00505695a409
A8: 07 | B8: Кабардино-Балкарская Республика | C8: e2c90d18-52ed-11ec-8de8-00505695a409 | I8: 7 | J8: Республика Адыгея | K8: Теучежский муниципальный район | L8: 1478fe7c-538e-11ec-84d7-00505695a409
A9: 08 | B9: Республика Калмыкия | C9: e3309140-52ed-11ec-8de8-00505695a409 | I9: 8 | J9: Республика Адыгея | K9: Шовгеновский муниципальный район | L9: 147c3e16-538e-11ec-84d7-00505695a409
A10: 09 | B10: Карачаево-Черкесская Республика | C10: e2d4f5d8-52ed-11ec-8de8-00505695a409 | I10: 9 | J10: Республика Адыгея | K10: Тахтамукайский муниципальный район | L10: 147563de-538e-11ec-84d7-00505695a409
A11: 10 | B11: Республика Карелия | C11: e33392aa-52ed-11ec-8de8-00505695a409 | I11: 10 | J11: Республика Башкортостан | K11: город Уфа | L11: 1559428e-538e-11ec-84d7-00505695a409
A12: 11 | B12: Республика Коми | C12: e3367cd6-52ed-11ec-8de8-00505695a409 | I12: 11 | J12: Республика Башкортостан | K12: Аскинский муниципальный район | L12: 1507b61c-538e-11ec-84d7-00505695a409
A13: 12 | B13: Республика Марий Эл | C13: e33c6312-52ed-11ec-8de8-00505695a409 | I13: 12 | J13: Республика Башкортостан | K13: Балтачевский муниципальный район | L13: 157ee5ac-538e-11ec-84d7-00505695a409
... A90: 95 | B90: Херсонская область | C90: 0f6077f8-5117-11ed-83a1-00505695a409 | I90: 89 | J90: Республика Бурятия | K90: Кабанский муниципальный район | L90: 15a6af10-538e-11ec-84d7-00505695a409
I91: 90 | J91: Республика Бурятия | K91: Окинский муниципальный район | L91: 15bab7c6-538e-11ec-84d7-00505695a409
I92: 91 | J92: Республика Бурятия | K92: Тункинский муниципальный район | L92: 15cc12be-538e-11ec-84d7-00505695a409
I93: 92 | J93: Республика Бурятия | K93: Селенгинский муниципальный район | L93: 15c54bdc-538e-11ec-84d7-00505695a409
I94: 93 | J94: Республика Бурятия | K94: Тарбагатайский муниципальный район | L94: 15c8d068-538e-11ec-84d7-00505695a409
I95: 94 | J95: Республика Бурятия | K95: Северо-Байкальский муниципальный район | L95: 15c1656c-538e-11ec-84d7-00505695a409
I96: 95 | J96: Республика Бурятия | K96: Хоринский муниципальный район | L96: 15cf5280-538e-11ec-84d7-00505695a409
I97: 96 | J97: Республика Алтай | K97: Онгудайский муниципальный район | L97: 148dfa3e-538e-11ec-84d7-00505695a409
I98: 97 | J98: Республика Алтай | K98: Майминский муниципальный район | L98: 148a8b42-538e-11ec-84d7-00505695a409
I99: 98 | J99: Республика Алтай | K99: город Горно-Алтайск | L99: 14aaea54-538e-11ec-84d7-00505695a409
I100: 99 | J100: Республика Алтай | K100: Кош-Агачский муниципальный район | L100: 14870d32-538e-11ec-84d7-00505695a409
I101: 100 | J101: Республика Алтай | K101: Шебалинский муниципальный район | L101: 14a74a2a-538e-11ec-84d7-00505695a409
I102: 101 | J102: Республика Алтай | K102: Чойский муниципальный район | L102: 14a389f8-538e-11ec-84d7-00505695a409
... I2448: 2447 | J2448: Херсонская область | K2448: Скадовский муниципальный округ | L2448: 27ac19ca-5117-11ed-83a1-00505695a409

Sheet Условия колонок
A1: Колонка | B1: Значение по параметру | C1: Справочник | D1: Обязательность заполнения | E1: Текст ошибки
A2: B | B2: inn | C2: /api/references/water_organization | D2: да
A3: E | B3: regionGUID
A4: G | B4: districtGUID
A5: D | B5: region | D5: да
A6: C | B6: point_code | C6: /api/references/water_utility_points
A7: formTemplateGuid | B7: a21f7aa3-1077-497c-96d8-358085e1fd34 | E7: Данный Excel-шаблон не предназначен для импорта в эту форму. Проверьте правильность шаблона или скачайте его и заполните вновь

Sheet Списки
A1: Показатели | B1: Единицы измерения | C1: Единицы измерения
A2: 1-Метил-N-L-альфа-аспартил-L-фенилаланин15:18 | B2: мг/л | C2: Бк/кг
A3: ДДТ и его метаболиты | B3: мг/дм^3 | C3: балл
A4: Campilobacter | B4: -- | C4: ед. рН
A5: Citrobacter | B5: -- | C5: ЕМФ
A6: Enterobacter | B6: -- | C6: БОЕ/100 см^3
A7: Klebsiella oxytoca | B7: -- | C7: градус цветности
A8: Поллоний-210 | B8: Бк/кг | C8: мг/дм^3
A9: Sr-90 | B9: Бк/кг | C9: мгО2/дм^3
A10: Yersinia pseudotuberculosis (возбудитель псевдотубеокулеза) | B10: -- | C10: КОЕ/100см^3
A11: диЕвропий триоксид | B11: мг/л | C11: КОЕ/дм^3
A12: Дихлорамин | B12: мг/л | C12: градус Цельсия
... A19: 1,2,3,4,5,5-Гексахлорциклопента-1,3-диен | B19: мг/л | C19: Число спор в 20 см^3
A20: 1,2,3-Тригидроксибензол | B20: мг/л
A21: 1,2-Дигидроксибензол | B21: мг/л
A22: 1-Гидрокси-2,4,6-тринитробензол | B22: мг/л
A23: 1-Гидрокси-2,4,6-трихлорбензол | B23: мг/л
A24: 1-Гидрокси-2,6-динитро-2-(1-метилпропил)бензол | B24: мг/л
A25: 1-Гидрокси-2-нитробензол | B25: мг/л
A26: 1-Гидрокси-3-метилбензол | B26: мг/л
A27: 1-Гидрокси-4-метилбензол | B27: мг/л
A28: 1-Гидрокси-4-нитробензол | B28: мг/л
A29: 1-Гидрокси-4-хлорбензол | B29: мг/л
A30: 1-Гидроксидиметилбензол | B30: мг/л
A31: 2,4-Динитрометилбензол | B31: мг/л
... A237: Po-210 | B237: Бк/кг

Sheet Показатели
A1: 1-Метил-N-L-альфа-аспартил-L-фенилаланин15:18 | B1: 17e095e4-74b2-11ec-9a31-00505695a40915 | G1: Барий (Ва, суммарно) | H1: 6f7aaae4-67a9-11ec-9e76-00505695a409
A2: ДДТ и его метаболиты | B2: a319b57e-8646-11eb-9796-0200c6dd82e6 | G2: Серебро (Ag, суммарно) | H2: 6f8af606-67a9-11ec-9e76-00505695a409
A3: Campilobacter | B3: f02bd644-6aa9-11ef-96b7-005056958e11 | G3: Висмут (Bi, суммарно) | H3: 6f99fb9c-67a9-11ec-9e76-00505695a409
A4: Citrobacter | B4: ad5e0b70-8646-11eb-9796-0200c6dd82e6 | G4: Кобальт (Co, суммарно) | H4: 6f9e7640-67a9-11ec-9e76-00505695a409
A5: Enterobacter | B5: ac679560-8646-11eb-9796-0200c6dd82e6 | G5: Литий (Li, суммарно) | H5: 6fa3bc40-67a9-11ec-9e76-00505695a409
A6: Klebsiella oxytoca | B6: 5c29e8e0-6aaa-11ef-96b7-005056958e11 | G6: Олово (Sn, суммарно) | H6: 6fb93dfe-67a9-11ec-9e76-00505695a409
A7: Поллоний-210 | B7: decbdff8-cd1b-11ec-8646-00505695a409 | G7: Стронций (Sr, суммарно) | H7: 6fbf0b80-67a9-11ec-9e76-00505695a409
A8: Sr-90 | B8: bd6f87e6-8646-11eb-9796-0200c6dd82e6 | G8: Аммиак/аммоний-ион (NH3/NH4+) | H8: 6ff92c98-67a9-11ec-9e76-00505695a409
A9: Yersinia pseudotuberculosis (возбудитель псевдотубеокулеза) | B9: 9c5ba99a-8646-11eb-9796-0200c6dd82e6 | G9: РНК полиовирусов (Poliovirus) | H9: 9c5c7582-8646-11eb-9796-0200c6dd82e6
A10: диЕвропий триоксид | B10: ba7393d4-8646-11eb-9796-0200c6dd82e6 | G10: Толуол | H10: b0d7b530-8646-11eb-9796-0200c6dd82e6
A11: Дихлорамин | B11: 44da5890-73f3-11ee-9a41-005056958e11 | G11: Хлориды (Cl- ) | H11: bb1b5308-8646-11eb-9796-0200c6dd82e6
A12: Самарий трихлорид | B12: baa5ff86-8646-11eb-9796-0200c6dd82e6 | G12: Тетрахлорметан | H12: bb2739a2-8646-11eb-9796-0200c6dd82e6
... A225: Нитриты (NO2-) | B225: 03fe5d3a-b1e3-11ed-8d7b-005056958e11 | G225: ДНК Salmonella | H225: a92e8e6c-8646-11eb-9796-0200c6dd82e6
G226: ДНК термофильных Кампилобактерий (Campylobacter spp.) | H226: c831a126-3ef5-11ef-8c43-005056958e11
G227: РНК вируса гепатита А | H227: a30c4e0c-8646-11eb-9796-0200c6dd82e6
G228: Цисты кишечных патогенных простейших организмов | H228: dad9944c-d897-11ee-9b07-005056958e11
G229: Яйца и личинки гельминтов | H229: 9f95a520-8646-11eb-9796-0200c6dd82e6
G230: ДНК Shigella | H230: ab2efdbe-8646-11eb-9796-0200c6dd82e6
G231: Поли(гексаметиленгуанидин гидрохлорид) | H231: 9623299a-8646-11eb-9796-0200c6dd82e6
G232: Po-210 | H232: bd56e7cc-8646-11eb-9796-0200c6dd82e6

Sheet Единицы измерения
A1: г/с | B1: 925eecb8-ed86-11ee-9d4e-005056958e11
A2: КОЕ/1000 см^3 | B2: e0526e62-ea8f-11ee-9a52-005056958e11
A3: КОЕ/20 см^3 | B3: ce3e3b9c-bc32-11ee-88dc-005056958e11
A4: бактерий в 1 дм^3 | B4: 05812b22-bffe-11ee-9149-005056958e11
A5: ед. CISM | B5: 73afdf6e-cc95-11ee-9d18-005056958e11
A6: КОЕ спор/20 см^3 | B6: 8c08bce2-df6f-11ee-851d-005056958e11
A7: мкг на порцию | B7: 3c2ce72a-63b6-11ec-84cc-00505695a409
A8: мг на капсулу | B8: 3babce42-63b6-11ec-84cc-00505695a409
A9: мкг на капсулу | B9: 3c045260-63b6-11ec-84cc-00505695a409
A10: мл 0,02 H р-ра Na2S2O3 | B10: cf61563e-253e-11ee-9b89-005056958e11
A11: грамм на таблетку | B11: dd59eec8-1751-11ed-9154-005056958e11
A12: мг в таблетке | B12: 3bbcf0a0-63b6-11ec-84cc-00505695a409
... A425: экз/мкл | B425: ac03202e-cd6d-11ed-9185-005056958e11
