Workbook

Sheet Перечень
Q1: Приложение № 1 к постановлению администрации Урмарского муниципального округа Чувашской Республики от 05.05.2026 № 426
B7: П Е Р Е Ч Е Н Ь многоквартирных домов, расположенных на территории Урмарского муниципального округа Чувашской Республики, в отношении которых в 2024–2026 годах планируется проведение капитального ремонта общего имущества
A8: № п/п | B8: Адрес многоквартирного дома | C8: Год | E8: Материал стен | F8: Количество этажей в многоквартирном доме | G8: Количество подъездов в многоквартирном доме | H8: Общая площадь МКД, всего | I8: Площадь помещений МКД | K8: Количество жителей, зарегистрированных в МКД на дату утверждения Республиканской программы капитального ремонта общего имущества в МКД, расположенных на территории Урмарского муниципального округа Чувашской Республики, на 2014–2055 годы | L8: Вид услуг и (или) работ по капитальному ремонту общего имущества в многоквартирном доме | M8: Стоимость услуг и (или) работ по капитальному ремонту общего имущества в многоквартирном доме | R8: Удельная стоимость капитального ремонта 1 кв. м общей площади помещений МКД | S8: Предельная стоимость капитального ремонта 1 кв. м общей площади помещений МКД | T8: Способ формиро-вания фонда капитального ремонта | U8: Минимальный размер фонда капитального ремонта (для домов, выбравших спецсчет) | V8: Год проведения капитального ремонта общего имущества в многоквартирных домах
C9: ввода в экс- плуата- цию мно- гоквар- тирного дома | D9: Завершение последнего капитального ремонта в многоквартирном доме | I9: Всего | J9: В том числе жилых помещений, находящихся в собственности граждан | M9: Всего: | N9: за счет средств государственной корпорации – Фонда содействия реформированию жилищно-коммунального хозяйства | O9: за счет средств государственной и муниципальной поддержки | Q9: За счет средств собственников помещений в МКД
O10: За счет средств республиканского бюджета Чувашской Республики | P10: За счет средств местного бюджета
H11: кв.метров | I11: кв.метров | J11: кв.метров | K11: чел. | M11: рублей | N11: рублей | O11: рублей | P11: рублей | Q11: рублей | R11: рублей/кв.м | S11: рублей/кв.м | U11: рублей
A12: 1 | B12: 2 | C12: 3 | D12: 4 | E12: 5 | F12: 6 | G12: 7 | H12: 8 | I12: 9 | J12: 10 | K12: 11 | L12: 12 | M12: 13 | N12: 14 | O12: 15 | P12: 16 | Q12: 17 | R12: 18 | S12: 19 | T12: 20 | U12: 21 | V12: 22
A13: 2024 г.
A14: Урмарский муниципальный округ
A15: 1 | B15: пгт Урмары, ул. Заводская, д. 31 | C15: 1980 | E15: кирпич | F15: 2 | G15: 3 | H15: 999.8 | I15: 876.8 | J15: 493.4 | K15: 32 | L15: ремонт систем холодного водоснабжения, водоотведения | M15: =N15+O15+P15+Q15 -> 500234.42 | Q15: 500234.42 | R15: =M15/I15 -> 570.52283 | S15: 24561.9 | T15: на счете рег. оператора | U15: 9.22 | V15: 2024
A16: 2 | B16: пгт Урмары, ул. Заводская, д. 33 | C16: 1980 | E16: кирпич | F16: 2 | G16: 3 | H16: 999.8 | I16: 879.1 | J16: 493.4 | K16: 29 | L16: ремонт систем холодного водоснабжения, теплоснабжения, водоотведения | M16: =N16+O16+P16+Q16 -> 2167647.1 | Q16: 2167647.1 | R16: =M16/I16 -> 2465.7572 | S16: 24561.9 | T16: на счете рег. оператора | U16: 9.22 | V16: 2024
A17: 3 | B17: пгт Урмары, ул. Заводская, д. 43 | C17: 1989 | E17: кирпич | F17: 2 | G17: 3 | H17: 917.3 | I17: 832.4 | J17: 481.3 | K17: 38 | L17: ремонт систем холодного водоснабжения, водоотведения | M17: =N17+O17+P17+Q17 -> 499322.19 | Q17: 499322.19 | R17: =M17/I17 -> 599.85847 | S17: 24561.9 | T17: на счете рег. оператора | U17: 9.22 | V17: 2024
A18: 4 | B18: пгт Урмары, ул. К. Иванова, д. 1 | C18: 1986 | E18: кирпич | F18: 3 | G18: 4 | H18: 3347.6 | I18: 2267.6 | J18: 1277 | K18: 82 | L18: ремонт крыши | M18: =N18+O18+P18+Q18 -> 11802157 | Q18: 11802157 | R18: =M18/I18 -> 5204.6911 | S18: 24561.9 | T18: на счете рег. оператора | U18: 9.22 | V18: 2024
B19: Итого: 4 дома | H19: =SUM(H15:H18) -> 6264.5 | I19: =SUM(I15:I18) -> 4855.9 | J19: =SUM(J15:J18) -> 2745.1 | K19: =SUM(K15:K18) -> 181 | M19: =SUM(M15:M18) -> 14969361 | Q19: =SUM(Q15:Q18) -> 14969361 | R19: =M19/I19 -> 3082.7161
A20: 2025 г.
A21: Урмарский муниципальный округ
A22: 1 | B22: пгт Урмары, пер. Школьный, д. 6 | C22: 2004 | E22: кирпич | F22: 4 | G22: 2 | H22: 1699.1 | I22: 1469.8 | J22: 791.6 | K22: 41 | L22: ремонт крыши | M22: =N22+O22+P22+Q22 -> 7349760 | O22: 6863992.3 | Q22: 485767.69 | R22: =M22/I22 -> 5000.5171 | S22: 24561.9 | T22: на счете рег. оператора | U22: 10,94 | V22: 2025
A23: 2 | B23: пгт Урмары, ул. Заводская, д. 39 | C23: 1981 | E23: кирпич | F23: 2 | G23: 3 | H23: 957 | I23: 872.5 | J23: 486.6 | K23: 25 | L23: ремонт систем холодного водоснабжения, водоотведения, элетроснабжения | M23: =N23+O23+P23+Q23 -> 2464275 | Q23: 2464275 | R23: =M23/I23 -> 2824.384 | S23: 24561.9 | T23: на счете рег. оператора | U23: 10,94 | V23: 2025
B24: Итого: 2 дома | H24: =SUM(H22:H23) -> 2656.1 | I24: =SUM(I22:I23) -> 2342.3 | J24: =SUM(J22:J23) -> 1278.2 | K24: =SUM(K22:K23) -> 66 | M24: =SUM(M22:M23) -> 9814035 | O24: =SUM(O22:O23) -> 6863992.3 | Q24: =SUM(Q22:Q23) -> 2950042.7 | R24: =M24/I24 -> 4189.9138
A25: 2026 г.
A26: Урмарский муниципальный округ
A27: 1 | B27: пгт Урмары, ул. Механизаторов, д. 1 | C27: 1968 | E27: кирпич | F27: 2 | G27: 2 | H27: 535.1 | I27: 496.1 | J27: 334.6 | K27: 17 | L27: ремонт системы водоотведения | M27: =N27+O27+P27+Q27 -> 441992.6 | Q27: 441992.6 | R27: =M27/I27 -> 890.93449 | S27: 24561.9 | T27: на счете рег. оператора | U27: 10.94 | V27: 2026
A28: 2 | B28: пгт Урмары, ул. Механизаторов, д. 14 | C28: 1990 | E28: кирпич | F28: 2 | G28: 1 | H28: 387.7 | I28: 367.7 | J28: 219.8 | K28: 15 | L28: ремонт системы электроснабжения | M28: =N28+O28+P28+Q28 -> 448568.9 | Q28: 448568.9 | R28: =M28/I28 -> 1219.9317 | S28: 24561.9 | T28: на счете рег. оператора | U28: 10.94 | V28: 2026
A29: 3 | B29: пгт Урмары, ул. Мира, д. 12 | C29: 1985 | E29: кирпич | F29: 2 | G29: 3 | H29: 1026.1 | I29: 825.2 | J29: 465.6 | K29: 34 | L29: ремонт систем холодного водоснабжения, электроснабжения | M29: =N29+O29+P29+Q29 -> 1794648.9 | Q29: 1794648.9 | R29: =M29/I29 -> 2174.8048 | S29: 24561.9 | T29: на счете рег. оператора | U29: 10.94 | V29: 2026
A30: 4 | B30: пгт Урмары, ул. Мира, д. 14 | C30: 1980 | E30: кирпич | F30: 2 | G30: 3 | H30: 967 | I30: 870.1 | J30: 493.4 | K30: 33 | L30: ремонт системы электроснабжения | M30: =N30+O30+P30+Q30 -> 1118819 | Q30: 1118819 | R30: =M30/I30 -> 1285.8511 | S30: 24561.9 | T30: на счете рег. оператора | U30: 10.94 | V30: 2026
A31: 5 | B31: пгт Урмары, пер.Зеленый, д.7 | C31: 1987 | E31: кирпич | F31: 2 | G31: 3 | H31: 879.46 | I31: 879.46 | J31: 861.75 | K31: 36 | L31: ремонт крыши | M31: =N31+O31+P31+Q31 -> 6324600 | Q31: 6324600 | R31: =M31/I31 -> 7191.4584 | S31: 24561.9 | T31: на счете рег. оператора | U31: 10.94 | V31: 2026
A32: 6 | B32: пгт Урмары, ул.Ленина, д. 35 | C32: 1962 | E32: кирпич | F32: 2 | G32: 1 | H32: 284.7 | I32: 264.7 | J32: 186.8 | K32: 9 | L32: ремонт системы электроснабжения | M32: =N32+O32+P32+Q32 -> 329397.9 | Q32: 329397.9 | R32: =M32/I32 -> 1244.4197 | S32: 24561.9 | T32: на счете рег. оператора | U32: 10,94 | V32: 2026
B33: Итого: 6 домов | H33: =SUM(H27:H32) -> 4080.06 | I33: =SUM(I27:I32) -> 3703.26 | J33: =SUM(J27:J32) -> 2561.95 | K33: =SUM(K27:K32) -> 144 | M33: =SUM(M27:M32) -> 10458027 | Q33: =SUM(Q27:Q32) -> 10458027 | R33: =M33/I33 -> 2824.0057
A34: Итого за 2024–2026 годы: 12 домов | H34: =H19+H24+H33 -> 13000.66 | I34: =I19+I24+I33 -> 10901.46 | J34: =J19+J24+J33 -> 6585.25 | K34: =K19+K24+K33 -> 391 | M34: =M19+M24+M33 -> 35241423 | O34: =O19+O24+O33 -> 6863992.3 | Q34: =Q19+Q24+Q33 -> 28377431 | R34: =M34/I34 -> 3232.7251

Sheet реестр
P2: Приложение № 2 к постановлению администрации Урмарского муниципального округа Чувашской Республики от 05.05.2026 № 426
A8: Р Е Е С Т Р многоквартирных домов, расположенных на территории Урмарского муниципального округа Чувашской Республики, в отношении которых планируется проведение капитального ремонта общего имущества, по видам услуг и (или) работ
A10: № пп | B10: Адрес многоквартирного дома | C10: Стоимость услуг и (или) работ по капитальному ремонту общего имущества в многоквартирном доме – всего | D10: Ремонт внутридомовых инженерных систем | E10: Установка и замена коллективных (общедомовых) ПУ и УУ | F10: Ремонт крыши | H10: Ремонт, замена, модернизация лифтов, ремонт лифтовых шахт, машинных и блочных помещений | J10: Ремонт подвальных помещений, относящихся к общему имуществу в многоквартирном доме | L10: Утепление и ремонт фасада многоквартирного дома | N10: Ремонт фундамента многоквартирного дома | P10: Энергетическое обследование многоквартир-ного дома | Q10: Разработка проектной документации | R10: Услуги по строительному контролю
B11: улица, № дома | C11: рублей | D11: рублей | E11: рублей | F11: кв. м | G11: рублей | H11: ед. | I11: рублей | J11: кв. м | K11: рублей | L11: кв. м | M11: рублей | N11: куб. м | O11: рублей | P11: рублей | Q11: рублей | R11: рублей
A12: 1 | B12: 2 | C12: 3 | D12: 4 | E12: 5 | F12: 6 | G12: 7 | H12: 8 | I12: 9 | J12: 10 | K12: 11 | L12: 12 | M12: 13 | N12: 14 | O12: 15 | P12: 16 | Q12: 17 | R12: 18
A13: 2024 год
A14: Урмарский муниципальный округ
A15: 1 | B15: пгт Урмары, ул. Заводская, д. 31 | C15: 500234.42 | D15: 460341.77 | Q15: 30731.85 | R15: 9160.8
A16: 2 | B16: пгт Урмары, ул. Заводская, д. 33 | C16: 2167647.1 | D16: 2037138.1 | Q16: 89970 | R16: 40539.05
A17: 3 | B17: пгт Урмары, ул. Заводская, д. 43 | C17: 499322.19 | D17: 461933.75 | Q17: 28195.96 | R17: 9192.48
A18: 4 | B18: пгт Урмары, ул. К. Иванова, д. 1 | C18: =D18+E18+G18+I18+K18+M18+O18+P18+Q18+R18 -> 11802157 | F18: 1361 | G18: 11798618 | R18: 3539.58
B19: Итого по округу | C19: =SUM(C14:C18) -> 14969361 | D19: =SUM(D14:D18) -> 2959413.6 | F19: =SUM(F14:F18) -> 1361 | G19: =SUM(G14:G18) -> 11798618 | Q19: =SUM(Q14:Q18) -> 148897.81 | R19: =SUM(R14:R18) -> 62431.91
A20: 2025 год
A21: Урмарский муниципальный округ
A22: 1 | B22: пгт Урмары, пер. Школьный, д. 6 | C22: =D22+E22+G22+I22+K22+M22+O22+P22+Q22+R22 -> 7349760 | F22: 720 | G22: 7192475.1 | R22: 157284.86
A23: 2 | B23: пгт Урмары, ул. Заводская, д. 39 | C23: 2464275 | D23: =C23-Q23-R23 -> 2288325.8 | Q23: =C23*0.05 -> 123213.75 | R23: =C23*0.0214 -> 52735.485
B24: Итого по округу | C24: =SUM(C22:C23) -> 9814035 | D24: =SUM(D22:D23) -> 2288325.8 | F24: =SUM(F22:F23) -> 720 | G24: =SUM(G22:G23) -> 7192475.1 | Q24: =SUM(Q22:Q23) -> 123213.75 | R24: =SUM(R22:R23) -> 210020.34
A25: 2026 год
A26: Урмарский муниципальный округ
A27: 1 | B27: пгт Урмары, ул. Механизаторов, д. 1 | C27: =D27+E27+G27+I27+K27+M27+O27+P27+Q27+R27 -> 441992.6 | D27: 410434.33 | Q27: 22099.63 | R27: 9458.64
A28: 2 | B28: пгт Урмары, ул. Механизаторов, д. 14 | C28: =D28+E28+G28+I28+K28+M28+O28+P28+Q28+R28 -> 448568.9 | D28: 416541.08 | Q28: 22428.45 | R28: 9599.37
A29: 3 | B29: пгт Урмары, ул. Мира, д. 12 | C29: =D29+E29+G29+I29+K29+M29+O29+P29+Q29+R29 -> 1794648.9 | D29: 1666511 | Q29: 89732.44 | R29: 38405.49
A30: 4 | B30: пгт Урмары, ул. Мира, д. 14 | C30: =D30+E30+G30+I30+K30+M30+O30+P30+Q30+R30 -> 1118819 | D30: 1038935.3 | Q30: 55940.95 | R30: 23942.73
A31: 5 | B31: пгт Урмары, пер. Зеленый, д.7 | C31: =D31+E31+G31+I31+K31+M31+O31+P31+Q31+R31 -> 6324600 | F31: 762 | G31: 6189253.6 | R31: 135346.44
A32: 6 | B32: пгт Урмары, ул. Ленина, д. 35 | C32: =D32+E32+G32+I32+K32+M32+O32+P32+Q32+R32 -> 329397.9 | D32: 305878.89 | Q32: 16469.9 | R32: 7049.11
B33: Итого по округу | C33: =SUM(C27:C32) -> 10458027 | D33: =SUM(D27:D32) -> 3838300.6 | F33: =SUM(F27:F32) -> 762 | G33: =SUM(G27:G32) -> 6189253.6 | Q33: =SUM(Q27:Q32) -> 206671.37 | R33: =SUM(R27:R32) -> 223801.78
B34: Итого за 2024–2026 годы: 12 домов | C34: =C33+C24+C19 -> 35241423 | D34: =D19+D24+D33 -> 9086039.9 | F34: =F19+F24+F33 -> 2843 | G34: =G19+G24+G33 -> 25180347 | Q34: =Q19+Q24+Q33 -> 478782.93 | R34: =R19+R24+R33 -> 496254.03

Sheet Планируемые показатели
C1: Единого портала
N3: Приложение № 3 к постановлению администрации Урмарского муниципального округа Чувашской Республики от 05.05.2026 № 426
A5: ПЛАНИРУЕМЫЕ ПОКАЗАТЕЛИ выполнения услуг и (или) работ по капитальному ремонту общего имущества в многоквартирных домах, расположенных на территории Урмарского муниципального округа Чувашской Республики, в 2024–2026 годах
A7: 2024 год
A8: № пп | B8: № пп | C8: Наименование муниципального образования | D8: Общая площадь многоквар-тирных домов | E8: Количество жителей, зарегистри-рованных в многоквар-тирных домах на дату утверждения кратко-срочного плана | F8: Количество многоквартирных домов | K8: Стоимость услуг и (или) работ по капитальному ремонту общего имущества в многоквартирном доме
F9: I квартал 2024 г. | G9: II квартал 2024 г. | H9: III квартал 2024 г. | I9: IV квартал 2024 г. | J9: всего | K9: I квартал 2024 г. | L9: II квартал 2024 г. | M9: III квартал 2024 г. | N9: IV квартал 2024 г. | O9: всего
D10: кв. м | E10: чел. | F10: ед. | G10: ед. | H10: ед. | I10: ед. | J10: ед. | K10: рублей | L10: рублей | M10: рублей | N10: рублей | O10: рублей
A11: 1 | B11: 1 | C11: 2 | D11: 3 | E11: 4 | F11: 5 | G11: 6 | H11: 7 | I11: 8 | J11: 9 | K11: 10 | L11: 11 | M11: 12 | N11: 13 | O11: 14 | X11: 6
A12: 13 | B12: 1 | C12: Урмарский муниципальный округ | D12: 6264.5 | E12: 181 | I12: 4 | J12: =F12+G12+H12+I12 -> 4 | N12: =Перечень!Q19 -> 14969361 | O12: =K12+L12+M12+N12 -> 14969361
B13: Итого | D13: =SUM(D12:D12) -> 6264.5 | E13: =SUM(E12:E12) -> 181 | I13: =SUM(I12:I12) -> 4 | J13: =SUM(J12:J12) -> 4 | N13: =SUM(N12:N12) -> 14969361 | O13: =SUM(O12:O12) -> 14969361
A14: 2025 год
A15: № пп | B15: № пп | C15: Наименование муниципального образования | D15: Общая площадь многоквар-тирных домов | E15: Количество жителей, зарегистри-рованных в многоквар-тирных домах на дату утверждения краткосроч-ного плана | F15: Количество многоквартирных домов | K15: Стоимость капитального ремонта общего имущества в многоквартирных домах
F16: I квартал 2025 г. | G16: II квартал 2025 г. | H16: III квартал 2025 г. | I16: IV квартал 2025 г. | J16: всего | K16: I квартал 2025 г. | L16: II квартал 2025 г. | M16: III квартал 2025 г. | N16: IV квартал 2025 г. | O16: всего
D17: кв. м | E17: чел. | F17: ед. | G17: ед. | H17: ед. | I17: ед. | J17: ед. | K17: рублей | L17: рублей | M17: рублей | N17: рублей | O17: рублей
A18: 1 | B18: 1 | C18: 2 | D18: 3 | E18: 4 | F18: 5 | G18: 6 | H18: 7 | I18: 8 | J18: 9 | K18: 10 | L18: 11 | M18: 12 | N18: 13 | O18: 14
A19: 13 | B19: 1 | C19: Урмарский муниципальный округ | D19: =Перечень!H24 -> 2656.1 | E19: =Перечень!K24 -> 66 | I19: 2 | J19: 2 | N19: =Перечень!M24 -> 9814035 | O19: =K19+L19+M19+N19 -> 9814035
B20: Итого | D20: =SUM(D19:D19) -> 2656.1 | E20: =SUM(E19:E19) -> 66 | I20: =SUM(I19:I19) -> 2 | J20: =SUM(J19:J19) -> 2 | N20: =SUM(N19:N19) -> 9814035 | O20: =SUM(SUM(O19:O19)) -> 9814035
A21: 2026 год
A22: № пп | B22: № пп | C22: Наименование муниципального образования | D22: Общая площадь многоквар-тирных домов | E22: Количество жителей, зарегистри-рованных в многоквар-тирных домах на дату утверждения краткосроч-ного плана | F22: Количество многоквартирных домов | K22: Стоимость капитального ремонта общего имущества в многоквартирных домах
F23: I квартал 2026 г. | G23: II квартал 2026 г. | H23: III квартал 2026 г. | I23: IV квартал 2026 г. | J23: всего | K23: I квартал 2026 г. | L23: II квартал 2026 г. | M23: III квартал 2026 г. | N23: IV квартал 2026 г. | O23: всего
D24: кв. метров | E24: чел. | F24: ед. | G24: ед. | H24: ед. | I24: ед. | J24: ед. | K24: рублей | L24: рублей | M24: рублей | N24: рублей | O24: рублей
A25: 1 | B25: 1 | C25: 2 | D25: 3 | E25: 4 | F25: 5 | G25: 6 | H25: 7 | I25: 8 | J25: 9 | K25: 10 | L25: 11 | M25: 12 | N25: 13 | O25: 14
A26: 14 | B26: 1 | C26: Урмарский муниципальный округ | D26: =Перечень!H33 -> 4080.06 | E26: =Перечень!K33 -> 144 | I26: 6 | J26: 6 | N26: =Перечень!Q33 -> 10458027 | O26: =K26+L26+M26+N26 -> 10458027
B27: Итого | D27: =SUM(D26:D26) -> 4080.06 | E27: =SUM(E26:E26) -> 144 | I27: =SUM(I26:I26) -> 6 | J27: =SUM(J26:J26) -> 6 | N27: =SUM(N26:N26) -> 10458027 | O27: =SUM(O26:O26) -> 10458027
B28: Всего по Урмарскому муниципальному округу за 2024–2026 годы | D28: =D13+D20+D27 -> 13000.66 | E28: =E13+E20+E27 -> 391 | I28: =I13+I20+I27 -> 12 | J28: =J13+J20+J27 -> 12 | N28: =N13+N20+N27 -> 35241423 | O28: =O13+O20+O27 -> 35241423
