Workbook

Sheet ЗАЯВКА
A1: Приложение № 1 к приказу Минэкономразвития России от 26.06.2025 № 425
D2: форма
A3: КОНКУРСНАЯ ЗАЯВКА МУНИЦИПАЛЬНОГО ОБРАЗОВАНИЯ, представляемая для участия во Всероссийском конкурсе «Лучшая муниципальная практика» по номинации «Повышение узнаваемости муниципального образования («бренд территории»)"
A5: (наименование муниципального образования)
A7: (субъект Российской Федерации)
A9: (наименование номинации)
A11: Прошу организовать рассмотрение настоящей конкурсной заявки муниципального образования, представляемой для участия во Всероссийском конкурсе «Лучшая муниципальная практика» по номинации «Повышение узнаваемости муниципального образования («бренд территории»)" (далее соответственно – конкурс, конкурсная заявка, бренд муниципального образования). С условиями и требованиями конкурсного отбора ознакомлен и согласен. По вопросам участия прошу взаимодействовать с
A12: (фамилия, имя и отчество (при наличии), должность контактного лица, его номер телефона и адрес электронной почты (при наличии))
A13: Описание бренда муниципального образования
A14: № п/п | B14: Признаки элемента практики | C14: Содержание
A15: 1 | B15: Наименование бренда («слоган») муниципального образования
C16: (описание наименования бренда муниципального образования ("слоган") с отражением ценностей муниципального образования, на которых базируется бренд)
A17: 2 | B17: Описание бренда муниципального образования
C18: (описание бренда муниципального образования, включая основные ценности муниципального образования, на которых базируется бренд, описание истории разработки бренда муниципального образования, объем не более 150 слов)
A19: Описание практики муниципального образования (далее - практика)
A20: № п/п | B20: Признаки элемента практики | C20: Содержание
A21: 1 | B21: Наименование практики, характеризующей процесс внедрения бренда муниципального образования
C22: (наименование практики с кратким отражением реализуемой практики)
A23: 2 | B23: Описание механизмов и мероприятий, составляющих практику по внедрению бренда муниципального образования
C24: (краткое описание механизмов, применяемых при реализации практики)
A25: 3 | B25: Результаты применения механизмов по внедрению бренда муниципального образования
C26: краткое описание достигнутых результатов при реализации практики, включая цифровые значения
A27: 4 | B27: Презентационные материалы (не более 7 слайдов) | C27: Прикладываются в качестве приложения к настоящей конкурсной заявке.
A28: Показатели, характеризующие деятельность муниципального образования
A29: № п/п | B29: Показатель | C29: Значение показателя и исходные данные для его расчета
A30: 1 | B30: 2 | C30: 3
A31: 1. Рост предпринимательской активности
A32: 1.1 | B32: Средний темп роста числа малых и средних предприятий, индивидуальных предпринимателей на территории муниципального образования за четыре последних отчетных финансовых года (Источник: ФНС) | C32: где «<…>» имеет соответствующее значение | D32: =GEOMEAN((D33/D34),(D34/D35),(D35/D36)) -> #VALUE!
C33: Ain – число малых и средних предприятий, индивидуальных предпринимателей на территории муниципального образования за год, предшествующий году подачи конкурсной заявки (единиц)
C34: Ain-1 – число малых и средних предприятий, индивидуальных предпринимателей на территории муниципального образования за 2 года, предшествующих году подачи конкурсной заявки (единиц)
C35: Ain-2 – число малых и средних предприятий, индивидуальных предпринимателей на территории муниципального образования за 3 года, предшествующих году подачи конкурсной заявки (единиц)
C36: Ain-3 – число малых и средних предприятий, индивидуальных предпринимателей на территории муниципального образования за 4 года, предшествующих году подачи конкурсной заявки (единиц)
A37: 1.2 | B37: Средний темп роста числа малых и средних предприятий, индивидуальных предпринимателей сферы услуг на территории муниципального образования за четыре последних отчетных финансовых года (Источник: ФНС) | C37: где «<…>» имеет соответствующее значение | D37: =GEOMEAN((D38/D39),(D39/D40),(D40/D41)) -> #VALUE!
C38: Ain – число малых и средних предприятий, индивидуальных предпринимателей, основной вид деятельности которых относится к разделам G, I, J, K, L, N, R, S Общероссийского классификатора видов экономической деятельности (далее - ОКВЭД), на территории муниципального образования за год, предшествующий году подачи конкурсной заявки (единиц)
C39: Ain-1 – число малых и средних предприятий, индивидуальных предпринимателей, основной вид деятельности которых относится к разделам G, I, J, K, L, N, R, S ОКВЭД, на территории муниципального образования за 2 года, предшествующих году подачи конкурсной заявки (единиц)
C40: Ain-2 – число малых и средних предприятий, индивидуальных предпринимателей, основной вид деятельности которых относится к разделам G, I, J, K, L, N, R, S ОКВЭД, на территории муниципального образования за 3 года, предшествующих году подачи конкурсной заявки (единиц)
C41: Ain-3 – число малых и средних предприятий, индивидуальных предпринимателей, основной вид деятельности которых относится к разделам G, I, J, K, L, N, R, S ОКВЭД, на территории муниципального образования за 4 года, предшествующих году подачи конкурсной заявки (единиц)
A42: 1.3 | B42: Средний темп роста суммы налогов, уплачиваемых в связи с применением упрощенной системы налогообложения, на территории муниципального образования за четыре последних отчетных финансовых года (Источник: ФНС) | C42: где «<…>» имеет соответствующее значение | D42: =GEOMEAN((D43/D44),(D44/D45),(D45/D46)) -> #VALUE!
C43: Ain – сумма налога, подлежащего уплате в связи с применением упрощенной системы налогообложения, на территории муниципального образования за год, предшествующий году подачи конкурсной заявки (млн рублей)
C44: Ain-1 – сумма налога, подлежащего уплате в связи с применением упрощенной системы налогообложения, на территории муниципального образования за 2 года, предшествующих году подачи конкурсной заявки (млн рублей)
C45: Ain-2 – сумма налога, подлежащего уплате в связи с применением упрощенной системы налогообложения, на территории муниципального образования за 3 года, предшествующих году подачи конкурсной заявки (млн рублей)
C46: Ain-3 – сумма налога, подлежащего уплате в связи с применением упрощенной системы налогообложения, на территории муниципального образования за 4 года, предшествующих году подачи конкурсной заявки (млн рублей)
A47: 2. Рост объема инвестиций
A48: 2.1 | B48: Средний темп роста объема инвестиций в основной капитал (за исключением бюджетных средств) на территории муниципального образования за четыре последних отчетных финансовых года (Источник: Росстат) | C48: где «<…>» имеет соответствующее значение | D48: =GEOMEAN((D49/D50),(D50/D51),(D51/D52)) -> #VALUE!
C49: Ain – объем инвестиций в основной капитал (за исключением бюджетных средств) на территории муниципального образования за год, предшествующий году подачи конкурсной заявки (млн рублей)
C50: Ain-1 – объем инвестиций в основной капитал (за исключением бюджетных средств) на территории муниципального образования за 2 года, предшествующих году подачи конкурсной заявки (млн рублей)
C51: Ain-2 – объем инвестиций в основной капитал (за исключением бюджетных средств) на территории муниципального образования за 3 года, предшествующих году подачи конкурсной заявки (млн рублей)
C52: Ain-3 – объем инвестиций в основной капитал (за исключением бюджетных средств) на территории муниципального образования за 4 года, предшествующих году подачи конкурсной заявки (млн рублей)
A53: 3. Увеличение туристического потока
A54: 3.1 | B54: Средний темп роста численности размещенных лиц в коллективных средствах размещения на территории муниципального образования за четыре последних отчетных года (Источник: Росстат) | C54: где: «<…>» указывается соответствующее значение | D54: =GEOMEAN((D55/D56),(D56/D57),(D57/D58)) -> #VALUE!
C55: Ain – численность размещенных лиц в коллективных средствах размещения на территории муниципального образования за год, предшествующий году подачи конкурсной заявки (человек)
C56: Ain-1 – численность размещенных лиц в коллективных средствах размещения на территории муниципального образования за 2 года, предшествующих году подачи конкурсной заявки (человек)
C57: Ain-2 – численность размещенных лиц в коллективных средствах размещения на территории муниципального образования за 3 года, предшествующих году подачи конкурсной заявки (человек)
C58: Ain-3 – численность размещенных лиц в коллективных средствах размещения на территории муниципального образования за 4 года, предшествующих году подачи конкурсной заявки (человек)
A59: 3.2 | B59: Средний темп роста продолжительности пребывания туристов в муниципальном образовании за четыре последних отчетных года (Источник: Росстат) | C59: где «<…>» имеет соответствующее значение | D59: =GEOMEAN(((D60/D61)/(D62/D63)),((D62/D63)/(D64/D65)),((D64/D65)/(D66/D67))) -> #VALUE!
C60: Ain – число ночевок в коллективных средствах размещения на территории муниципального образования за год, предшествующий году подачи конкурсной заявки (единиц)
C61: Bin – численность размещенных лиц в коллективных средствах размещения на территории муниципального образования за год, предшествующий году подачи конкурсной заявки (человек)
C62: Ain-1 – число ночевок в коллективных средствах размещения на территории муниципального образования за 2 года, предшествующих году подачи конкурсной заявки (единиц)
C63: Bin-1 – численность размещенных лиц в коллективных средствах размещения на территории муниципального образования за 2 года, предшествующих году подачи конкурсной заявки (человек)
C64: Ain-2 – число ночевок в коллективных средствах размещения на территории муниципального образования за 3 года, предшествующих году подачи конкурсной заявки (единиц)
C65: Bin-2 – численность размещенных лиц в коллективных средствах размещения на территории муниципального образования за 3 года, предшествующих году подачи конкурсной заявки (человек)
C66: Ain-3 – число ночевок в коллективных средствах размещения на территории муниципального образования за 4 года, предшествующих году подачи конкурсной заявки (единиц)
C67: Bin-3 – численность размещенных лиц в коллективных средствах размещения на территории муниципального образования за 4 года, предшествующих году подачи конкурсной заявки (человек)
A68: 3.3 | B68: Средний темп роста числа коллективных средств размещения на территории муниципального образования за четыре последних отчетных года (Источник: Росстат) | C68: где «<…>» имеет соответствующее значение | D68: =GEOMEAN((D69/D70),(D70/D71),(D71/D72)) -> #VALUE!
C69: Ain – число коллективных средств размещения на территории муниципального образования за год, предшествующий году подачи конкурсной заявки (единиц)
C70: Ain-1 – число коллективных средств размещения на территории муниципального образования за 2 года, предшествующих году подачи конкурсной заявки (единиц)
C71: Ain-2 – число коллективных средств размещения на территории муниципального образования за 3 года, предшествующих году подачи конкурсной заявки (единиц)
C72: Ain-3 – число коллективных средств размещения на территории муниципального образования за 4 года, предшествующих году подачи конкурсной заявки (единиц)
A73: 4. Рост узнаваемости территории муниципального образования
A74: 4.1 | B74: Средний темп роста числа поисковых запросов в информационно-телекоммуникационной сети "Интернет" (далее - сеть "Интернет"), связанных с территорией муниципального образования за четыре последних отчетных года (Источник: Яндекс Вордстат) | C74: где «<…>» имеет соответствующее значение | D74: =GEOMEAN((D75/D76),(D76/D77),(D77/D78)) -> #VALUE!
C75: Ain – число поисковых запросов в сети "Интернет", связанных с территорией муниципального образования за год, предшествующий году подачи конкурсной заявки (единиц)
C76: Ain-1 – число поисковых запросов в сети "Интернет", связанных с территорией муниципального образования за 2 года, предшествующих году подачи конкурсной заявки (единиц)
C77: Ain-2 – число поисковых запросов в сети "Интернет", связанных с территорией муниципального образования за 3 года, предшествующих году подачи конкурсной заявки (единиц)
C78: Ain-3 – число поисковых запросов в сети "Интернет", связанных с территорией муниципального образования за 4 года, предшествующих году подачи конкурсной заявки (единиц)
A79: 5. Рост благосостояния населения
A80: 5.1 | B80: Средний темп роста среднемесячной заработной платы работников организаций на территории муниципального образования за четыре последних отчетных финансовых года (Источник: Росстат) | C80: где «<…>» имеет соответствующее значение | D80: =GEOMEAN((D81/D82),(D82/D83),(D83/D84)) -> #VALUE!
C81: Ain – среднемесячная заработная плата работников организаций на территории муниципального образования за год, предшествующий году подачи конкурсной заявки (рублей)
C82: Ain-1 – среднемесячная заработная плата работников организаций на территории муниципального образования за 2 года, предшествующих году подачи конкурсной заявки (рублей)
C83: Ain-2 – среднемесячная заработная плата работников организаций на территории муниципального образования за 3 года, предшествующих году подачи конкурсной заявки (рублей)
C84: Ain-3 – среднемесячная заработная плата работников организаций на территории муниципального образования за 4 года, предшествующих году подачи конкурсной заявки (рублей)
A85: 5.2 | B85: Средний темп роста оборота общественного питания на территории муниципального образования за четыре последних отчетных финансовых года (Источник: Росстат) | C85: где «<…>» имеет соответствующее значение | D85: =GEOMEAN((D86/D87),(D87/D88),(D88/D89)) -> #VALUE!
C86: Ain – оборот общественного питания на территории муниципального образования за год, предшествующий году подачи конкурсной заявки (млн рублей)
C87: Ain-1 – оборот общественного питания на территории муниципального образования за 2 года, предшествующих году подачи конкурсной заявки (млн рублей)
C88: Ain-2 – оборот общественного питания на территории муниципального образования за 3 года, предшествующих году подачи конкурсной заявки (млн рублей)
C89: Ain-3 – оборот общественного питания на территории муниципального образования за 4 года, предшествующих году подачи конкурсной заявки (млн рублей)
A90: 5.3 | B90: Средний темп роста оборота розничной торговли на территории муниципального образования за четыре последних отчетных финансовых года (Источник: Росстат) | C90: где «<…>» имеет соответствующее значение | D90: =GEOMEAN((D91/D92),(D92/D93),(D93/D94)) -> #VALUE!
C91: Ain – оборот розничной торговли на территории муниципального образования за год, предшествующий году подачи конкурсной заявки (млн рублей)
C92: Ain-1 – оборот розничной торговли на территории муниципального образования за 2 года, предшествующих году подачи конкурсной заявки (млн рублей)
C93: Ain-2 – оборот розничной торговли на территории муниципального образования за 3 года, предшествующих году подачи конкурсной заявки (млн рублей)
C94: Ain-3 – оборот розничной торговли на территории муниципального образования за 4 года, предшествующих году подачи конкурсной заявки (млн рублей)
A95: 6. Улучшение миграционной ситуации
A96: 6.1 | B96: Суммарный коэффициент миграционного прироста населения муниципального образования за три последних отчетных года (Источник: Росстат) | C96: где «<…>» имеет соответствующее значение | D96: =(SUM(D97:D99)/(SUM(D100:D102)/3))*1000 -> #DIV/0!
C97: Ain – миграционный прирост муниципального образования за год, предшествующий году подачи конкурсной заявки (человек)
C98: Ain-1 – миграционный прирост муниципального образования за 2 года, предшествующих году подачи конкурсной заявки (человек)
C99: Ain-2 – миграционный прирост муниципального образования за 3 года, предшествующих году подачи конкурсной заявки (человек)
C100: Bin – численность постоянного населения муниципального образования за год, предшествующий году подачи конкурсной заявки (человек)
C101: Bin-1 – численность постоянного населения муниципального образования за 2 года, предшествующий году подачи конкурсной заявки (человек)
C102: Bin-2 – численность постоянного населения муниципального образования за 3 года, предшествующий году подачи конкурсной заявки (человек)
A103: Приложение: на ___ л.
A104: Достоверность представленной в составе конкурсной заявки информации подтверждаю. Глава муниципального образования
...

Sheet ДЛЯ РАСЧЕТОВ
A1: Субъект Российской Федерации | B1: Муниципальное образование | C1: п. 1.1 | D1: п. 1.2 | E1: п. 1.3 | F1: п. 2.1 | G1: п. 3.1 | H1: п. 3.2 | I1: п. 3.3 | J1: п. 4.1 | K1: п. 5.1 | L1: п. 5.2 | M1: п. 5.3 | N1: п. 6.1
A2: =ЗАЯВКА!A6 -> 0 | B2: =ЗАЯВКА!A4 -> 0 | C2: ='ЗАЯВКА'!D32 -> #VALUE! | D2: ='ЗАЯВКА'!D37 -> #VALUE! | E2: ='ЗАЯВКА'!D42 -> #VALUE! | F2: ='ЗАЯВКА'!D48 -> #VALUE! | G2: ='ЗАЯВКА'!D54 -> #VALUE! | H2: ='ЗАЯВКА'!D59 -> #VALUE! | I2: ='ЗАЯВКА'!D68 -> #VALUE! | J2: ='ЗАЯВКА'!D74 -> #VALUE! | K2: ='ЗАЯВКА'!D80 -> #VALUE! | L2: ='ЗАЯВКА'!D85 -> #VALUE! | M2: ='ЗАЯВКА'!D90 -> #VALUE! | N2: ='ЗАЯВКА'!D96 -> #DIV/0!
