Workbook

Sheet ЗАЯВКА
A1: Приложение № 1 к приказу Минэкономразвития России от 26.06.2025 № 425
D2: форма
A3: КОНКУРСНАЯ ЗАЯВКА МУНИЦИПАЛЬНОГО ОБРАЗОВАНИЯ, представляемая для участия во Всероссийском конкурсе «Лучшая муниципальная практика» по номинации «Повышение узнаваемости муниципального образования («бренд территории»)"
A5: (наименование муниципального образования)
A7: (субъект Российской Федерации)
A9: (наименование номинации)
A11: Прошу организовать рассмотрение настоящей конкурсной заявки муниципального образования, представляемой для участия во Всероссийском конкурсе «Лучшая муниципальная практика» по номинации «Повышение узнаваемости муниципального образования («бренд территории»)" (далее соответственно – конкурс, конкурсная заявка, бренд муниципального образования). С условиями и требованиями конкурсного отбора ознакомлен и согласен. По вопросам участия прошу взаимодействовать с
A12: (фамилия, имя и отчество (при наличии), должность контактного лица, его номер телефона и адрес электронной почты (при наличии))
A13: Описание бренда муниципального образования
A14: № п/п | B14: Признаки элемента практики | C14: Содержание
A15: 1 | B15: Наименование бренда («слоган») муниципального образования
C16: (описание наименования бренда муниципального образования ("слоган") с отражением ценностей муниципального образования, на которых базируется бренд)
A17: 2 | B17: Описание бренда муниципального образования
C18: (описание бренда муниципального образования, включая основные ценности муниципального образования, на которых базируется бренд, описание истории разработки бренда муниципального образования, объем не более 150 слов)
A19: Описание практики муниципального образования (далее - практика)
A20: № п/п | B20: Признаки элемента практики | C20: Содержание
A21: 1 | B21: Наименование практики, характеризующей процесс внедрения бренда муниципального образования
C22: (наименование практики с кратким отражением реализуемой практики)
A23: 2 | B23: Описание механизмов и мероприятий, составляющих практику по внедрению бренда муниципального образования
C24: (краткое описание механизмов, применяемых при реализации практики)
A25: 3 | B25: Результаты применения механизмов по внедрению бренда муниципального образования
C26: краткое описание достигнутых результатов при реализации практики, включая цифровые значения
A27: 4 | B27: Презентационные материалы (не более 7 слайдов) | C27: Прикладываются в качестве приложения к настоящей конкурсной заявке.
A28: Показатели, характеризующие деятельность муниципального образования
A29: № п/п | B29: Показатель | C29: Значение показателя и исходные данные для его расчета
A30: 1 | B30: 2 | C30: 3
A31: 1. Рост предпринимательской активности
A32: 1.1 | B32: Средний темп роста числа малых и средних предприятий, индивидуальных предпринимателей на территории муниципального образования за четыре последних отчетных финансовых года (Источник: ФНС) | C32: где «<…>» имеет соответствующее значение | D32: =GEOMEAN((D33/D34),(D34/D35),(D35/D36)) -> #VALUE!
C33: Ain – число малых и средних предприятий, индивидуальных предпринимателей на территории муниципального образования за год, предшествующий году подачи конкурсной заявки (единиц)
C34: Ain-1 – число малых и средних предприятий, индивидуальных предпринимателей на территории муниципального образования за 2 года, предшествующих году подачи конкурсной заявки (единиц)
C35: Ain-2 – число малых и средних предприятий, индивидуальных предпринимателей на территории муниципального образования за 3 года, предшествующих году подачи конкурсной заявки (единиц)
C36: Ain-3 – число малых и средних предприятий, индивидуальных предпринимателей на территории муниципального образования за 4 года, предшествующих году подачи конкурсной заявки (единиц)
A37: 1.2 | B37: Средний темп роста числа малых и средних предприятий, индивидуальных предпринимателей сферы услуг на территории муниципального образования за четыре последних отчетных финансовых года (Источник: ФНС) | C37: где «<…>» имеет соответствующее значение | D37: =GEOMEAN((D38/D39),(D39/D40),(D40/D41)) -> #VALUE!
C38: Ain – число малых и средних предприятий, индивидуальных предпринимателей, основной вид деятельности которых относится к разделам G, I, J, K, L, N, R, S Общероссийского классификатора видов экономической деятельности (далее - ОКВЭД), на территории муниципального образования за год, предшествующий году подачи конкурсной заявки (единиц)
C39: Ain-1 – число малых и средних предприятий, индивидуальных предпринимателей, основной вид деятельности которых относится к разделам G, I, J, K, L, N, R, S ОКВЭД, на территории муниципального образования за 2 года, предшествующих году подачи конкурсной заявки (единиц)
C40: Ain-2 – число малых и средних предприятий, индивидуальных предпринимателей, основной вид деятельности которых относится к разделам G, I, J, K, L, N, R, S ОКВЭД, на территории муниципального образования за 3 года, предшествующих году подачи конкурсной заявки (единиц)
C41: Ain-3 – число малых и средних предприятий, индивидуальных предпринимателей, основной вид деятельности которых относится к разделам G, I, J, K, L, N, R, S ОКВЭД, на территории муниципального образования за 4 года, предшествующих году подачи конкурсной заявки (единиц)
A42: 1.3 | B42: Средний темп роста суммы налогов, уплачиваемых в связи с применением упрощенной системы налогообложения, на территории муниципального образования за четыре последних отчетных финансовых года (Источник: ФНС) | C42: где «<…>» имеет соответствующее значение | D42: =GEOMEAN((D43/D44),(D44/D45),(D45/D46)) -> #VALUE!
C43: Ain – сумма налога, подлежащего уплате в связи с применением упрощенной системы налогообложения, на территории муниципального образования за год, предшествующий году подачи конкурсной заявки (млн рублей)
C44: Ain-1 – сумма налога, подлежащего уплате в связи с применением упрощенной системы налогообложения, на территории муниципального образования за 2 года, предшествующих году подачи конкурсной заявки (млн рублей)
...

Sheet ДЛЯ РАСЧЕТОВ
A1: Субъект Российской Федерации | B1: Муниципальное образование | C1: п. 1.1 | D1: п. 1.2 | E1: п. 1.3 | F1: п. 2.1 | G1: п. 3.1 | H1: п. 3.2 | I1: п. 3.3 | J1: п. 4.1 | K1: п. 5.1 | L1: п. 5.2 | M1: п. 5.3 | N1: п. 6.1
A2: =ЗАЯВКА!A6 -> 0 | B2: =ЗАЯВКА!A4 -> 0 | C2: ='ЗАЯВКА'!D32 -> #VALUE! | D2: ='ЗАЯВКА'!D37 -> #VALUE! | E2: ='ЗАЯВКА'!D42 -> #VALUE! | F2: ='ЗАЯВКА'!D48 -> #VALUE! | G2: ='ЗАЯВКА'!D54 -> #VALUE! | H2: ='ЗАЯВКА'!D59 -> #VALUE! | I2: ='ЗАЯВКА'!D68 -> #VALUE! | J2: ='ЗАЯВКА'!D74 -> #VALUE! | K2: ='ЗАЯВКА'!D80 -> #VALUE! | L2: ='ЗАЯВКА'!D85 -> #VALUE! | M2: ='ЗАЯВКА'!D90 -> #VALUE! | N2: ='ЗАЯВКА'!D96 -> #DIV/0!
