Workbook
Name OLE_LINK1: Туризм!$A$3

Sheet АПК
A1: Приложение № 11 к Комплексной программе социально-экономического развития Чувашской Республики на 2025-2030 годы
A2: Инфраструктурные проекты Чувашской Республики в разрезе муниципальных образований
A3: Наименование | B3: Национальный проект, региональный проект | C3: Место реализации проекта | D3: Сроки реализации, годы | E3: Мощность | F3: Источник финансирования, наличие и необходимость ПСД | G3: Прогнозные объемы финансирования | O3: Число жителей, улучшивших условия в результате реализации, человек | P3: Основания для включения | Q3: Функциональный заказчик
G4: источник финансирования | H4: всего, в том числе | I4: 2025 | J4: 2026 | K4: 2027 | L4: 2028 | M4: 2029 | N4: 2030
A5: 1 | B5: 2 | C5: 3 | D5: 4 | E5: 5 | F5: 6 | G5: 7 | H5: 8 | I5: 9 | J5: 10 | K5: 11 | L5: 12 | M5: 13 | N5: 14 | O5: 15 | P5: 16 | Q5: 17
A6: Цивильский муниципальный округ Чувашской Республики
A7: Проектирование и строительство участка автомобильной дороги до д. Коснарбоси общей протяженностью 3 км. (от д. Таушкасы Чебоксарского МО до д. Коснарбоси Цивильского МО) | C7: Цивильский муниципальный округ Чувашской Республики | D7: 2026–2027 | E7: 2028 | F7: республиканский бюджет, требуется раз­работка ПСД | G7: объем финансирования, млн. рублей | H7: =SUM(H8:H11) -> 90 | I7: =SUM(I8:I11) -> 0 | J7: =SUM(J8:J11) -> 5 | K7: =SUM(K8:K11) -> 85 | L7: =SUM(L8:L11) -> 0 | M7: =SUM(M8:M11) -> 0 | N7: =SUM(N8:N11) -> 0 | O7: 2700 | Q7: Администрация Цивильского муниципального округа
G8: федеральный бюджет | H8: =SUM(I8:N8) -> 0 | I8: 0 | J8: 0 | K8: 0 | L8: 0 | M8: 0 | N8: 0
G9: республиканский бюджет Чувашской Республики | H9: =SUM(I9:N9) -> 90 | I9: 0 | J9: 5 | K9: 85 | L9: 0 | M9: 0 | N9: 0
G10: местный бюджет | H10: =SUM(I10:N10) -> 0 | I10: 0 | J10: 0 | K10: 0 | L10: 0 | M10: 0 | N10: 0
G11: внебюджетные источники | H11: =SUM(I11:N11) -> 0 | I11: 0 | J11: 0 | K11: 0 | L11: 0 | M11: 0 | N11: 0
A12: Итого по муниципальному округу: | G12: объем финансирования, млн. рублей | H12: =SUM(H7) -> 90 | I12: =SUM(I7) -> 0 | J12: =SUM(J7) -> 5 | K12: =SUM(K7) -> 85 | L12: =SUM(L7) -> 0 | M12: =SUM(M7) -> 0 | N12: =SUM(N7) -> 0
G13: федеральный бюджет | H13: =SUM(H8) -> 0 | I13: =SUM(I8) -> 0 | J13: =SUM(J8) -> 0 | K13: =SUM(K8) -> 0 | L13: =SUM(L8) -> 0 | M13: =SUM(M8) -> 0 | N13: =SUM(N8) -> 0
G14: республиканский бюджет Чувашской Республики | H14: =SUM(H9) -> 90 | I14: =SUM(I9) -> 0 | J14: =SUM(J9) -> 5 | K14: =SUM(K9) -> 85 | L14: =SUM(L9) -> 0 | M14: =SUM(M9) -> 0 | N14: =SUM(N9) -> 0
G15: местный бюджет | H15: =SUM(H10) -> 0 | I15: =SUM(I10) -> 0 | J15: =SUM(J10) -> 0 | K15: =SUM(K10) -> 0 | L15: =SUM(L10) -> 0 | M15: =SUM(M10) -> 0 | N15: =SUM(N10) -> 0
G16: внебюджетные источники | H16: =SUM(H11) -> 0 | I16: =SUM(I11) -> 0 | J16: =SUM(J11) -> 0 | K16: =SUM(K11) -> 0 | L16: =SUM(L11) -> 0 | M16: =SUM(M11) -> 0 | N16: =SUM(N11) -> 0
A17: Ядринский муниципальный округ
A18: Капитальный ремонт водопроводных линий по ул. Пискунова г. Ялрин (от перекрестка ул. Пискунова с ул. 50 лет Октября до перекрёстка ул. Пискунова с ул. Первомайская), по ул. Максима Горького г. Ядрин (от перекрестка ул. Максима Горького с ул. 50 лет Октября до перекрестка ул. Максима Горького с ул. К. Маркса) | B18: Государственная программа "Комплексное развитие сельских территорий Чувашской Республики" | C18: Чувашская Республика - Чувашия, м.о. Ядринский, Ядрин г. | D18: 2026 | E18: 1 км | F18: ФБ+РБ+МБ+ВБ | G18: объем финансирования, млн. рублей | H18: 7.4 | I18: =SUM(I19:I22) -> 0 | J18: 7.4 | K18: =SUM(K19:K22) -> 0 | L18: =SUM(L19:L22) -> 0 | M18: 0 | N18: =SUM(N19:N22) -> 0 | O18: 7626 | P18: Заявка на участие в мероприятиях государственной программы Российской Федерации "Комплексное развитие сельских территорий" на 2026 год. Постановление Кабинета Министров Чувашской Республики от 30.12.2025 № 802 "О распределении субсидии из республиканского бюджета Чувашской Республики бюджетам муниципальных округов на обеспечение комплексного развития сельских территорий на 2026 и 2027 годы" | Q18: Администрация Ядринского муниципального округа
G19: федеральный бюджет | H19: =SUM(I19:N19) -> 6.562 | I19: 0 | J19: 6.562 | K19: 0 | L19: 0 | M19: 0 | N19: 0
G20: республиканский бюджет Чувашской Республики | H20: =SUM(I20:N20) -> 0.066 | I20: 0 | J20: 0.066 | K20: 0 | L20: 0 | M20: 0 | N20: 0
G21: местный бюджет | H21: =SUM(I21:N21) -> 0.03 | I21: 0 | J21: 0.03 | K21: 0 | L21: 0 | M21: 0 | N21: 0
G22: внебюджетные источники | H22: =SUM(I22:N22) -> 0.736 | I22: 0 | J22: 0.736 | K22: 0 | L22: 0 | M22: 0 | N22: 0
A23: Капитальный ремонт спортивного стадиона, расположенного по адресу: Чувашская Республика, Ядринский муниципальный округ, г. Ядрин, ул. 30 лет Победы | B23: Государственная программа "Комплексное развитие сельских территорий Чувашской Республики" | C23: Чувашская Республика - Чувашия, м.о. Ядринский, Ядрин г. | D23: 2026-2026 | F23: ФБ+РБ+МБ+ВБ Требуется разработка ПСД | G23: объем финансирования, млн. рублей | H23: =SUM(H24:H27) -> 50 | I23: =SUM(I24:I27) -> 0 | J23: =SUM(J24:J27) -> 50 | K23: =SUM(K24:K27) -> 0 | L23: =SUM(L24:L27) -> 0 | M23: =SUM(M24:M27) -> 0 | N23: =SUM(N24:N27) -> 0 | O23: 7626 | P23: Заявка на участие в мероприятиях государственной программы Российской Федерации "Комплексное развитие сельских территорий" на 2026 год | Q23: Администрация Ядринского муниципального округа
G24: федеральный бюджет | H24: =SUM(I24:N24) -> 44.5 | I24: 0 | J24: 44.5 | K24: 0 | L24: 0 | M24: 0 | N24: 0
G25: республиканский бюджет Чувашской Республики | H25: =SUM(I25:N25) -> 0.4 | I25: 0 | J25: 0.4 | K25: 0 | L25: 0 | M25: 0 | N25: 0
G26: местный бюджет | H26: =SUM(I26:N26) -> 0.1 | I26: 0 | J26: 0.1 | K26: 0 | L26: 0 | M26: 0 | N26: 0
G27: внебюджетные источники | H27: =SUM(I27:N27) -> 5 | I27: 0 | J27: 5 | K27: 0 | L27: 0 | M27: 0 | N27: 0
A28: Капитальный ремонт системы водоснабжения по улице Молодежная в н. Ядрин Чувашской Республики | B28: Государственная программа "Комплексное развитие сельских территорий Чувашской Республики" | C28: Чувашская Республика, м.о. Ядринский, г. Ядрин | D28: 2026 | E28: 500 куб.м. | F28: ФБ+РБ+МБ+ВБ | G28: объем финансирования, млн. рублей | H28: =SUM(H29:H32) -> 19.97 | I28: =SUM(I29:I32) -> 0 | J28: =SUM(J29:J32) -> 19.97 | K28: =SUM(K29:K32) -> 0 | L28: =SUM(L29:L32) -> 0 | M28: =SUM(M29:M32) -> 0 | N28: =SUM(N29:N32) -> 0 | O28: 7626 | P28: Заявка на участие в мероприятиях государственной программы Российской Федерации "Комплексное развитие сельских территорий" на 2026 год. Постановление Кабинета Министров Чувашской Республики от 30.12.2025 № 802 "О распределении субсидии из республиканского бюджета Чувашской Республики бюджетам муниципальных округов на обеспечение комплексного развития сельских территорий на 2026 и 2027 годы" | Q28: Администрация Ядринского муниципального округа
G29: федеральный бюджет | H29: =SUM(I29:N29) -> 17.78 | I29: 0 | J29: 17.78 | K29: 0 | L29: 0 | M29: 0 | N29: 0
G30: республиканский бюджет Чувашской Республики | H30: =SUM(I30:N30) -> 0.18 | I30: 0 | J30: 0.18 | K30: 0 | L30: 0 | M30: 0 | N30: 0
G31: местный бюджет | H31: =SUM(I31:N31) -> 0.01 | I31: 0 | J31: 0.01 | K31: 0 | L31: 0 | M31: 0 | N31: 0
G32: внебюджетные источники | H32: =SUM(I32:N32) -> 2 | I32: 0 | J32: 2 | K32: 0 | L32: 0 | M32: 0 | N32: 0
A33: Строительство БМК в г. Ядрин с выводом из эксплуатации кот. № 1 Ядринского муниципального округа Чувашской Республики | B33: Государственная программа "Комплексное развитие сельских территорий Чувашской Республики" | C33: Чувашская Республика, м.о. Ядринский, г. Ядрин | D33: 2027 | E33: 6 мВт | F33: ФБ+РБ+МБ+ВБ | G33: объем финансирования, млн. рублей | H33: =SUM(H34:H37) -> 103 | I33: =SUM(I34:I37) -> 0 | J33: =SUM(J34:J37) -> 0 | K33: =SUM(K34:K37) -> 103 | L33: =SUM(L34:L37) -> 0 | M33: =SUM(M34:M37) -> 0 | N33: =SUM(N34:N37) -> 0 | O33: 7626 | P33: Заявка на участие в мероприятиях государственной программы Российской Федерации "Комплексное развитие сельских территорий" на 2026 год. Постановление Кабинета Министров Чувашской Республики от 30.12.2025 № 802 "О распределении субсидии из республиканского бюджета Чувашской Республики бюджетам муниципальных округов на обеспечение комплексного развития сельских территорий на 2026 и 2027 годы" | Q33: Администрация Ядринского муниципального округа
G34: федеральный бюджет | H34: =SUM(I34:N34) -> 91.72 | I34: 0 | J34: 0 | K34: 91.72 | L34: 0 | M34: 0 | N34: 0
G35: республиканский бюджет Чувашской Республики | H35: =SUM(I35:N35) -> 0.93 | I35: 0 | J35: 0 | K35: 0.93 | L35: 0 | M35: 0 | N35: 0
G36: местный бюджет | H36: =SUM(I36:N36) -> 0.05 | I36: 0 | J36: 0 | K36: 0.05 | L36: 0 | M36: 0 | N36: 0
G37: внебюджетные источники | H37: =SUM(I37:N37) -> 10.3 | I37: 0 | J37: 0 | K37: 10.3 | L37: 0 | M37: 0 | N37: 0
A38: Капитальный ремонт здания МБДОУ "Детский сад" "Сказка" по адресу: Чувашская Республика, г.Ядрин , ул. Чапаева, д.22 | B38: Государственная программа "Комплексное развитие сельских территорий Чувашской Республики" | C38: Чувашская Республика, м.о. Ядринский, г. Ядрин | D38: 2026 | E38: 200 чел. | F38: ФБ+РБ+МБ+ВБ | G38: объем финансирования, млн. рублей | H38: =SUM(H39:H42) -> 116.26 | I38: =SUM(I39:I42) -> 0 | J38: =SUM(J39:J42) -> 116.26 | K38: =SUM(K39:K42) -> 0 | L38: =SUM(L39:L42) -> 0 | M38: =SUM(M39:M42) -> 0 | N38: =SUM(N39:N42) -> 0 | O38: 7626 | P38: Заявка на участие в мероприятиях государственной программы Российской Федерации "Комплексное развитие сельских территорий" на 2026 год. Постановление Кабинета Министров Чувашской Республики от 30.12.2025 № 802 "О распределении субсидии из республиканского бюджета Чувашской Республики бюджетам муниципальных округов на обеспечение комплексного развития сельских территорий на 2026 и 2027 годы" | Q38: Администрация Ядринского муниципального округа
G39: федеральный бюджет | H39: =SUM(I39:N39) -> 103.52 | I39: 0 | J39: 103.52 | K39: 0 | L39: 0 | M39: 0 | N39: 0
G40: республиканский бюджет Чувашской Республики | H40: =SUM(I40:N40) -> 1.05 | I40: 0 | J40: 1.05 | K40: 0 | L40: 0 | M40: 0 | N40: 0
...

Sheet Туризм
A1: Наименование | B1: Национальный проект, региональный проект | C1: Место реализации проекта | D1: Сроки реализации, годы | E1: Мощность | F1: Источник финансирования, наличие и необходимость ПСД | G1: Прогнозные объемы финансирования | O1: Число жителей, улучшивших условия в результате реализации, человек | P1: Основания для включения | Q1: Функциональный заказчик
G2: источник финансирования | H2: всего, в том числе | I2: 2025 | J2: 2026 | K2: 2027 | L2: 2028 | M2: 2029 | N2: 2030
A3: 1 | B3: 2 | C3: 3 | D3: 4 | E3: 5 | F3: 6 | G3: 7 | H3: 8 | I3: 9 | J3: 10 | K3: 11 | L3: 12 | M3: 13 | N3: 14 | O3: 15 | P3: 16 | Q3: 17
A4: Городской округ город Чебоксары Чувашской Республики
A5: Разработка ПСД для реконструкции Казанской набережной и строительства объектов туристической инфраструктуры на Казанской набережной г. Чебоксары | B5: НП «Туризм и гостеприимство» | C5: городской округ город Чебоксары Чувашской Республики | D5: 2029–2030 | E5: 3 км | F5: республиканский бюджет Чувашской Республики, необходима ПСД | G5: объем финансирования, млн. рублей | H5: =SUM(H6:H9) -> 126 | I5: =SUM(I6:I9) -> 0 | J5: =SUM(J6:J9) -> 0 | K5: =SUM(K6:K9) -> 0 | L5: =SUM(L6:L9) -> 0 | M5: =SUM(M6:M9) -> 100 | N5: =SUM(N6:N9) -> 26 | O5: Число посетителей в год – 1,5–2 млн. единиц | P5: Заявка на участие в РАИП 2026–2027 | Q5: Администрация города Чебоксары
G6: федеральный бюджет | H6: =SUM(I6:N6) -> 0 | I6: 0 | J6: 0 | K6: 0 | L6: 0 | M6: 0 | N6: 0
G7: республиканский бюджет Чувашской Республики | H7: =SUM(I7:N7) -> 126 | I7: 0 | J7: 0 | K7: 0 | L7: 0 | M7: 100 | N7: 26
G8: местный бюджет | H8: =SUM(I8:N8) -> 0 | I8: 0 | J8: 0 | K8: 0 | L8: 0 | M8: 0 | N8: 0
G9: внебюджетные источники | H9: =SUM(I9:N9) -> 0 | I9: 0 | J9: 0 | K9: 0 | L9: 0 | M9: 0 | N9: 0
A10: Строительство (реконструкция) Казанской набережной и строительство объектов туристической инфраструктуры на Казанской набережной г. Чебоксары | B10: НП «Туризм и гостеприимство» | C10: городской округ город Чебоксары Чувашской Республики | D10: 2029–2030 | E10: 3 км | F10: федеральный бюджет, республиканский бюджет Чувашской Республики, местный бюджет города Чебоксары, необходима ПСД | G10: объем финансирования, млн. рублей | H10: =SUM(H11:H14) -> 1774 | I10: =SUM(I11:I14) -> 0 | J10: =SUM(J11:J14) -> 0 | K10: =SUM(K11:K14) -> 0 | L10: =SUM(L11:L14) -> 0 | M10: =SUM(M11:M14) -> 500 | N10: =SUM(N11:N14) -> 1274 | O10: Число посетителей в год – 1,5–2 млн. единиц | P10: Заявка на участие в государственной программе РФ «Развитие туризма» приложение № 3 | Q10: Администрация города Чебоксары
G11: федеральный бюджет | H11: =SUM(I11:N11) -> 1720.8 | I11: 0 | J11: 0 | K11: 0 | L11: 0 | M11: 485 | N11: 1235.8
G12: республиканский бюджет Чувашской Республики | H12: =SUM(I12:N12) -> 42.6 | I12: 0 | J12: 0 | K12: 0 | L12: 0 | M12: 12 | N12: 30.6
G13: местный бюджет | H13: =SUM(I13:N13) -> 10.6 | I13: 0 | J13: 0 | K13: 0 | L13: 0 | M13: 3 | N13: 7.6
G14: внебюджетные источники | H14: =SUM(I14:N14) -> 0 | I14: 0 | J14: 0 | K14: 0 | L14: 0 | M14: 0 | N14: 0
A15: Разработка ПСД для инженерной инфраструктуры (дополнительной причальной стенки) Чебоксарского речного порта, г. Чебоксары | B15: НП «Туризм и гостеприимство» | C15: городской округ город Чебоксары Чувашской Республики | D15: 2029 | E15: - | F15: республиканский бюджет Чувашской Республики, необходима ПСД | G15: объем финансирования, млн. рублей | H15: =SUM(H16:H19) -> 9 | I15: =SUM(I16:I19) -> 0 | J15: =SUM(J16:J19) -> 0 | K15: =SUM(K16:K19) -> 0 | L15: =SUM(L16:L19) -> 0 | M15: =SUM(M16:M19) -> 9 | N15: =SUM(N16:N19) -> 0 | O15: Число посетителей в год – 1,5–2 млн. единиц | P15: Заявка на участие в РАИП 2027 года | Q15: Администрация города Чебоксары
G16: федеральный бюджет | H16: =SUM(I16:N16) -> 0 | I16: 0 | J16: 0 | K16: 0 | L16: 0 | M16: 0 | N16: 0
G17: республиканский бюджет Чувашской Республики | H17: =SUM(I17:N17) -> 9 | I17: 0 | J17: 0 | K17: 0 | L17: 0 | M17: 9 | N17: 0
G18: местный бюджет | H18: =SUM(I18:N18) -> 0 | I18: 0 | J18: 0 | K18: 0 | L18: 0 | M18: 0 | N18: 0
G19: внебюджетные источники | H19: =SUM(I19:N19) -> 0 | I19: 0 | J19: 0 | K19: 0 | L19: 0 | M19: 0 | N19: 0
A20: Строительство инженерной инфраструктуры (дополнительной причальной стенки) Чебоксарского речного порта, г. Чебоксары | B20: НП «Туризм и гостеприимство» | C20: городской округ город Чебоксары Чувашской Республики | D20: 2029–2030 | E20: - | F20: федеральный бюджет, республиканский бюджет Чувашской Республики, местный бюджет города Чебоксары, необходима ПСД | G20: объем финансирования, млн. рублей | H20: =SUM(H21:H24) -> 390 | I20: =SUM(I21:I24) -> 0 | J20: =SUM(J21:J24) -> 0 | K20: =SUM(K21:K24) -> 0 | L20: =SUM(L21:L24) -> 0 | M20: =SUM(M21:M24) -> 150 | N20: =SUM(N21:N24) -> 240 | O20: Число посетителей в год – 1,5–2 млн. единиц | P20: Заявка на участие в государственной программе РФ «Развитие туризма» приложение № 3 | Q20: Администрация города Чебоксары
G21: федеральный бюджет | H21: =SUM(I21:N21) -> 378.3 | I21: 0 | J21: 0 | K21: 0 | L21: 0 | M21: 145.5 | N21: 232.8
G22: республиканский бюджет Чувашской Республики | H22: =SUM(I22:N22) -> 9.4 | I22: 0 | J22: 0 | K22: 0 | L22: 0 | M22: 3.6 | N22: 5.8
G23: местный бюджет | H23: =SUM(I23:N23) -> 2.3 | I23: 0 | J23: 0 | K23: 0 | L23: 0 | M23: 0.9 | N23: 1.4
G24: внебюджетные источники | H24: =SUM(I24:N24) -> 0 | I24: 0 | J24: 0 | K24: 0 | L24: 0 | M24: 0 | N24: 0
A25: Разработка ПСД для строительства объекта «Парящий мост» над рекой Волга со смотровой площадкой от Мемориального комплекса «Парк Победы» | B25: НП «Туризм и гостеприимство» | C25: городской округ город Чебоксары Чувашской Республики | D25: 2029 | E25: - | F25: республиканский бюджет Чувашской Республики, необходима ПСД | G25: объем финансирования, млн. рублей | H25: =SUM(H26:H29) -> 50 | I25: =SUM(I26:I29) -> 0 | J25: =SUM(J26:J29) -> 0 | K25: =SUM(K26:K29) -> 0 | L25: =SUM(L26:L29) -> 0 | M25: =SUM(M26:M29) -> 50 | N25: =SUM(N26:N29) -> 0 | O25: Число посетителей в год – 1,5–2 млн. единиц | P25: Заявка на участие в государственной программе РФ «Развитие туризма» приложение № 3 | Q25: Администрация города Чебоксары
G26: федеральный бюджет | H26: =SUM(I26:N26) -> 0 | I26: 0 | J26: 0 | K26: 0 | L26: 0 | M26: 0 | N26: 0
G27: республиканский бюджет Чувашской Республики | H27: =SUM(I27:N27) -> 50 | I27: 0 | J27: 0 | K27: 0 | L27: 0 | M27: 50 | N27: 0
G28: местный бюджет | H28: =SUM(I28:N28) -> 0 | I28: 0 | J28: 0 | K28: 0 | L28: 0 | M28: 0 | N28: 0
G29: внебюджетные источники | H29: =SUM(I29:N29) -> 0 | I29: 0 | J29: 0 | K29: 0 | L29: 0 | M29: 0 | N29: 0
A30: Строительство объекта «Парящий мост» над рекой Волга со смотровой площадкой от Мемориального комлпекса «Парк Победы» | B30: НП «Туризм и гостеприимство» | C30: городской округ город Чебоксары Чувашской Республики | D30: 2029–2030 | E30: - | F30: федеральный бюджет, республиканский бюджет Чувашской Республики, местный бюджет города Чебоксары, необходима ПСД | G30: объем финансирования, млн. рублей | H30: =SUM(H31:H34) -> 500 | I30: =SUM(I31:I34) -> 0 | J30: =SUM(J31:J34) -> 0 | K30: =SUM(K31:K34) -> 0 | L30: =SUM(L31:L34) -> 0 | M30: =SUM(M31:M34) -> 250 | N30: =SUM(N31:N34) -> 250 | O30: Число посетителей в год – 1,5–2 млн. единиц | P30: Заявка на участие в государственной программе РФ «Развитие туризма» приложение № 3 | Q30: Администрация города Чебоксары
G31: федеральный бюджет | H31: =SUM(I31:N31) -> 495 | I31: 0 | J31: 0 | K31: 0 | L31: 0 | M31: 247.5 | N31: 247.5
G32: республиканский бюджет Чувашской Республики | H32: =SUM(I32:N32) -> 4 | I32: 0 | J32: 0 | K32: 0 | L32: 0 | M32: 2 | N32: 2
G33: местный бюджет | H33: =SUM(I33:N33) -> 1 | I33: 0 | J33: 0 | K33: 0 | L33: 0 | M33: 0.5 | N33: 0.5
G34: внебюджетные источники | H34: =SUM(I34:N34) -> 0 | I34: 0 | J34: 0 | K34: 0 | L34: 0 | M34: 0 | N34: 0
A35: Строительство пирса и перенос ПСКР «Чебоксары» на постоянное место стоянки | B35: НП «Туризм и гостеприимство» | C35: городской округ город Чебоксары Чувашской Республики | D35: 2029-2030 | E35: - | F35: муниципальный бюджет города Чебоксары, ПСД имеется, нет экспертизы | G35: объем финансирования, млн. рублей | H35: =SUM(H36:H39) -> 280 | I35: =SUM(I36:I39) -> 0 | J35: =SUM(J36:J39) -> 0 | K35: =SUM(K36:K39) -> 0 | L35: =SUM(L36:L39) -> 0 | M35: =SUM(M36:M39) -> 100 | N35: =SUM(N36:N39) -> 180 | O35: Число посетителей в год – 1,5–2 млн. единиц | P35: Перенос корабля-музея на постоянное место стоянки | Q35: Администрация города Чебоксары
G36: федеральный бюджет | H36: =SUM(I36:N36) -> 0 | I36: 0 | J36: 0 | K36: 0 | L36: 0 | M36: 0 | N36: 0
G37: республиканский бюджет Чувашской Республики | H37: =SUM(I37:N37) -> 0 | I37: 0 | J37: 0 | K37: 0 | L37: 0 | M37: 0 | N37: 0
G38: местный бюджет | H38: =SUM(I38:N38) -> 280 | I38: 0 | J38: 0 | K38: 0 | L38: 0 | M38: 100 | N38: 180
G39: внебюджетные источники | H39: =SUM(I39:N39) -> 0 | I39: 0 | J39: 0 | K39: 0 | L39: 0 | M39: 0 | N39: 0
A40: Разработка ПСД и создание музея морской славы на базе пограничного сторожевого корабля «Чебоксары» | B40: НП «Туризм и гостеприимство» | C40: городской округ город Чебоксары Чувашской Республики | D40: 2029–2030 | E40: - | F40: федеральный бюджет, республиканский бюджет Чувашской Республики, местный бюджет города Чебоксары, ПСД имеется, нет экспертизы | G40: объем финансирования, млн. рублей | H40: =SUM(H41:H44) -> 88 | I40: =SUM(I41:I44) -> 0 | J40: =SUM(J41:J44) -> 0 | K40: =SUM(K41:K44) -> 0 | L40: =SUM(L41:L44) -> 0 | M40: =SUM(M41:M44) -> 40 | N40: =SUM(N41:N44) -> 48 | O40: Число посетителей в год – 1,5–2 млн. единиц | P40: ПСД – заявка на участие в РАИП 2026 года. Строительство – заявка на участие в государственной программе РФ «Развитие туризма» приложение № 3 | Q40: Администрация города Чебоксары
...

Sheet Строительство и ЖКХ
A1: Наименование | B1: Национальный проект, региональный проект | C1: Место реализации проекта | D1: Сроки реализации, годы | E1: Мощность | F1: Источник финансирования, наличие и необходимость ПСД | G1: Прогнозные объемы финансирования | O1: Число жителей, улучшивших условия в результате реализации, человек | P1: Основания для включения | Q1: Функциональный заказчик
G2: источник финансирования | H2: всего, в том числе | I2: 2025 | J2: 2026 | K2: 2027 | L2: 2028 | M2: 2029 | N2: 2030
A3: 1 | B3: 2 | C3: 3 | D3: 4 | E3: 5 | F3: 6 | G3: 7 | H3: 8 | I3: 9 | J3: 10 | K3: 11 | L3: 12 | M3: 13 | N3: 14 | O3: 15 | P3: 16 | Q3: 17
A4: городской округ город Чебоксары Чувашской Республики
A5: Магистральные сети водоснабжения микрорайона 2 «А» центральной части города Чебоксары «Грязевская стрелка», ограниченной улицами Гагарина, Ярмарочная, Пионерская, Калинина | B5: НП "Инфраструктура для жизни" | C5: городской округ город Чебоксары Чувашской Республики | D5: 2022-2026 | E5: 1,92 км | F5: Республиканский бюджет Чувашской Республики | G5: объем финансирования, млн. рублей | H5: =SUM(H6:H9) -> 19.9 | I5: =SUM(I6:I9) -> 0 | J5: =SUM(J6:J9) -> 19.9 | K5: =SUM(K6:K9) -> 0 | L5: =SUM(L6:L9) -> 0 | M5: =SUM(M6:M9) -> 0 | N5: =SUM(N6:N9) -> 0 | O5: 6723 | P5: Обеспечение ресурсами новых потребителей. Комфортное проживание и работа. Развитая инфраструктура. | Q5: Минстрой Чувашии
G6: федеральный бюджет | H6: =SUM(I6:N6) -> 0 | I6: 0 | J6: 0 | K6: 0 | L6: 0 | M6: 0 | N6: 0
G7: республиканский бюджет Чувашской Республики | H7: =SUM(I7:N7) -> 19.9 | I7: 0 | J7: 19.9 | K7: 0 | L7: 0 | M7: 0 | N7: 0
G8: местный бюджет | H8: =SUM(I8:N8) -> 0 | I8: 0 | J8: 0 | K8: 0 | L8: 0 | M8: 0 | N8: 0
G9: внебюджетные источники | H9: =SUM(I9:N9) -> 0 | I9: 0 | J9: 0 | K9: 0 | L9: 0 | M9: 0 | N9: 0
A10: Магистральные сети хозяйственно-бытовой канализации микрорайона 2 «А» центральной части города Чебоксары «Грязевская стрелка», ограниченной улицами Гагарина, Ярмарочная, Пионерская, Калинина | B10: НП "Инфраструктура для жизни" | C10: городской округ город Чебоксары Чувашской Республики | D10: 2022-2026 | E10: 1,125 км | F10: Республиканский бюджет Чувашской Республики | G10: объем финансирования, млн. рублей | H10: =SUM(H11:H14) -> 23.5 | I10: =SUM(I11:I14) -> 0 | J10: =SUM(J11:J14) -> 23.5 | K10: =SUM(K11:K14) -> 0 | L10: =SUM(L11:L14) -> 0 | M10: =SUM(M11:M14) -> 0 | N10: =SUM(N11:N14) -> 0 | O10: 6723 | P10: Обеспечение ресурсами новых потребителей. Отведение стоков от жилых домов и общественных зданий. Комфортное проживание и работа. Развитая инфраструктура. | Q10: Минстрой Чувашии
G11: федеральный бюджет | H11: =SUM(I11:N11) -> 0 | I11: 0 | J11: 0 | K11: 0 | L11: 0 | M11: 0 | N11: 0
G12: республиканский бюджет Чувашской Республики | H12: =SUM(I12:N12) -> 23.5 | I12: 0 | J12: 23.5 | K12: 0 | L12: 0 | M12: 0 | N12: 0
G13: местный бюджет | H13: =SUM(I13:N13) -> 0 | I13: 0 | J13: 0 | K13: 0 | L13: 0 | M13: 0 | N13: 0
G14: внебюджетные источники | H14: =SUM(I14:N14) -> 0 | I14: 0 | J14: 0 | K14: 0 | L14: 0 | M14: 0 | N14: 0
A15: Магистральные сети ливневой канализации микрорайона 2 «А» центральной части города Чебоксары «Грязевская стрелка», ограниченной улицами Гагарина, Ярмарочная, Пионерская, Калинина | B15: НП "Инфраструктура для жизни" | C15: городской округ город Чебоксары Чувашской Республики | D15: 2022-2026 | E15: 1,125 км | F15: Республиканский бюджет Чувашской Республики | G15: объем финансирования, млн. рублей | H15: =SUM(H16:H19) -> 42.3 | I15: =SUM(I16:I19) -> 0 | J15: =SUM(J16:J19) -> 42.3 | K15: =SUM(K16:K19) -> 0 | L15: =SUM(L16:L19) -> 0 | M15: =SUM(M16:M19) -> 0 | N15: =SUM(N16:N19) -> 0 | O15: 6723 | P15: Обеспечение ресурсами новых потребителей. Комфортное проживание и работа. Развитая инфраструктура. | Q15: Минстрой Чувашии
G16: федеральный бюджет | H16: =SUM(I16:N16) -> 0 | I16: 0 | J16: 0 | K16: 0 | L16: 0 | M16: 0 | N16: 0
G17: республиканский бюджет Чувашской Республики | H17: =SUM(I17:N17) -> 42.3 | I17: 0 | J17: 42.3 | K17: 0 | L17: 0 | M17: 0 | N17: 0
G18: местный бюджет | H18: =SUM(I18:N18) -> 0 | I18: 0 | J18: 0 | K18: 0 | L18: 0 | M18: 0 | N18: 0
G19: внебюджетные источники | H19: =SUM(I19:N19) -> 0 | I19: 0 | J19: 0 | K19: 0 | L19: 0 | M19: 0 | N19: 0
A20: Магистральные сети теплоснабжения микрорайона 2 «А» центральной части города Чебоксары «Грязевская стрелка», ограниченной улицами Гагарина, Ярмарочная, Пионерская, Калинина | B20: НП "Инфраструктура для жизни" | C20: городской округ город Чебоксары Чувашской Республики | D20: 2022-2026 | E20: 0,789 км | F20: Республиканский бюджет Чувашской Республики | G20: объем финансирования, млн. рублей | H20: =SUM(H21:H24) -> 41.5 | I20: =SUM(I21:I24) -> 0 | J20: =SUM(J21:J24) -> 41.5 | K20: =SUM(K21:K24) -> 0 | L20: =SUM(L21:L24) -> 0 | M20: =SUM(M21:M24) -> 0 | N20: =SUM(N21:N24) -> 0 | O20: 6723 | P20: Обеспечение ресурсами новых потребителей. Комфортное проживание и работа. Развитая инфраструктура. | Q20: Минстрой Чувашии
G21: федеральный бюджет | H21: =SUM(I21:N21) -> 0 | I21: 0 | J21: 0 | K21: 0 | L21: 0 | M21: 0 | N21: 0
G22: республиканский бюджет Чувашской Республики | H22: =SUM(I22:N22) -> 41.5 | I22: 0 | J22: 41.5 | K22: 0 | L22: 0 | M22: 0 | N22: 0
G23: местный бюджет | H23: =SUM(I23:N23) -> 0 | I23: 0 | J23: 0 | K23: 0 | L23: 0 | M23: 0 | N23: 0
G24: внебюджетные источники | H24: =SUM(I24:N24) -> 0 | I24: 0 | J24: 0 | K24: 0 | L24: 0 | M24: 0 | N24: 0
A25: Магистральные сети электроснабжения микрорайона 2 «А» центральной части города Чебоксары «Грязевская стрелка», ограниченной улицами Гагарина, Ярмарочная, Пионерская, Калинина | B25: НП "Инфраструктура для жизни" | C25: городской округ город Чебоксары Чувашской Республики | D25: 2022-2026 | E25: 1,7 км | F25: Республиканский бюджет Чувашской Республики | G25: объем финансирования, млн. рублей | H25: =SUM(H26:H29) -> 25.7 | I25: =SUM(I26:I29) -> 0 | J25: =SUM(J26:J29) -> 25.7 | K25: =SUM(K26:K29) -> 0 | L25: =SUM(L26:L29) -> 0 | M25: =SUM(M26:M29) -> 0 | N25: =SUM(N26:N29) -> 0 | O25: 6723 | P25: Обеспечение ресурсами новых потребителей. Комфортное проживание и работа. Развитая инфраструктура. | Q25: Минстрой Чувашии
G26: федеральный бюджет | H26: =SUM(I26:N26) -> 0 | I26: 0 | J26: 0 | K26: 0 | L26: 0 | M26: 0 | N26: 0
G27: республиканский бюджет Чувашской Республики | H27: =SUM(I27:N27) -> 25.7 | I27: 0 | J27: 25.7 | K27: 0 | L27: 0 | M27: 0 | N27: 0
G28: местный бюджет | H28: =SUM(I28:N28) -> 0 | I28: 0 | J28: 0 | K28: 0 | L28: 0 | M28: 0 | N28: 0
G29: внебюджетные источники | H29: =SUM(I29:N29) -> 0 | I29: 0 | J29: 0 | K29: 0 | L29: 0 | M29: 0 | N29: 0
A30: Отводящий коллектор реки Кайбулка и ее притоков от ул. Гагарина до ул. Калинина городской округ город Чебоксары Чувашской Республики | B30: НП "Инфраструктура для жизни" | C30: городской округ город Чебоксары Чувашской Республики | D30: 2029 | E30: 2,585 км | F30: Республиканский бюджет Чувашской Республики | G30: объем финансирования, млн. рублей | H30: =SUM(H31:H34) -> 105.5 | I30: =SUM(I31:I34) -> 0 | J30: =SUM(J31:J34) -> 0 | K30: =SUM(K31:K34) -> 0 | L30: =SUM(L31:L34) -> 0 | M30: =SUM(M31:M34) -> 105.5 | N30: =SUM(N31:N34) -> 0 | O30: 507183 | P30: Подключение новых потребителей; сокращение объемов загрязненных сточных вод | Q30: Администрация города Чебоксары
G31: федеральный бюджет | H31: =SUM(I31:N31) -> 0 | I31: 0 | J31: 0 | K31: 0 | L31: 0 | M31: 0 | N31: 0
G32: республиканский бюджет Чувашской Республики | H32: =SUM(I32:N32) -> 105.5 | I32: 0 | J32: 0 | K32: 0 | L32: 0 | M32: 105.5 | N32: 0
G33: местный бюджет | H33: =SUM(I33:N33) -> 0 | I33: 0 | J33: 0 | K33: 0 | L33: 0 | M33: 0 | N33: 0
G34: внебюджетные источники | H34: =SUM(I34:N34) -> 0 | I34: 0 | J34: 0 | K34: 0 | L34: 0 | M34: 0 | N34: 0
A35: Устройство водопропускного коллектора со спрямлением русла р. Чебоксарка | B35: НП "Инфраструктура для жизни" | C35: городской округ город Чебоксары Чувашской Республики | D35: 2024-2025 | E35: - | F35: Республиканский бюджет Чувашской Республики | G35: объем финансирования, млн. рублей | H35: =SUM(H36:H39) -> 83.9 | I35: =SUM(I36:I39) -> 66.8 | J35: =SUM(J36:J39) -> 17.1 | K35: =SUM(K36:K39) -> 0 | L35: =SUM(L36:L39) -> 0 | M35: =SUM(M36:M39) -> 0 | N35: =SUM(N36:N39) -> 0 | O35: 507183 | P35: Подключение новых потребителей; сокращение объемов загрязненных сточных вод | Q35: Минстрой Чувашии
G36: федеральный бюджет | H36: =SUM(I36:N36) -> 0 | I36: 0 | J36: 0 | K36: 0 | L36: 0 | M36: 0 | N36: 0
G37: республиканский бюджет Чувашской Республики | H37: =SUM(I37:N37) -> 83.9 | I37: 66.8 | J37: 17.1 | K37: 0 | L37: 0 | M37: 0 | N37: 0
G38: местный бюджет | H38: =SUM(I38:N38) -> 0 | I38: 0 | J38: 0 | K38: 0 | L38: 0 | M38: 0 | N38: 0
G39: внебюджетные источники | H39: =SUM(I39:N39) -> 0 | I39: 0 | J39: 0 | K39: 0 | L39: 0 | M39: 0 | N39: 0
A40: Сети водоснабжения в нижней части I очереди VII микрорайона центральной части г. Чебоксары | B40: НП "Инфраструктура для жизни" | C40: городской округ город Чебоксары Чувашской Республики | D40: 2025 | E40: - | F40: Республиканский бюджет Чувашской Республики | G40: объем финансирования, млн. рублей | H40: =SUM(H41:H44) -> 46.1 | I40: =SUM(I41:I44) -> 0 | J40: =SUM(J41:J44) -> 46.1 | K40: =SUM(K41:K44) -> 0 | L40: =SUM(L41:L44) -> 0 | M40: =SUM(M41:M44) -> 0 | N40: =SUM(N41:N44) -> 0 | O40: 507183 | P40: Подключение новых потребителей; сокращение объемов загрязненных сточных вод | Q40: Минстрой Чувашии
...

Sheet Энергетика
A1: Наименование | B1: Национальный проект, региональный проект | C1: Место реализации проекта | D1: Сроки реализации, годы | E1: Мощность | F1: Источник финансирования, наличие и необходимость ПСД | G1: Прогнозные объемы финансирования | O1: Число жителей, улучшивших условия в результате реализации, человек | P1: Основания для включения | Q1: Функциональный заказчик
G2: источник финансирования | H2: всего, в том числе | I2: 2025 | J2: 2026 | K2: 2027 | L2: 2028 | M2: 2029 | N2: 2030
A3: 1 | B3: 2 | C3: 3 | D3: 4 | E3: 5 | F3: 6 | G3: 7 | H3: 8 | I3: 9 | J3: 10 | K3: 11 | L3: 12 | M3: 13 | N3: 14 | O3: 15 | P3: 16 | Q3: 17
A4: Алатырский муниципальный округ Чувашской Республики
A5: Установка и размещения электрозарядных станций для электрического автомобильного транспорта на территории города Алатыря | B5: - | C5: Алатырский муниципальный округ Чувашской Республики | D5: 2027–2029 | F5: внебюджетные источники | G5: объем финансирования, млн. рублей | H5: =SUM(H6:H9) -> 9 | I5: =SUM(I6:I9) -> 0 | J5: =SUM(J6:J9) -> 0 | K5: =SUM(K6:K9) -> 3 | L5: =SUM(L6:L9) -> 3 | M5: =SUM(M6:M9) -> 3 | N5: =SUM(N6:N9) -> 0 | O5: 35298 | P5: Схема и программа развития зарядной инфраструктуры для электрического автомобильного транспорта на территории Чувашской Республики на период до 2024 года и на перспективу до 2030 года | Q5: Администрация Алатырского муниципального округа
G6: федеральный бюджет | H6: =SUM(I6:N6) -> 0 | I6: 0 | J6: 0 | K6: 0 | L6: 0 | M6: 0 | N6: 0
G7: республиканский бюджет Чувашской Республики | H7: =SUM(I7:N7) -> 0 | I7: 0 | J7: 0 | K7: 0 | L7: 0 | M7: 0 | N7: 0
G8: местный бюджет | H8: =SUM(I8:N8) -> 0 | I8: 0 | J8: 0 | K8: 0 | L8: 0 | M8: 0 | N8: 0
G9: внебюджетные источники | H9: =SUM(I9:N9) -> 9 | I9: 0 | J9: 0 | K9: 3 | L9: 3 | M9: 3 | N9: 0
A10: ИТОГО по муниципальному округу: | G10: объем финансирования, млн. рублей | H10: =SUM(H11:H14) -> 9 | I10: =SUM(I11:I14) -> 0 | J10: =SUM(J11:J14) -> 0 | K10: =SUM(K11:K14) -> 3 | L10: =SUM(L11:L14) -> 3 | M10: =SUM(M11:M14) -> 3 | N10: =SUM(N11:N14) -> 0
G11: федеральный бюджет | H11: =SUM(I11:N11) -> 0 | I11: =I6 -> 0 | J11: =J6 -> 0 | K11: =K6 -> 0 | L11: =L6 -> 0 | M11: =M6 -> 0 | N11: =N6 -> 0
G12: республиканский бюджет Чувашской Республики | H12: =SUM(I12:N12) -> 0 | I12: =I7 -> 0 | J12: =J7 -> 0 | K12: =K7 -> 0 | L12: =L7 -> 0 | M12: =M7 -> 0 | N12: =N7 -> 0
G13: местный бюджет | H13: =SUM(I13:N13) -> 0 | I13: =I8 -> 0 | J13: =J8 -> 0 | K13: =K8 -> 0 | L13: =L8 -> 0 | M13: =M8 -> 0 | N13: =N8 -> 0
G14: внебюджетные источники | H14: =SUM(I14:N14) -> 9 | I14: =I9 -> 0 | J14: =J9 -> 0 | K14: =K9 -> 3 | L14: =L9 -> 3 | M14: =M9 -> 3 | N14: =N9 -> 0
A15: Батыревский муниципальный округ Чувашской Республики
A16: Создание индустриального парка в Батыревсом районе в рамках реализации мероприятий индивидуальных программ социально-экономического развития отдльных субъектов Российской Федерации в части государственной поддержки реализации инвестиционных проектов, малого и среднего предпринимательства (2 этап) | B16: В рамках реализации мероприятий Индивидуальной программы социально-экономического развития отдельных субъектов Российской Федерации в части государственной поддержки реализации инвестиционных проектов, малого и среднего предпринимательства" | C16: Батыревский муниципальный округ | D16: 2025 | F16: внебюджетные источники | G16: объем финансирования, млн. рублей | H16: =SUM(H17:H20) -> 35.52 | I16: =SUM(I17:I20) -> 35.52 | J16: =SUM(J17:J20) -> 0 | K16: =SUM(K17:K20) -> 0 | L16: =SUM(L17:L20) -> 0 | M16: =SUM(M17:M20) -> 0 | N16: =SUM(N17:N20) -> 0 | O16: 30329 | P16: Индивидуальная программа социально-экономического отдельных субъектов Российской Федерации | Q16: Администрация Батыревского муниципального округа
G17: федеральный бюджет | H17: =SUM(I17:N17) -> 0 | I17: 0 | J17: 0 | K17: 0 | L17: 0 | M17: 0 | N17: 0
G18: республиканский бюджет Чувашской Республики | H18: =SUM(I18:N18) -> 35.52 | I18: 35.52 | J18: 0 | K18: 0 | L18: 0 | M18: 0 | N18: 0
G19: местный бюджет | H19: =SUM(I19:N19) -> 0 | I19: 0 | J19: 0 | K19: 0 | L19: 0 | M19: 0 | N19: 0
G20: внебюджетные источники | H20: =SUM(I20:N20) -> 0 | I20: 0 | J20: 0 | K20: 0 | L20: 0 | M20: 0 | N20: 0
A21: ИТОГО по муниципальному округу: | G21: объем финансирования, млн. рублей | H21: =SUM(H22:H25) -> 35.52 | I21: =SUM(I22:I25) -> 35.52 | J21: =SUM(J22:J25) -> 0 | K21: =SUM(K22:K25) -> 0 | L21: =SUM(L22:L25) -> 0 | M21: =SUM(M22:M25) -> 0 | N21: =SUM(N22:N25) -> 0
G22: федеральный бюджет | H22: =SUM(I22:N22) -> 0 | I22: =I17 -> 0 | J22: =J17 -> 0 | K22: =K17 -> 0 | L22: =L17 -> 0 | M22: =M17 -> 0 | N22: =N17 -> 0
G23: республиканский бюджет Чувашской Республики | H23: =SUM(I23:N23) -> 35.52 | I23: =I18 -> 35.52 | J23: =J18 -> 0 | K23: =K18 -> 0 | L23: =L18 -> 0 | M23: =M18 -> 0 | N23: =N18 -> 0
G24: местный бюджет | H24: =SUM(I24:N24) -> 0 | I24: =I19 -> 0 | J24: =J19 -> 0 | K24: =K19 -> 0 | L24: =L19 -> 0 | M24: =M19 -> 0 | N24: =N19 -> 0
G25: внебюджетные источники | H25: =SUM(I25:N25) -> 0 | I25: =I20 -> 0 | J25: =J20 -> 0 | K25: =K20 -> 0 | L25: =L20 -> 0 | M25: =M20 -> 0 | N25: =N20 -> 0
A26: Козловский муниципальный округ Чувашской Республики
A27: Проектные работы «Строительство электрической трансформаторной подстанции и сетей электроснаснабжения МКД по ул. Молодежной г. Козловка» | B27: Государственная программа Чувашской Республики «Модернизация и развитие сферы жилищно-коммунального хозяйства» | C27: Козловский муниципальный округ Чувашской Республики | D27: 2028 | F27: РБ, МБ | G27: объем финансирования, млн. рублей | H27: =SUM(H28:H31) -> 1.6 | I27: =SUM(I28:I31) -> 0 | J27: =SUM(J28:J31) -> 0 | K27: =SUM(K28:K31) -> 0 | L27: =SUM(L28:L31) -> 1.6 | M27: =SUM(M28:M31) -> 0 | N27: =SUM(N28:N31) -> 0 | O27: 280 | P27: 4 многоквартирных муниципальных дома подключены к системам тепло-, водо- и электроснабжения ФКУ ИК-5 УФСИН России по Чувашской Республике. Необходимо включение данных домов в общегородские сети. | Q27: Администрация Козловского муниципального округа
G28: федеральный бюджет | H28: =SUM(I28:N28) -> 0 | I28: 0 | J28: 0 | K28: 0 | L28: 0 | M28: 0 | N28: 0
G29: республиканский бюджет Чувашской Республики | H29: =SUM(I29:N29) -> 0 | I29: 0 | J29: 0 | K29: 0 | L29: 0 | M29: 0 | N29: 0
G30: местный бюджет | H30: =SUM(I30:N30) -> 1.6 | I30: 0 | J30: 0 | K30: 0 | L30: 1.6 | M30: 0 | N30: 0
G31: внебюджетные источники | H31: =SUM(I31:N31) -> 0 | I31: 0 | J31: 0 | K31: 0 | L31: 0 | M31: 0 | N31: 0
A32: Строительство электрической трансформаторной подстанции и сетей электроснаснабжения МКД по ул. Молодежной г. Козловка | B32: Государственная программа Чувашской Республики «Модернизация и развитие сферы жилищно-коммунального хозяйства» | C32: Козловский муниципальный округ Чувашской Республики | D32: 2029–2030 | F32: ФБ, РБ. разработка ПСД требуется, запланирована на 2028 г | G32: объем финансирования, млн. рублей | H32: =SUM(H33:H36) -> 12.4 | I32: =SUM(I33:I36) -> 0 | J32: =SUM(J33:J36) -> 0 | K32: =SUM(K33:K36) -> 0 | L32: =SUM(L33:L36) -> 0 | M32: =SUM(M33:M36) -> 7.4 | N32: =SUM(N33:N36) -> 5 | O32: 280 | P32: 4 многоквартирных муниципальных дома подключены к системам тепло-, водо- и электроснабжения ФКУ ИК-5 УФСИН России по Чувашской Республике. Необходимо включение данных домов в общегородские сети. | Q32: Администрация Козловского муниципального округа
G33: федеральный бюджет | H33: =SUM(I33:N33) -> 6.2 | I33: 0 | J33: 0 | K33: 0 | L33: 0 | M33: 3.7 | N33: 2.5
G34: республиканский бюджет Чувашской Республики | H34: =SUM(I34:N34) -> 6.2 | I34: 0 | J34: 0 | K34: 0 | L34: 0 | M34: 3.7 | N34: 2.5
G35: местный бюджет | H35: =SUM(I35:N35) -> 0 | I35: 0 | J35: 0 | K35: 0 | L35: 0 | M35: 0 | N35: 0
G36: внебюджетные источники | H36: =SUM(I36:N36) -> 0 | I36: 0 | J36: 0 | K36: 0 | L36: 0 | M36: 0 | N36: 0
A37: ИТОГО по муниципальному округу: | G37: объем финансирования, млн. рублей | H37: =SUM(H38:H41) -> 14 | I37: =SUM(I38:I41) -> 0 | J37: =SUM(J38:J41) -> 0 | K37: =SUM(K38:K41) -> 0 | L37: =SUM(L38:L41) -> 1.6 | M37: =SUM(M38:M41) -> 7.4 | N37: =SUM(N38:N41) -> 5
G38: федеральный бюджет | H38: =SUM(I38:N38) -> 6.2 | I38: =SUM(I28+I33) -> 0 | J38: =SUM(J28+J33) -> 0 | K38: =SUM(K28+K33) -> 0 | L38: =SUM(L28+L33) -> 0 | M38: =SUM(M28+M33) -> 3.7 | N38: =SUM(N28+N33) -> 2.5
G39: республиканский бюджет Чувашской Республики | H39: =SUM(I39:N39) -> 6.2 | I39: =SUM(I29+I34) -> 0 | J39: =SUM(J29+J34) -> 0 | K39: =SUM(K29+K34) -> 0 | L39: =SUM(L29+L34) -> 0 | M39: =SUM(M29+M34) -> 3.7 | N39: =SUM(N29+N34) -> 2.5
G40: местный бюджет | H40: =SUM(I40:N40) -> 1.6 | I40: =SUM(I30+I35) -> 0 | J40: =SUM(J30+J35) -> 0 | K40: =SUM(K30+K35) -> 0 | L40: =SUM(L30+L35) -> 1.6 | M40: =SUM(M30+M35) -> 0 | N40: =SUM(N30+N35) -> 0
...

Sheet Транспорт и дорожное хозяйство
A1: Наименование | B1: Национальный проект, региональный проект | C1: Место реализации проекта | D1: Сроки реализации, годы | E1: Мощность | F1: Источник финансирования, наличие и необходимость ПСД | G1: Прогнозные объемы финансирования | O1: Число жителей, улучшивших условия в результате реализации, человек | P1: Основания для включения | Q1: Функциональный заказчик
G2: источник финансирования | H2: всего, в том числе | I2: 2025 | J2: 2026 | K2: 2027 | L2: 2028 | M2: 2029 | N2: 2030
A3: 1 | B3: 2 | C3: 3 | D3: 4 | E3: 5 | F3: 6 | G3: 7 | H3: 8 | I3: 9 | J3: 10 | K3: 11 | L3: 12 | M3: 13 | N3: 14 | O3: 15 | P3: 16 | Q3: 17
A4: городской округ город Чебоксары Чувашской Республики
A5: Дорога в жилой застройке в микрорайоне № 5 жилого района «Новый город» г. Чебоксары | B5: НП "Инфраструктура для жизни" | C5: городской округ город Чебоксары Чувашской Республики | D5: 2025-2026 | E5: 0,451 км | F5: Республиканский бюджет Чувашской Республики | G5: объем финансирования, млн. рублей | H5: =SUM(H6:H9) -> 129.5 | I5: =SUM(I6:I9) -> 57.4 | J5: =SUM(J6:J9) -> 72.1 | K5: =SUM(K6:K9) -> 0 | L5: =SUM(L6:L9) -> 0 | M5: =SUM(M6:M9) -> 0 | N5: =SUM(N6:N9) -> 0 | O5: 100000 | P5: улучшение транспортной инфраструктуры | Q5: Минстрой Чувашии
G6: федеральный бюджет | H6: =SUM(I6:N6) -> 0 | I6: 0 | J6: 0 | K6: 0 | L6: 0 | M6: 0 | N6: 0
G7: республиканский бюджет Чувашской Республики | H7: =SUM(I7:N7) -> 129.5 | I7: 57.4 | J7: 72.1 | K7: 0 | L7: 0 | M7: 0 | N7: 0
G8: местный бюджет | H8: =SUM(I8:N8) -> 0 | I8: 0 | J8: 0 | K8: 0 | L8: 0 | M8: 0 | N8: 0
G9: внебюджетные источники | H9: =SUM(I9:N9) -> 0 | I9: 0 | J9: 0 | K9: 0 | L9: 0 | M9: 0 | N9: 0
A10: Автомобильная дорога микрорайона 2 «А» центральной части города Чебоксары «Грязевская стрелка» | B10: НП "Инфраструктура для жизни" | C10: городской округ город Чебоксары Чувашской Республики | D10: 2025-2026 | E10: 0.644 | F10: Республиканский бюджет Чувашской Республики | G10: объем финансирования, млн. рублей | H10: =SUM(H11:H14) -> 74.7 | I10: =SUM(I11:I14) -> 46.7 | J10: =SUM(J11:J14) -> 28 | K10: =SUM(K11:K14) -> 0 | L10: =SUM(L11:L14) -> 0 | M10: =SUM(M11:M14) -> 0 | N10: =SUM(N11:N14) -> 0 | O10: 6743 | P10: Обеспечение транспортной связи между районами города | Q10: Минстрой Чувашии
G11: федеральный бюджет | H11: =SUM(I11:N11) -> 0 | I11: 0 | J11: 0 | K11: 0 | L11: 0 | M11: 0 | N11: 0
G12: республиканский бюджет Чувашской Республики | H12: =SUM(I12:N12) -> 74.7 | I12: 46.7 | J12: 28 | K12: 0 | L12: 0 | M12: 0 | N12: 0
G13: местный бюджет | H13: =SUM(I13:N13) -> 0 | I13: 0 | J13: 0 | K13: 0 | L13: 0 | M13: 0 | N13: 0
G14: внебюджетные источники | H14: =SUM(I14:N14) -> 0 | I14: 0 | J14: 0 | K14: 0 | L14: 0 | M14: 0 | N14: 0
A15: Строительство третьего транспортного полукольца в г. Чебоксары. 1 этап | B15: НП «Инфраструктура для жизни» | C15: городской округ город Чебоксары Чувашской Республики | D15: 2026–2030 | E15: 2.18 | F15: Федеральный бюджет, республиканский бюджет Чувашской Республики, местный бюджет, ПСД имеется | G15: объем финансирования, млн. рублей | H15: =SUM(H16:H19) -> 6019.9 | I15: =SUM(I16:I19) -> 0 | J15: =SUM(J16:J19) -> 30 | K15: =SUM(K16:K19) -> 0 | L15: =SUM(L16:L19) -> 0 | M15: =SUM(M16:M19) -> 3333.2 | N15: =SUM(N16:N19) -> 2656.7 | O15: 500000 | P15: Обеспечение транспортной связи между районами города | Q15: Администрация города Чебоксары
G16: федеральный бюджет | H16: =SUM(I16:N16) -> 5824 | I16: 0 | J16: 0 | K16: 0 | L16: 0 | M16: 3241.3 | N16: 2582.7
G17: республиканский бюджет Чувашской Республики | H17: =SUM(I17:N17) -> 156.7 | I17: 0 | J17: 24 | K17: 0 | L17: 0 | M17: 73.5 | N17: 59.2
G18: местный бюджет | H18: =SUM(I18:N18) -> 39.2 | I18: 0 | J18: 6 | K18: 0 | L18: 0 | M18: 18.4 | N18: 14.8
G19: внебюджетные источники | H19: =SUM(I19:N19) -> 0 | I19: 0 | J19: 0 | K19: 0 | L19: 0 | M19: 0 | N19: 0
A20: Строительство третьего транспортного полукольца в г. Чебоксары 2 и 3 этапы | B20: НП «Инфраструктура для жизни» | C20: городской округ город Чебоксары Чувашской Республики | D20: 2029–2030 | E20: 4.8 | F20: Федеральный бюджет, республиканский бюджет Чувашской Республики, местный бюджет, имеется необходимость в разработке ПСД | G20: объем финансирования, млн. рублей | H20: =SUM(H21:H24) -> 25000 | I20: =SUM(I21:I24) -> 0 | J20: =SUM(J21:J24) -> 0 | K20: =SUM(K21:K24) -> 0 | L20: =SUM(L21:L24) -> 0 | M20: =SUM(M21:M24) -> 15000 | N20: =SUM(N21:N24) -> 10000 | O20: 500000 | P20: Обеспечение транспортной связи между районами города | Q20: Администрация города Чебоксары
G21: федеральный бюджет | H21: =SUM(I21:N21) -> 24250 | I21: 0 | J21: 0 | K21: 0 | L21: 0 | M21: 14550 | N21: 9700
G22: республиканский бюджет Чувашской Республики | H22: =SUM(I22:N22) -> 600 | I22: 0 | J22: 0 | K22: 0 | L22: 0 | M22: 360 | N22: 240
G23: местный бюджет | H23: =SUM(I23:N23) -> 150 | I23: 0 | J23: 0 | K23: 0 | L23: 0 | M23: 90 | N23: 60
G24: внебюджетные источники | H24: =SUM(I24:N24) -> 0 | I24: 0 | J24: 0 | K24: 0 | L24: 0 | M24: 0 | N24: 0
A25: Реконструкция ул. Фучика (с устройством одноуровневой транспортной развязки) | B25: НП «Инфраструктура для жизни» | C25: городской округ город Чебоксары Чувашской Республики | D25: 2027, 2029 | E25: 0.9 | F25: Федеральный бюджет, республиканский бюджет Чувашской Республики, местный бюджет, ПСД планируется разработать в 2026 году | G25: объем финансирования, млн. рублей | H25: =SUM(H26:H29) -> 612.5 | I25: =SUM(I26:I29) -> 0 | J25: =SUM(J26:J29) -> 0 | K25: =SUM(K26:K29) -> 12.5 | L25: =SUM(L26:L29) -> 0 | M25: =SUM(M26:M29) -> 600 | N25: =SUM(N26:N29) -> 0 | O25: 100000 | P25: Приведение в нормативное состояние автодороги | Q25: Администрация города Чебоксары
G26: федеральный бюджет | H26: =SUM(I26:N26) -> 582 | I26: 0 | J26: 0 | K26: 0 | L26: 0 | M26: 582 | N26: 0
G27: республиканский бюджет Чувашской Республики | H27: =SUM(I27:N27) -> 14.4 | I27: 0 | J27: 0 | K27: 0 | L27: 0 | M27: 14.4 | N27: 0
G28: местный бюджет | H28: =SUM(I28:N28) -> 16.1 | I28: 0 | J28: 0 | K28: 12.5 | L28: 0 | M28: 3.6 | N28: 0
G29: внебюджетные источники | H29: =SUM(I29:N29) -> 0 | I29: 0 | J29: 0 | K29: 0 | L29: 0 | M29: 0 | N29: 0
A30: Капитальный ремонт автомобильной дороги по ул. Пристанционная | B30: НП «Инфраструктура для жизни» | C30: городской округ город Чебоксары Чувашской Республики | D30: 2025 | E30: 1 | F30: республиканский бюджет Чувашской Республики, местный бюджет, ПСД имеется | G30: объем финансирования, млн. рублей | H30: =SUM(H31:H34) -> 111.3 | I30: =SUM(I31:I34) -> 111.3 | J30: 0 | K30: =SUM(K31:K34) -> 0 | L30: =SUM(L31:L34) -> 0 | M30: =SUM(M31:M34) -> 0 | N30: =SUM(N31:N34) -> 0 | O30: 20000 | P30: Приведение в нормативное состояние автодороги | Q30: Администрация города Чебоксары
G31: федеральный бюджет | H31: =SUM(I31:N31) -> 0 | I31: 0 | J31: 0 | K31: 0 | L31: 0 | M31: 0 | N31: 0
G32: республиканский бюджет Чувашской Республики | H32: =SUM(I32:N32) -> 89 | I32: 89 | J32: 0 | K32: 0 | L32: 0 | M32: 0 | N32: 0
G33: местный бюджет | H33: =SUM(I33:N33) -> 22.3 | I33: 22.3 | J33: 0 | K33: 0 | L33: 0 | M33: 0 | N33: 0
G34: внебюджетные источники | H34: =SUM(I34:N34) -> 0 | I34: 0 | J34: 0 | K34: 0 | L34: 0 | M34: 0 | N34: 0
A35: Капитальный ремонт участка автомобильной дороги по проезду Соляное | B35: НП «Инфраструктура для жизни» | C35: городской округ город Чебоксары Чувашской Республики | D35: 2027-2028 | E35: 1.4 | F35: республиканский бюджет Чувашской Республики, местный бюджет, имеется необходимость в разработке ПСД | G35: объем финансирования, млн. рублей | H35: =SUM(H36:H39) -> 300 | I35: =SUM(I36:I39) -> 0 | J35: =SUM(J36:J39) -> 0 | K35: =SUM(K36:K39) -> 100 | L35: =SUM(L36:L39) -> 200 | M35: =SUM(M36:M39) -> 0 | N35: =SUM(N36:N39) -> 0 | O35: 30000 | P35: Приведение в нормативное состояние автодороги | Q35: Администрация города Чебоксары
G36: федеральный бюджет | H36: =SUM(I36:N36) -> 0 | I36: 0 | J36: 0 | K36: 0 | L36: 0 | M36: 0 | N36: 0
G37: республиканский бюджет Чувашской Республики | H37: =SUM(I37:N37) -> 240 | I37: 0 | J37: 0 | K37: 80 | L37: 160 | M37: 0 | N37: 0
G38: местный бюджет | H38: =SUM(I38:N38) -> 60 | I38: 0 | J38: 0 | K38: 20 | L38: 40 | M38: 0 | N38: 0
G39: внебюджетные источники | H39: =SUM(I39:N39) -> 0 | I39: 0 | J39: 0 | K39: 0 | L39: 0 | M39: 0 | N39: 0
A40: Строительство ул. Н. Рождественского г. Чебоксары | B40: НП «Инфраструктура для жизни» | C40: городской округ город Чебоксары Чувашской Республики | D40: 2029-2030 | E40: 1.4 | F40: республиканский бюджет Чувашской Республики, местный бюджет, имеется необходимость в разработке ПСД | G40: объем финансирования, млн. рублей | H40: =SUM(H41:H44) -> 985.6 | I40: =SUM(I41:I44) -> 0 | J40: =SUM(J41:J44) -> 0 | K40: =SUM(K41:K44) -> 0 | L40: =SUM(L41:L44) -> 0 | M40: =SUM(M41:M44) -> 492.8 | N40: 492.8 | O40: 50000 | P40: Обеспечение транспортной связи между районами города | Q40: Администрация города Чебоксары
...

Sheet Потреб рынок и сфера услуг
A1: Наименование | B1: Национальный проект, региональный проект | C1: Место реализации проекта | D1: Сроки реализации, годы | E1: Мощность | F1: Источник финансирования, наличие и необходимость ПСД | G1: Прогнозные объемы финансирования | O1: Число жителей, улучшивших условия в результате реализации, человек | P1: Основания для включения | Q1: Функциональный заказчик
G2: источник финансирования | H2: всего, в том числе | I2: 2025 | J2: 2026 | K2: 2027 | L2: 2028 | M2: 2029 | N2: 2030
A3: 1 | B3: 2 | C3: 3 | D3: 4 | E3: 5 | F3: 6 | G3: 7 | H3: 8 | I3: 9 | J3: 10 | K3: 11 | L3: 12 | M3: 13 | N3: 14 | O3: 15 | P3: 16 | Q3: 17
A4: Алатырский муниципальный округ Чувашской Республики
A5: Разработка ПСД для строительства инженерной инфраструктуры при создание ТИЦ города и реконструкция парка отдыха (мангальные зоны, аттракционы, инфраструктура общественного питания) города Алатырь | B5: - | C5: Алатырский муниципальный округ Чувашской Республики | D5: 2025–2026 | E5: Создание новой точки притяжения туристов в городе Алатырь, мангальные зоны, атракционы, инфраструктура общественного питания | F5: Планируется в 2025 году подать заявку на разработку ПСД в РАИП, строительство в 2026 г. | G5: объем финансирования, млн. рублей | H5: =SUM(H6:H9) -> 50.1 | I5: =SUM(I6:I9) -> 5 | J5: =SUM(J6:J9) -> 45.1 | K5: =SUM(K6:K9) -> 0 | L5: =SUM(L6:L9) -> 0 | M5: =SUM(M6:M9) -> 0 | N5: =SUM(N6:N9) -> 0 | P5: 0 | Q5: Администрация Алатырского муниципального округа
G6: федеральный бюджет | H6: =SUM(I6:N6) -> 43.7 | I6: 0 | J6: 43.7 | K6: 0 | L6: 0 | M6: 0 | N6: 0
G7: республиканский бюджет Чувашской Республики | H7: =SUM(I7:N7) -> 6.1 | I7: 5 | J7: 1.1 | K7: 0 | L7: 0 | M7: 0 | N7: 0
G8: местный бюджет | H8: =SUM(I8:N8) -> 0.3 | I8: 0 | J8: 0.3 | K8: 0 | L8: 0 | M8: 0 | N8: 0
G9: внебюджетные источники | H9: =SUM(I9:N9) -> 0 | I9: 0 | J9: 0 | K9: 0 | L9: 0 | M9: 0 | N9: 0
A10: ИТОГО по муниципальному округу: | G10: объем финансирования, млн. рублей | H10: =SUM(H5) -> 50.1 | I10: =SUM(I5) -> 5 | J10: =SUM(J5) -> 45.1 | K10: =SUM(K5) -> 0 | L10: =SUM(L5) -> 0 | M10: =SUM(M5) -> 0 | N10: =SUM(N5) -> 0
G11: федеральный бюджет | H11: =SUM(H6) -> 43.7 | I11: =SUM(I6) -> 0 | J11: =SUM(J6) -> 43.7 | K11: =SUM(K6) -> 0 | L11: =SUM(L6) -> 0 | M11: =SUM(M6) -> 0 | N11: =SUM(N6) -> 0
G12: республиканский бюджет Чувашской Республики | H12: =SUM(H7) -> 6.1 | I12: =SUM(I7) -> 5 | J12: =SUM(J7) -> 1.1 | K12: =SUM(K7) -> 0 | L12: =SUM(L7) -> 0 | M12: =SUM(M7) -> 0 | N12: =SUM(N7) -> 0
G13: местный бюджет | H13: =SUM(H8) -> 0.3 | I13: =SUM(I8) -> 0 | J13: =SUM(J8) -> 0.3 | K13: =SUM(K8) -> 0 | L13: =SUM(L8) -> 0 | M13: =SUM(M8) -> 0 | N13: =SUM(N8) -> 0
G14: внебюджетные источники | H14: =SUM(H9) -> 0 | I14: =SUM(I9) -> 0 | J14: =SUM(J9) -> 0 | K14: =SUM(K9) -> 0 | L14: =SUM(L9) -> 0 | M14: =SUM(M9) -> 0 | N14: =SUM(N9) -> 0
A15: Канашский муниципальный округ Чувашской Республики
A16: Строительство торгового комплекса ИП Александров А.В. | C16: Канашский муниципальный округ Чувашской Республики | D16: 2025 | E16: - | F16: Средства юридических лиц | G16: объем финансирования, млн. рублей | H16: =SUM(H17:H20) -> 15 | I16: =SUM(I17:I20) -> 15 | J16: =SUM(J17:J20) -> 0 | K16: =SUM(K17:K20) -> 0 | L16: =SUM(L17:L20) -> 0 | M16: =SUM(M17:M20) -> 0 | N16: =SUM(N17:N20) -> 0 | Q16: Администрация Канашского муниципального округа
G17: федеральный бюджет | H17: =SUM(I17:N17) -> 0 | I17: 0 | J17: 0 | K17: 0 | L17: 0 | M17: 0 | N17: 0
G18: республиканский бюджет Чувашской Республики | H18: =SUM(I18:N18) -> 0 | I18: 0 | J18: 0 | K18: 0 | L18: 0 | M18: 0 | N18: 0
G19: местный бюджет | H19: =SUM(I19:N19) -> 0 | I19: 0 | J19: 0 | K19: 0 | L19: 0 | M19: 0 | N19: 0
G20: внебюджетные источники | H20: =SUM(I20:N20) -> 15 | I20: 15 | J20: 0 | K20: 0 | L20: 0 | M20: 0 | N20: 0
A21: ИТОГО по муниципальному округу: | G21: объем финансирования, млн. рублей | H21: =SUM(H16) -> 15 | I21: =SUM(I16) -> 15 | J21: =SUM(J16) -> 0 | K21: =SUM(K16) -> 0 | L21: =SUM(L16) -> 0 | M21: =SUM(M16) -> 0 | N21: =SUM(N16) -> 0
G22: федеральный бюджет | H22: =SUM(H17) -> 0 | I22: =SUM(I17) -> 0 | J22: =SUM(J17) -> 0 | K22: =SUM(K17) -> 0 | L22: =SUM(L17) -> 0 | M22: =SUM(M17) -> 0 | N22: =SUM(N17) -> 0
G23: республиканский бюджет Чувашской Республики | H23: =SUM(H18) -> 0 | I23: =SUM(I18) -> 0 | J23: =SUM(J18) -> 0 | K23: =SUM(K18) -> 0 | L23: =SUM(L18) -> 0 | M23: =SUM(M18) -> 0 | N23: =SUM(N18) -> 0
G24: местный бюджет | H24: =SUM(H19) -> 0 | I24: =SUM(I19) -> 0 | J24: =SUM(J19) -> 0 | K24: =SUM(K19) -> 0 | L24: =SUM(L19) -> 0 | M24: =SUM(M19) -> 0 | N24: =SUM(N19) -> 0
G25: внебюджетные источники | H25: =SUM(H20) -> 15 | I25: =SUM(I20) -> 15 | J25: =SUM(J20) -> 0 | K25: =SUM(K20) -> 0 | L25: =SUM(L20) -> 0 | M25: =SUM(M20) -> 0 | N25: =SUM(N20) -> 0
A26: Козловский муниципальный округ Чувашской Республики
A27: Развитие инфраструктуры и создание торговых рядов на универсальной ярмарке в г. Козловка, ООО «Лад» | B27: Малое и среднее предпринимательство и поддержка индивидуальной предпринимательской инициативы | C27: Козловский муниципальный округ Чувашской Республики | D27: 2025–2027 | E27: Создание дополнительно30 торговых мест | F27: Внебюджетные средства | G27: объем финансирования, млн. рублей | H27: =SUM(H28:H31) -> 1.5 | I27: =SUM(I28:I31) -> 0 | J27: =SUM(J28:J31) -> 0.5 | K27: =SUM(K28:K31) -> 0.5 | L27: =SUM(L28:L31) -> 0.5 | M27: =SUM(M28:M31) -> 0 | N27: =SUM(N28:N31) -> 0 | O27: 7400 | Q27: Администрация Козловского муниципального округа
G28: федеральный бюджет | H28: =SUM(I28:N28) -> 0 | I28: 0 | J28: 0 | K28: 0 | L28: 0 | M28: 0 | N28: 0
G29: республиканский бюджет Чувашской Республики | H29: =SUM(I29:N29) -> 0 | I29: 0 | J29: 0 | K29: 0 | L29: 0 | M29: 0 | N29: 0
G30: местный бюджет | H30: =SUM(I30:N30) -> 0 | I30: 0 | J30: 0 | K30: 0 | L30: 0 | M30: 0 | N30: 0
G31: внебюджетные источники | H31: =SUM(I31:N31) -> 1.5 | I31: 0 | J31: 0.5 | K31: 0.5 | L31: 0.5 | M31: 0
A32: Предоставление муниципальных преференций предоставления муниципальной преференции товаропроизводителям – субъектам малого и среднего предпринимательства путем предоставления права на размещение нестационарных торговых объектов без проведения торгов на безвозмездной основе на территории Козловского МО | B32: Малое и среднее предпринимательство и поддержка индивидуальной предпринимательской инициативы | C32: Козловский муниципальный округ Чувашской Республики | D32: 2024–2030 | E32: Создание условий для размещения 4–5 НТО, Размещение 4–5 НТО | F32: Внебюджетные средства | G32: объем финансирования, млн. рублей | H32: =SUM(H33:H36) -> 1.4 | I32: =SUM(I33:I36) -> 0.2 | J32: =SUM(J33:J36) -> 0.2 | K32: =SUM(K33:K36) -> 0.2 | L32: =SUM(L33:L36) -> 0.2 | M32: =SUM(M33:M36) -> 0.3 | N32: =SUM(N33:N36) -> 0.3 | O32: 1000 | Q32: Администрация Козловского муниципального округа
G33: федеральный бюджет | H33: =SUM(I33:N33) -> 0 | I33: 0 | J33: 0 | K33: 0 | L33: 0 | M33: 0 | N33: 0
G34: республиканский бюджет Чувашской Республики | H34: =SUM(I34:N34) -> 0 | I34: 0 | J34: 0 | K34: 0 | L34: 0 | M34: 0 | N34: 0
G35: местный бюджет | H35: =SUM(I35:N35) -> 0 | I35: 0 | J35: 0 | K35: 0 | L35: 0 | M35: 0 | N35: 0
G36: внебюджетные источники | H36: =SUM(I36:N36) -> 1.4 | I36: 0.2 | J36: 0.2 | K36: 0.2 | L36: 0.2 | M36: 0.3 | N36: 0.3
A37: ИТОГО по муниципальному округу: | G37: объем финансирования, млн. рублей | H37: =SUM(H38:H41) -> 2.9 | I37: =SUM(I38:I41) -> 0.2 | J37: =SUM(J38:J41) -> 0.7 | K37: =SUM(K38:K41) -> 0.7 | L37: =SUM(L38:L41) -> 0.7 | M37: =SUM(M38:M41) -> 0.3 | N37: =SUM(N38:N41) -> 0.3
G38: федеральный бюджет | H38: =SUM(I38:N38) -> 0 | I38: =I28+I33 -> 0 | J38: =J28+J33 -> 0 | K38: =K28+K33 -> 0 | L38: =L28+L33 -> 0 | M38: =M28+M33 -> 0 | N38: =N28+N33 -> 0
G39: республиканский бюджет Чувашской Республики | H39: =SUM(I39:N39) -> 0 | I39: =I29+I34 -> 0 | J39: =J29+J34 -> 0 | K39: =K29+K34 -> 0 | L39: =L29+L34 -> 0 | M39: =M29+M34 -> 0 | N39: =N29+N34 -> 0
G40: местный бюджет | H40: =SUM(I40:N40) -> 0 | I40: =I30+I35 -> 0 | J40: =J30+J35 -> 0 | K40: =K30+K35 -> 0 | L40: =L30+L35 -> 0 | M40: =M30+M35 -> 0 | N40: =N30+N35 -> 0
...

Sheet Здравоохранение
A1: Наименование | B1: Национальный проект, региональный проект | C1: Место реализации проекта | D1: Сроки реализации, годы | E1: Мощность | F1: Источник финансирования, наличие и необходимость ПСД | G1: Прогнозные объемы финансирования | O1: Число жителей, улучшивших условия в результате реализации, человек | P1: Основания для включения | Q1: Функциональный заказчик
G2: источник финансирования | H2: всего, в том числе | I2: 2025 | J2: 2026 | K2: 2027 | L2: 2028 | M2: 2029 | N2: 2030
A3: 1 | B3: 2 | C3: 3 | D3: 4 | E3: 5 | F3: 6 | G3: 7 | H3: 8 | I3: 9 | J3: 10 | K3: 11 | L3: 12 | M3: 13 | N3: 14 | O3: 15 | P3: 16 | Q3: 17
A4: городской округ город Чебоксары Чувашской Республики
A5: Создание новой поликлиники БУ «Больница скорой медицинской помощи» Минздрава Чувашии | B5: национальный проект «Продолжительная и активная жизнь», региональный проект Чувашской Республики «Модернизация первичного звена здравоохранения» | C5: городской округ город Чебоксары Чувашской Республики | D5: 2029–2030 | E5: 150 посещений в смену | F5: федеральный бюджет, республиканский бюджет Чувашской Республики, необходима ПСД | G5: объем финансирования, млн. рублей | H5: =SUM(H6:H9) -> 520.7 | I5: =SUM(I6:I9) -> 0 | J5: =SUM(J6:J9) -> 0 | K5: =SUM(K6:K9) -> 0 | L5: =SUM(L6:L9) -> 0 | M5: =SUM(M6:M9) -> 220 | N5: =SUM(N6:N9) -> 300.7 | O5: 14600 | P5: Повышение доступности и качества первичной медико-санитарной помощи, создание комфортных условий для пациентов и персонала. | Q5: Минздрав Чувашии
G6: федеральный бюджет | H6: =SUM(I6:N6) -> 515.5 | I6: 0 | J6: 0 | K6: 0 | L6: 0 | M6: 217.8 | N6: 297.7
G7: республиканский бюджет Чувашской Республики | H7: =SUM(I7:N7) -> 5.2 | I7: 0 | J7: 0 | K7: 0 | L7: 0 | M7: 2.2 | N7: 3
G8: местный бюджет | H8: =SUM(I8:N8) -> 0 | I8: 0 | J8: 0 | K8: 0 | L8: 0 | M8: 0 | N8: 0
G9: внебюджетные источники | H9: =SUM(I9:N9) -> 0 | I9: 0 | J9: 0 | K9: 0 | L9: 0 | M9: 0 | N9: 0
A10: Создание новой поликлиники БУ «Городская клиническая больница № 1» Минздрава Чувашии (мкр. "Лента") | B10: национальный проект «Продолжительная и активная жизнь», региональный проект Чувашской Республики «Модернизация первичного звена здравоохранения» | C10: городской округ город Чебоксары Чувашской Республики | D10: 2029–2030 | E10: 300 посещений в смену | F10: федеральный бюджет, республиканский бюджет Чувашской Республики, необходима ПСД | G10: объем финансирования, млн. рублей | H10: =SUM(H11:H14) -> 713.5 | I10: =SUM(I11:I14) -> 0 | J10: =SUM(J11:J14) -> 0 | K10: =SUM(K11:K14) -> 0 | L10: =SUM(L11:L14) -> 0 | M10: =SUM(M11:M14) -> 350 | N10: =SUM(N11:N14) -> 363.5 | O10: 37800 | P10: Повышение доступности и качества первичной медико-санитарной помощи, создание комфортных условий для пациентов и персонала. | Q10: Минздрав Чувашии
G11: федеральный бюджет | H11: =SUM(I11:N11) -> 706.4 | I11: 0 | J11: 0 | K11: 0 | L11: 0 | M11: 346.5 | N11: 359.9
G12: республиканский бюджет Чувашской Республики | H12: =SUM(I12:N12) -> 7.1 | I12: 0 | J12: 0 | K12: 0 | L12: 0 | M12: 3.5 | N12: 3.6
G13: местный бюджет | H13: =SUM(I13:N13) -> 0 | I13: 0 | J13: 0 | K13: 0 | L13: 0 | M13: 0 | N13: 0
G14: внебюджетные источники | H14: =SUM(I14:N14) -> 0 | I14: 0 | J14: 0 | K14: 0 | L14: 0 | M14: 0 | N14: 0
A15: Создание новой поликлиники БУ «Городская клиническая больница № 1» Минздрава Чувашии (мкр. "Новый город") | B15: национальный проект «Продолжительная и активная жизнь», региональный проект Чувашской Республики «Модернизация первичного звена здравоохранения» | C15: городской округ город Чебоксары Чувашской Республики | D15: 2029–2030 | E15: 300 посещений в смену | F15: федеральный бюджет, республиканский бюджет Чувашской Республики, необходима ПСД | G15: объем финансирования, млн. рублей | H15: =SUM(H16:H19) -> 713.5 | I15: =SUM(I16:I19) -> 0 | J15: =SUM(J16:J19) -> 0 | K15: =SUM(K16:K19) -> 0 | L15: =SUM(L16:L19) -> 0 | M15: =SUM(M16:M19) -> 350 | N15: =SUM(N16:N19) -> 363.5 | O15: 35500 | P15: Повышение доступности и качества первичной медико-санитарной помощи, создание комфортных условий для пациентов и персонала. | Q15: Минздрав Чувашии
G16: федеральный бюджет | H16: =SUM(I16:N16) -> 706.4 | I16: 0 | J16: 0 | K16: 0 | L16: 0 | M16: 346.5 | N16: 359.9
G17: республиканский бюджет Чувашской Республики | H17: =SUM(I17:N17) -> 7.1 | I17: 0 | J17: 0 | K17: 0 | L17: 0 | M17: 3.5 | N17: 3.6
G18: местный бюджет | H18: =SUM(I18:N18) -> 0 | I18: 0 | J18: 0 | K18: 0 | L18: 0 | M18: 0 | N18: 0
G19: внебюджетные источники | H19: =SUM(I19:N19) -> 0 | I19: 0 | J19: 0 | K19: 0 | L19: 0 | M19: 0 | N19: 0
