Workbook

Sheet перечень
P1: Приложение №1 к постановлению администрации Яльчикского муниципального округа Чувашской Республики от 30 июня 2026 г № 378
A3: МУНИЦИПАЛЬНЫЙ КРАТКОСРОЧНЫЙ П Л А Н реализации в 2027-2029 годах Республиканской программы капитального ремонта общего имущества в многоквартирных домах, расположенных на территории Чувашской Республики, на 2014–2055 годы в Яльчикском муниципального округа
C4: Таблица № 1. Перечень многоквартирных домов, расположенных на территории Яльчикского муниципального округа Чувашской Республики, в отношении которых в 2027-2029годах планируется проведение капитального ремонта общего имущества
A5: № пп | C5: Адрес многоквартирного дома | D5: Год | F5: Мате- риал стен | G5: Коли-чество этажей в много- квар- тир- ном доме | H5: Коли-чество подъез- дов в много- квартир- ном доме | I5: Общая площадь многоквартирного дома | J5: Площадь помещений многоквартирного дома | L5: Количество жителей, зарегистриро- ванных в много-квартир- ном доме на дату утверждения Республикан- ской программы капитального ремонта общего имущества в многоквартир- ных домах, расположенных на территории Чувашской Республики, на 2014– 2043 годы | M5: Вид ремонта общего имущества в много- квартирном доме | N5: Стоимость капитального ремонта общего имущества в многоквартирном доме | S5: Удельная стоимость капиталь- ного ремонта одного квадратного метра общей площади помещений много-квартирного дома | T5: Предель- ная стоимость проведения капиталь- ного ремонта одного квадрат- ного метра общей площади помещений в много-квартир- ном доме | U5: Способ формиро- вания фонда капиталь- ного ремонта | V5: Мини- мальный размер фонда капиталь- ного ремонта (для домов, выбрав- ших спец- счет) | W5: Год проведения капиталь-ного ремонта общего имущества в много-квартирных домах
D6: ввода в экс- плуата- цию многоквар- тирного дома | E6: завер-шения послед-него капи-таль- ного ремон- та в много- квартир- ном доме | J6: всего | K6: в том числе жилых помещений, находящих- ся в собствен-ности граждан | N6: всего | O6: за счет средств государственной корпорации – Фонда содействия реформирова-нию жилищно-коммунального хозяйства | P6: за счет средств государственной и муниципальной поддержки | R6: за счет средств собствен- ников помещений в многоквар-тирном доме
P7: за счет средств республикан- ского бюджета Чувашской Республики | Q7: за счет средств местного бюджета
J8: кв. метров | K8: кв. метров | L8: чел. | N8: рублей | O8: рублей | P8: рублей | Q8: рублей | R8: рублей | S8: рублей/кв. м | T8: рублей/кв. м | V8: рублей
A9: 1 | C9: 2 | D9: 3 | E9: 4 | F9: 5 | G9: 6 | H9: 7 | I9: 8 | J9: 9 | K9: 10 | L9: 11 | M9: 12 | N9: 13 | O9: 14 | P9: 15 | Q9: 16 | R9: 17 | S9: 18 | T9: 19 | U9: 20 | V9: 21 | W9: 22
C10: 2027год.
A11: 1 | C11: с. Яльчики, ул. Октябрьская, д. 18 | D11: 1963 | E11: 2009 | F11: кирпич | G11: 2 | H11: 2 | I11: 404.7 | J11: 352.3 | K11: 352.3 | L11: 29 | M11: ремонт системы холодного водоснабжения | N11: =O11+P11+Q11+R11 -> 253342.2 | R11: 253342.2 | S11: =N11/J11 -> 719.10928 | T11: 25803.63 | U11: на счете рег. оператора | V11: 13.03 | W11: 2027
A12: 2 | C12: с.Яльчики, ул.Комсомольская, д.4 | D12: 1974 | E12: 2010 2012 | F12: кирпич | G12: 2 | H12: 2 | I12: 733.5 | J12: 322.1 | K12: 322.1 | L12: 18 | M12: ремонт системы холодного водоснабжения, водоотведения | N12: =O12+P12+Q12+R12 -> 1099516.5 | R12: 1099516.5 | S12: 862.35 | T12: 25803.63 | U12: на счете рег. оператора | V12: 13.03 | W12: 2027
A13: 3 | C13: с. Яльчики, ул. Октябрьская, д. 24 | D13: 1958 | E13: 2009 | F13: кирпич | G13: 2 | H13: 1 | I13: 235.9 | J13: 216.9 | K13: 216.9 | L13: 8 | M13: ремонт системы холодного водоснабжения | N13: =O13+P13+Q13+R13 -> 147673.4 | R13: 147673.4 | S13: =N13/J13 -> 680.83633 | T13: 25803.63 | U13: на счете рег. оператора | V13: 13.03 | W13: 2027
A14: 4 | C14: с. Янтиково, ул. Больничная, д. 2 | D14: 1975 | F14: кирпич | G14: 2 | H14: 2 | I14: 598.8 | J14: 476.4 | K14: 258.3 | L14: 10 | M14: ремонт крыши ( со сплошным утепленнием) | N14: =O14+P14+Q14+R14 -> 5265520 | R14: 5265520 | S14: =N14/J14 -> 11052.729 | T14: 25803.63 | U14: на счете рег. оператора | V14: 13.03 | W14: 2027
C15: Итого за 2027 год: 4 дома | I15: =SUM(I11:I14) -> 1972.9 | J15: =SUM(J11:J14) -> 1367.7 | K15: =SUM(K11:K14) -> 1149.6 | L15: =SUM(L11:L14) -> 65 | N15: =SUM(N11:N14) -> 6766052.1 | R15: =SUM(R11:R14) -> 6766052.1 | S15: =N15/J15 -> 4947.0294
A16: 2028год.
A17: 1. | C17: с. Яльчики, ул. Комсомольская, д. 12 | D17: 1983 | E17: 2009 | F17: кирпич | G17: 2 | H17: 3 | I17: 932.6 | J17: 828.8 | K17: 788.85 | L17: 49 | M17: ремонт системы электроснабже- ния,ремонт подваль- ных помещений | N17: =O17+P17+Q17+R17 -> 1684757.8 | R17: 1684757.8 | S17: =N17/J17 -> 2032.7676 | T17: 25803.63 | U17: на счете рег. оператора | V17: 13.03 | W17: 2028
A18: 2 | C18: с. Яльчики, ул. Комсомольская, д. 3 | D18: 1977 | E18: 2009, 2016 | F18: кирпич | G18: 3 | H18: 3 | I18: 1439.6 | J18: 1283.7 | K18: 1283.7 | L18: 46 | M18: ремонт системы электроснабже- ния | N18: =O18+P18+Q18+R18 -> 1760630.8 | R18: 1760630.8 | S18: =N18/J18 -> 1371.5282 | T18: 25803.63 | U18: на счете рег. оператора | V18: 13.03 | W18: 2028
A19: 3 | C19: с. Яльчики, ул. Советская, д. 17 | D19: 1979 | F19: кирпич | G19: 2 | H19: 2 | I19: 1167.9 | J19: 982 | K19: 982 | L19: 47 | M19: ремонт системы водоотведения | N19: =O19+P19+Q19+R19 -> 1019576.7 | R19: 1019576.7 | S19: =N19/J19 -> 1038.2655 | T19: 25803.63 | U19: на счете рег. оператора | V19: 13.03 | W19: 2028
C20: Итого за 2028 год: 3 дома | I20: =SUM(SUM(I17:I19)) -> 3540.1 | J20: =SUM(SUM(J17:J19)) -> 3094.5 | K20: =SUM(SUM(K17:K19)) -> 3054.55 | L20: =SUM(SUM(L17:L19)) -> 142 | N20: =SUM(SUM(N17:N19)) -> 4464965.3 | R20: =SUM(SUM(R17:R19)) -> 4464965.3 | S20: =N20/J20 -> 1442.8713
A21: 2029 год.
A22: 1 | C22: с. Яльчики, ул. Беляева, д. 7 | D22: 1981 | E22: 2009 | F22: кирпич | G22: 3 | H22: 1 | I22: 691.4 | J22: 455.2 | K22: 455.2 | L22: 20 | M22: ремонт системы холодного водоснаб-жения, ремонт крыши ( скатная со сплошным утеплением) | N22: 2191586.4 | R22: 2191586.4 | S22: =N22/J22 -> 4814.5571 | T22: 25803.63 | U22: на счете рег. оператора | V22: 13.03 | W22: 2029
A23: 2 | C23: с. Яльчики, ул. Кооперативная, д. 77 | D23: 1998 | E23: 2022 | F23: кирпич | G23: 4 | H23: 1 | I23: 2115.2 | J23: 643.7 | K23: 643.7 | L23: 31 | M23: ремонт системы холодного водоснаб-жения, ремонт системы водоотведения | N23: 3170684.8 | R23: 3170684.8 | S23: =N23/J23 -> 4925.7182 | T23: 25803.63 | U23: на счете рег. оператора | V23: 13.03 | W23: 2029
A24: 3 | C24: с. Яльчики, ул. Юбилейная, д. 5 | D24: 1983 | E24: 2009 | F24: кирпич | G24: 2 | H24: 1 | I24: 816.8 | J24: 413.9 | K24: 413.9 | L24: 33 | M24: ремонт системы электроснабжения | N24: 998946.4 | R24: 998946.4 | S24: =N24/J24 -> 2413.497 | T24: 25803.63 | U24: на счете рег. оператора | V24: 13.03 | W24: 2029
C25: Итого за 2029 год: 3 дома | I25: =I22+I23+I24 -> 3623.4 | J25: =J22+J23+J24 -> 1512.8 | K25: =K22+K23+K24 -> 1512.8 | L25: =L22+L23+L24 -> 84 | N25: =N22+N23+N24 -> 6361217.6 | R25: =R22+R23+R24 -> 6361217.6 | S25: =N25/J25 -> 4204.9297
C26: Всего за 2027-2029 годы: 10 домов | I26: =I15+I20+I25 -> 9136.4 | J26: =J15+J20+J25 -> 5975 | K26: =K15+K20+K25 -> 5716.95 | L26: =L15+L20+L25 -> 291 | N26: =N15+N20+N25 -> 17592235 | R26: =R15+R20+R25 -> 17592235

Sheet реестр
M1: Приложение №2 к постановлению администрации Яльчикского муниципального округа Чувашской Республики от 30 июня 2026 г №378
B2: Таблица № 2. Реестр многоквартирных домов, расположенных на территории Яльчикского муниципального округа Чувашской Республики, в отношении которых планируется проведение капитального ремонта общего имущества, по видам капитального ремонта
B4: Адрес многоквартирного дома | C4: Cтоимость капиталь- ного ремонта общего имущества в много- квартирном доме – всего | D4: Ремонт внутри- домо- вых инже- нер- ных систем | E4: Замена коллек- тивных (обще- домо- вых) ПУ и УУ | F4: Ремонт крыши | H4: Ремонт или замена лифтового оборудования, признанного непригодным для эксплуатации, ремонт лифтовых шахт | J4: Ремонт подвальных помещений, относящихся к общему имуществу в многоквартирном доме | L4: Утепление и ремонт фасадов многоквартирного дома | N4: Ремонт фундамента многоквартирного дома | P4: Энергетическое обследование многоквартирного дома | Q4: Разработка проектной документации | R4: Услуги по строительному контролю
A5: № | B5: улица, № дома | C5: рублей | D5: рублей | E5: рублей | F5: кв. метров | G5: рублей | H5: ед. | I5: рублей | J5: кв. метров | K5: рублей | L5: кв. метров | M5: рублей | N5: куб. метров | O5: рублей | P5: рублей | Q5: рублей | R5: рублей
B6: 2 | C6: 3 | D6: 4 | E6: 5 | F6: 6 | G6: 7 | H6: 8 | I6: 9 | J6: 10 | K6: 11 | L6: 12 | M6: 13 | N6: 14 | O6: 15 | P6: 16 | Q6: 17 | R6: 18
A7: 2027 год
A8: 1 | B8: с. Яльчики, ул. Октябрьская, д. 18 | C8: =D8+E8+G8+I8+K8+M8+O8+P8+Q8+R8 -> 253342.2 | D8: =перечень!R11-Q8-R8 -> 235253.57 | Q8: =перечень!R11*5/100 -> 12667.11 | R8: =перечень!R11*2.14/100 -> 5421.5231
A9: 2 | B9: с. Яльчики, ул. Комсомольская, д. 4 | C9: =D9+E9+G9+I9+K9+M9+O9+P9+Q9+R9 -> 1099516.5 | D9: =перечень!R12-Q9-R9 -> 1021011 | Q9: =перечень!R12*5/100 -> 54975.825 | R9: =перечень!R12*2.14/100 -> 23529.653
A10: 3 | B10: с. Яльчики, ул. Октябрьская, д. 24 | C10: =D10+E10+G10+I10+K10+M10+O10+P10+Q10+R10 -> 147673.4 | D10: =перечень!R13-Q10-R10 -> 137129.52 | Q10: =перечень!R13*5/100 -> 7383.67 | R10: =перечень!R13*2.14/100 -> 3160.2108
A11: 4 | B11: с. Янтиково, ул. Больничная, д. 2 | C11: =D11+E11+G11+I11+K11+M11+O11+P11+Q11+R11 -> 5265520 | F11: 488 | G11: =перечень!R14-R11-Q11 -> 4889561.9 | Q11: =перечень!R14*5/100 -> 263276 | R11: =перечень!R14*2.14/100 -> 112682.13
B12: Итого: 4 дома | C12: =SUM(C8:C11) -> 6766052.1 | D12: =SUM(D8:D11) -> 1393394.1 | F12: =SUM(F11) -> 488 | G12: =SUM(G11) -> 4889561.9 | Q12: =SUM(Q8:Q11) -> 338302.6 | R12: =SUM(R8:R11) -> 144793.51
A13: 2028 год
A14: 1 | B14: с. Яльчики, ул. Комсомольская, д. 12 | C14: 1684757.8 | D14: 1059133.1 | J14: 303 | K14: 505332.98 | Q14: =перечень!R17*5/100 -> 84237.89 | R14: =перечень!R17*2.14/100 -> 36053.817
A15: 2 | B15: с. Яльчики, ул. Комсомольская, д. 3 | C15: =D15+E15+G15+I15+K15+M15+O15+P15+Q15+R15 -> 1760630.8 | D15: =перечень!R18-Q15-R15 -> 1634921.8 | Q15: =перечень!R18*5/100 -> 88031.54 | R15: =перечень!R18*2.14/100 -> 37677.499
A16: 3 | B16: с. Яльчики, ул. Советская, д. 17 | C16: =D16+E16+G16+I16+K16+M16+O16+P16+Q16+R16 -> 1019576.7 | D16: =перечень!R19-Q16-R16 -> 946778.92 | Q16: =перечень!R19*5/100 -> 50978.835 | R16: =перечень!R19*2.14/100 -> 21818.941
B17: Итого: 3 дома | C17: =SUM(C14:C16) -> 4464965.3 | D17: =SUM(D14:D16) -> 3640833.8 | J17: =SUM(J14:J16) -> 303 | K17: =SUM(K14:K16) -> 505332.98 | Q17: =SUM(Q14:Q16) -> 223248.26 | R17: =SUM(R14:R16) -> 95550.257
A18: 2029 год
A19: 1 | B19: с. Яльчики, ул. Беляева, д. 7 | C19: 2191586.4 | D19: 401913.31 | F19: 163 | G19: 1633193.8 | Q19: =перечень!R22*5/100 -> 109579.32 | R19: =перечень!R22*2.14/100 -> 46899.949
A20: 2 | B20: с. Яльчики, ул. Кооперативная, д. 77 | C20: 3170684.8 | D20: 2944297.9 | Q20: 158534.24 | R20: 67852.65
A21: 3 | B21: с. Яльчики, ул. Юбилейная, д. 5 | C21: =D21+E21+G21+I21+K21+M21+O21+P21+Q21+R21 -> 998946.4 | D21: =перечень!R24-R21-Q21 -> 927621.63 | Q21: =перечень!R24*5/100 -> 49947.32 | R21: =перечень!R24*2.14/100 -> 21377.453
B22: Итого: 3 дома | C22: =SUM(C19:C21) -> 6361217.6 | D22: =SUM(D19:D21) -> 4273832.8 | F22: =SUM(F19:F21) -> 163 | G22: =SUM(G19:G21) -> 1633193.8 | Q22: =SUM(Q19:Q21) -> 318060.88 | R22: =SUM(R19:R21) -> 136130.05
B23: Итого за 2027-2029 годы: 10 домов | C23: =C12+C17+C22 -> 17592235 | D23: =D12+D17+D22 -> 9308060.7 | F23: =F12+F17+F22 -> 651 | G23: =G12+G17+G22 -> 6522755.7 | J23: =J12+J17+J22 -> 303 | K23: =K12+K17+K22 -> 505332.98 | Q23: =Q12+Q17+Q22 -> 879611.75 | R23: =R12+R17+R22 -> 376473.82

Sheet приложение 3
K4: Приложение №3 к постановлению администрации Яльчикского муниципального округа Чувашской Республики от 30 июня 2026 г № 378
B6: ПЛАНИРУЕМЫЕ ПОКАЗАТЕЛИ выполнения услуг и (или) работ по капитальному ремонту общего имущества в многоквартирных домах, расположенных на территории Яльчикского муниципального округа, в 2027–2029 годах
B8: 2027 год
B9: № пп | C9: Наименование муниципального образования | D9: Общая площадь многоквар-тирных домов | E9: Количество жителей, зарегистри-рованных в многоквар-тирных домах на дату утверждения кратко-срочного плана | F9: Количество многоквартирных домов | K9: Стоимость капитального ремонта общего имущества в многоквартирных домах
F10: I квартал 2027 г. | G10: II квартал 2027 г. | H10: III квартал 2027 г. | I10: IV квартал 2027 г. | J10: всего | K10: I квартал 2027 г. | L10: II квартал 2027 г. | M10: III квартал 2027 г. | N10: IV квартал 2027 г. | O10: всего
D11: кв. м | E11: чел. | F11: ед. | G11: ед. | H11: ед. | I11: ед. | J11: ед. | K11: рублей | L11: рублей | M11: рублей | N11: рублей | O11: рублей
B12: 1 | C12: 1 | D12: 2 | E12: 3 | F12: 4 | G12: 5 | H12: 6 | I12: 7 | J12: 8 | K12: 9 | L12: 10 | M12: 11 | N12: 12 | O12: 13
B13: 1 | C13: Яльчикский муниципальный округ | D13: 1972.9 | E13: 65 | I13: 4 | J13: 4 | N13: 6766052.1 | O13: =K13+L13+M13+N13 -> 6766052.1
C14: Итого | D14: =D13 -> 1972.9 | E14: =E13 -> 65 | I14: =I13 -> 4 | J14: =J13 -> 4 | N14: =N13 -> 6766052.1 | O14: =O13 -> 6766052.1
B15: 2028 год
B16: № пп | C16: Наименование муниципального образования | D16: Общая площадь многоквар-тирных домов | E16: Количество жителей, зарегистри-рованных в многоквар-тирных домах на дату утверждения краткосроч-ного плана | F16: Количество многоквартирных домов | K16: Стоимость капитального ремонта общего имущества в многоквартирных домах
F17: I квартал 2028 г. | G17: II квартал 2028 г. | H17: III квартал 2028 г. | I17: IV квартал 2028 г. | J17: всего | K17: I квартал 2028 г. | L17: II квартал 2028 г. | M17: III квартал 2028 г. | N17: IV квартал 2028 г. | O17: всего
D18: кв. м | E18: чел. | F18: ед. | G18: ед. | H18: ед. | I18: ед. | J18: ед. | K18: рублей | L18: рублей | M18: рублей | N18: рублей | O18: рублей
B19: 1 | C19: 1 | D19: 2 | E19: 3 | F19: 4 | G19: 5 | H19: 6 | I19: 7 | J19: 8 | K19: 9 | L19: 10 | M19: 11 | N19: 12 | O19: 13
B20: 1 | C20: Яльчикский муниципальный округ | D20: 4273.6 | E20: 142 | I20: 3 | J20: =F20+G20+H20+I20 -> 3 | N20: 4464965.3 | O20: =K20+L20+M20+N20 -> 4464965.3
C21: Итого | D21: 3540.1 | E21: =E20 -> 142 | I21: =I20 -> 3 | J21: =J20 -> 3 | N21: =N20 -> 4464965.3 | O21: =O20 -> 4464965.3
B22: 2029 год
B23: № пп | C23: Наименование муниципального образования | D23: Общая площадь многоквар-тирных домов | E23: Количество жителей, зарегистри-рованных в многоквар-тирных домах на дату утверждения краткосроч-ного плана | F23: Количество многоквартирных домов | K23: Стоимость капитального ремонта общего имущества в многоквартирных домах
F24: I квартал 2029 г. | G24: II квартал 2029 г. | H24: III квартал 2029 г. | I24: IV квартал 2029 г. | J24: всего | K24: I квартал 2029 г. | L24: II квартал 2029 г. | M24: III квартал 2029 г. | N24: IV квартал 2029 г. | O24: всего
D25: кв. метров | E25: чел. | F25: ед. | G25: ед. | H25: ед. | I25: ед. | J25: ед. | K25: рублей | L25: рублей | M25: рублей | N25: рублей | O25: рублей
B26: 1 | C26: 1 | D26: 2 | E26: 3 | F26: 4 | G26: 5 | H26: 6 | I26: 7 | J26: 8 | K26: 9 | L26: 10 | M26: 11 | N26: 12 | O26: 13
B27: 1 | C27: Яльчикский муниципальный округ | D27: 3623.4 | E27: 84 | I27: 3 | J27: 3 | N27: 6361217.6 | O27: 6361217.6
C28: Итого | D28: =D27 -> 3623.4 | E28: 84 | I28: 3 | J28: =J27 -> 3 | N28: =N27 -> 6361217.6 | O28: =O27 -> 6361217.6
C29: Всего за 2027–2029 годы | D29: 9136.4 | E29: =E14+E21+E28 -> 291 | I29: =I14+I21+I28 -> 10 | J29: =J14+J21+J28 -> 10 | N29: =N14+N21+N28 -> 17592235 | O29: =O14+O21+O28 -> 17592235
C31: _______________________
