Workbook
Name Print_Titles: перечень!$18:$18
Name Print_Titles: реестр!$14:$14

Sheet перечень
Q2: Приложение № 1 к постановлению администрации Вурнарского муниципального округа от №
A11: Краткосрочный план
A12: реализации в 2027-2029 году Республиканской программы капитального ремонта общего имущества в многоквартирных домах, расположенных на территории Чувашской Республики, на 2014–2055 годы, в Вурнарском муниципальном округе
B13: Таблица № 1. Перечень многоквартирных домов, расположенных на территории Вурнарского района Чувашской Республики, в отношении которых планируется проведение капитального ремонта общего имущества
A14: № пп | B14: Адрес многоквартирного дома | C14: Год | E14: Мате- риал стен | F14: Коли-чество этажей в много- квар- тир- ном доме | G14: Коли-чество подъез- дов в много- квар- тир- ном доме | H14: Общая площадь многоквар-тирного дома | I14: Площадь помещений многоквартирного дома | K14: Количество жителей, зарегистри-рованных в многоквартир- ном доме на дату утверждения Республикан-ской программы капитального ремонта общего имущества в многоквартир- ных домах, расположенных на территории Чувашской Республики, на 2014– 2055 годы | L14: Вид услуг и (или) работ по капитальному ремонту общего имущества в многоквартирном доме | M14: Стоимость услуг и (или) работ по капитальному ремонту общего имущества в многоквартирном доме | R14: Удельная стоимость капиталь- ного ремонта одного квадратного метра общей площади помещений многоквартир-ного дома | S14: Предель- ная стоимость проведения капиталь- ного ремонта одного квадрат- ного метра общей площади помещений в многоквартир- ном доме | T14: Способ формиро- вания фонда капиталь- ного ремонта | U14: Мини- маль- ный раз- мер фонда капи- таль- ного ремон- та (для домов, выбрав- ших спец- счет) | V14: Год проведения капиталь-ного ремонта общего имущества в много-квартирных домах
C15: ввода в экс- плуата- цию мно- гоквар- тирного дома | D15: завер-шения послед-него капи- таль- ного ремон- та в много- квартир- ном доме | I15: всего | J15: в том числе жилых помещений, находящих- ся в соб- ственности граждан | M15: всего | N15: за счет средств федерального бюджета/публич-но-правовой компании «Фонд развития территорий» | O15: за счет средств государственной и муниципальной поддержки | Q15: за счет средств собствен- ников помещений в многоквар-тирном доме
O16: за счет средств республи-канского бюджета Чувашской Респуб- лики | P16: за счет средств местного бюджета
H17: кв. метров | I17: кв. метров | J17: кв. метров | K17: чел. | M17: рублей | N17: рублей | O17: рублей | P17: рублей | Q17: рублей | R17: рублей/кв. м | S17: рублей/кв. м | U17: рублей
A18: 1 | B18: 2 | C18: 3 | D18: 4 | E18: 5 | F18: 6 | G18: 7 | H18: 8 | I18: 9 | J18: 10 | K18: 11 | L18: 12 | M18: 13 | N18: 14 | O18: 15 | P18: 16 | Q18: 17 | R18: 18 | S18: 19 | T18: 20 | U18: 21 | V18: 22
A19: 2027 год
A20: 1 | B20: пгт Вурнары, пер. Северный, д. 2 | C20: 1986 | E20: панель | F20: 5 | G20: 1 | H20: 2067.46 | I20: 2067.46 | J20: 2000.33 | K20: 94 | L20: ремонт систем холодного водоснабжения, теплоснабжения, водоотведения | M20: =N20+O20+P20+Q20 -> 8100308.3 | Q20: =реестр!C16 -> 8100308.3 | R20: =M20/I20 -> 3918 | S20: 24561.9 | T20: на счете рег. оператора | U20: 13.03 | V20: 2027
A21: 2 | B21: пгт. Вурнары, ул. А.Иванова, д.2 | C21: 1960 | E21: кирпич | F21: 2 | G21: 2 | H21: 729.6 | I21: 521 | J21: 624.45 | K21: 27 | L21: ремонт подвальных помещений | M21: =N21+O21+P21+Q21 -> 935716 | Q21: =реестр!C17 -> 935716 | R21: =M21/I21 -> 1796 | S21: 24561.9 | T21: на счете рег. оператора | U21: 13.03 | V21: 2027
A22: 3 | B22: пгт Вурнары, ул. Ленина, д. 107 | C22: 1963 | E22: кирпич | F22: 2 | G22: 2 | H22: 371.4 | I22: =H22 -> 371.4 | J22: 323.54 | K22: 15 | L22: ремонт системы газоснабжения | M22: =N22+O22+P22+Q22 -> 217640.4 | Q22: =реестр!C18 -> 217640.4 | R22: =M22/I22 -> 586 | S22: 24561.9 | T22: на счете рег. Оператора | U22: 13.03 | V22: 2027
A23: 4 | B23: пгт Вурнары, ул. Ленина, д. 105 | C23: 1963 | E23: кирпич | F23: 2 | G23: 2 | H23: 390.3 | I23: =H23 -> 390.3 | J23: 376.13 | K23: 12 | L23: ремонт системы газоснабжения | M23: =N23+O23+P23+Q23 -> 228715.8 | Q23: =реестр!C19 -> 228715.8 | R23: =M23/I23 -> 586 | S23: 24561.9 | T23: на счете рег. оператора | U23: 13.03 | V23: 2027
A24: 5 | B24: пгт Вурнары, ул. Ленина, д. 109 | C24: 1966 | E24: кирпич | F24: 2 | G24: 2 | H24: 377.8 | I24: =H24 -> 377.8 | J24: 372 | K24: 16 | L24: ремонт системы газоснабжения | M24: =N24+O24+P24+Q24 -> 221390.8 | Q24: =реестр!C20 -> 221390.8 | R24: =M24/I24 -> 586 | S24: 24561.9 | T24: на счете рег. оператора | U24: 13.03 | V24: 2027
A25: 6 | B25: пгт Вурнары, ул. Ленина, д. 115 | C25: 1976 | E25: кирпич | F25: 2 | G25: 2 | H25: 701.4 | I25: =H25 -> 701.4 | J25: 706 | K25: 44 | L25: ремонт системы газоснабжения | M25: =N25+O25+P25+Q25 -> 411020.4 | Q25: =реестр!C21 -> 411020.4 | R25: =M25/I25 -> 586 | S25: 24561.9 | T25: на счете рег. Оператора | U25: 13.03 | V25: 2027
A26: 7 | B26: пгт Вурнары, ул. Ленина, д. 2 | C26: 1987 | E26: кирпич | F26: 5 | G26: 8 | H26: 7445 | I26: =H26 -> 7445 | J26: 6552 | K26: 316 | L26: ремонт системы электроснабжения | M26: =N26+O26+P26+Q26 -> 9105235 | Q26: =реестр!C22 -> 9105235 | R26: =M26/I26 -> 1223 | S26: 24561.9 | T26: на счете рег. Оператора | U26: 13.03 | V26: 2027
A27: 8 | B27: пгт Вурнары, ул. Ленина, д. 43 | C27: 1986 | E27: кирпич | F27: 5 | G27: 4 | H27: 2731.3 | I27: =H27 -> 2731.3 | J27: 2354 | K27: 89 | L27: ремонт системы электроснабжения | M27: =N27+O27+P27+Q27 -> 3340379.9 | Q27: =реестр!C23 -> 3340379.9 | R27: =M27/I27 -> 1223 | S27: 24561.9 | T27: на счете рег. Оператора | U27: 13.03 | V27: 2027
A28: 9 | B28: пгт Вурнары, ул. Строительная, д. 5 | C28: 1976 | E28: кирпич | F28: 2 | G28: 2 | H28: 541.5 | I28: =H28 -> 541.5 | J28: 538 | K28: 27 | L28: ремонт системы газоснабжения | M28: =N28+O28+P28+Q28 -> 317319 | Q28: =реестр!C24 -> 317319 | R28: =M28/I28 -> 586 | S28: 24561.9 | T28: на счете рег. Оператора | U28: 13.03 | V28: 2027
A29: 10 | B29: пгт Вурнары, ул. Чернышевского, д. 1 | C29: 1978 | E29: кирпич | F29: 2 | G29: 1 | H29: 368.4 | I29: =H29 -> 368.4 | J29: 367 | K29: 20 | L29: ремонт системы водоотведения | M29: =N29+O29+P29+Q29 -> 552231.6 | Q29: =реестр!C25 -> 552231.6 | R29: =M29/I29 -> 1499 | S29: 24561.9 | T29: на счете рег. Оператора | U29: 13.03 | V29: 2027
A30: 11 | B30: пгт Вурнары, ул. Чернышевского, д. 14 | C30: 1966 | E30: кирпич | F30: 2 | G30: 2 | H30: 563.7 | I30: =H30 -> 563.7 | J30: 493 | K30: 20 | L30: ремонт системы газоснабжения | M30: =N30+O30+P30+Q30 -> 330328.2 | Q30: =реестр!C26 -> 330328.2 | R30: =M30/I30 -> 586 | S30: 24561.9 | T30: на счете рег. Оператора | U30: 13.03 | V30: 2027
A31: 12 | B31: пгт Вурнары, ул. Чернышевского, д. 4 | C31: 1967 | E31: кирпич | F31: 2 | G31: 2 | H31: 366.1 | I31: =H31 -> 366.1 | J31: 364 | K31: 12 | L31: ремонт системы водоотведения | M31: =N31+O31+P31+Q31 -> 319605.3 | Q31: =реестр!C27 -> 319605.3 | R31: =M31/I31 -> 873 | S31: 24561.9 | T31: на счете рег. Оператора | U31: 13.03 | V31: 2027
A32: 13 | B32: пгт Вурнары, ул. Советская, д. 17 | C32: 1988 | E32: кирпич | F32: 5 | G32: 4 | H32: 2694.7 | I32: =H32 -> 2694.7 | J32: 2474 | K32: 104 | L32: ремонт системы электроснабжения | M32: =N32+O32+P32+Q32 -> 3295618.1 | Q32: =реестр!C28 -> 3295618.1 | R32: =M32/I32 -> 1223 | S32: 24561.9 | T32: на счете рег. оператора | U32: 13.03 | V32: 2027
B33: Итого: 13 домов | H33: =SUM(SUM(H20:H32)) -> 19348.66 | I33: =SUM(SUM(I20:I32)) -> 19140.06 | J33: =SUM(SUM(J20:J32)) -> 17168.32 | K33: =SUM(SUM(K20:K32)) -> 796 | M33: =SUM(SUM(M20:M32)) -> 27375509 | Q33: =SUM(SUM(Q20:Q32)) -> 27375509 | R33: =SUM(R20:R32) -> 15271
A34: 2028 год
A35: 1 | B35: д. Новые Яхакасы, ул. 40 лет Победы, д.1 | C35: 1979 | E35: кирпич | F35: 1 | G35: 2 | H35: 565.7 | I35: =H35 -> 565.7 | J35: 339.04 | K35: 37 | L35: ремонт системы газоснабжения | M35: =N35+O35+P35+Q35 -> 331500.2 | Q35: =реестр!C31 -> 331500.2 | R35: =M35/I35 -> 586 | S35: 24561.9 | T35: на счете рег. оператора | U35: 13.03 | V35: 2028
A36: 2 | B36: пгт Вурнары, пер. Северный, д. 3 | C36: 1988 | E36: панель | F36: 5 | G36: 3 | H36: 3264.3 | I36: 884 | J36: 2956 | K36: 108 | L36: ремонт систем холодного водоснабжения, водоотведения, теплоснабжения крыши | M36: =N36+O36+P36+Q36 -> 17017699 | Q36: =реестр!C32 -> 17017699 | R36: =M36/I36 -> 19250.791 | S36: 24561.9 | T36: на счете рег. оператора | U36: 13.03 | V36: 2028
A37: 3 | B37: пгт Вурнары, пер. Северный, д. 4 | C37: 1988 | E37: панель | F37: 5 | G37: 3 | H37: 3279.6 | I37: 884 | J37: 2950 | K37: 94 | L37: ремонт крыши | M37: =N37+O37+P37+Q37 -> 4228172 | Q37: =реестр!C33 -> 4228172 | R37: =M37/I37 -> 4783 | S37: 24561.9 | T37: на счете рег. оператора | U37: 13.03 | V37: 2028
A38: 4 | B38: пгт Вурнары, пер.Тракторный, д. 2а | C38: 1983 | E38: панель | F38: 5 | G38: 1 | H38: 3814.03 | I38: =H38 -> 3814.03 | J38: 1801.36 | K38: 215 | L38: ремонт системы теплоснабжения | M38: =N38+O38+P38+Q38 -> 9226138.6 | Q38: =реестр!C34 -> 9226138.6 | R38: =M38/I38 -> 2419 | S38: 24561.9 | T38: на счете рег. оператора | U38: 13.03 | V38: 2028
B39: Итого: 4 дома | H39: =SUM(SUM(H35:H38)) -> 10923.63 | I39: =SUM(SUM(I35:I38)) -> 6147.73 | J39: =SUM(SUM(J35:J38)) -> 8046.4 | K39: =SUM(SUM(K35:K38)) -> 454 | M39: =SUM(SUM(M35:M38)) -> 30803510 | Q39: =SUM(SUM(Q35:Q38)) -> 30803510 | R39: =SUM(R35:R38) -> 27038.791
A40: 2029 год
A41: 1 | B41: д. Новые Яхакасы, ул. 40 лет Победы, д.1 | C41: 1979 | E41: кирпич | F41: 1 | G41: 2 | H41: 565.7 | I41: 565.7 | J41: 339.04 | K41: 37 | L41: ремонт системы холодного водоснабжения,водоотведения | M41: =N41+O41+P41+Q41 -> 847984.3 | Q41: =реестр!C37 -> 847984.3 | R41: =M41/I41 -> 1499 | S41: 24561.9 | T41: на счете рег. оператора | U41: 13.03 | V41: 2029
A42: 2 | B42: пгт Вурнары, пер.Зеленый, д. 2 | C42: 2003 | E42: кирпич | F42: 3 | G42: 4 | H42: 1908 | I42: 1908 | J42: 1872 | K42: 60 | L42: ремонт системы электроснабжения | M42: =N42+O42+P42+Q42 -> 2333484 | Q42: =реестр!C38 -> 2333484 | R42: =M42/I42 -> 1223 | S42: 24561.9 | T42: на спецсчете | U42: 13.03 | V42: 2029
A43: 3 | B43: пгт Вурнары, пер. Северный, д. 4 | C43: 1988 | E43: панель | F43: 5 | G43: 3 | H43: 3279.6 | I43: 3279.6 | J43: 2950 | K43: 94 | L43: ремонт систем холодного водоснабжения, водоотведения, теплоснабжени | M43: =N43+O43+P43+Q43 -> 12849473 | Q43: =реестр!C39 -> 12849473 | R43: =M43/I43 -> 3918 | S43: 24561.9 | T43: на счете рег. оператора | U43: 13.03 | V43: 2029
A44: 4 | B44: пгт Вурнары, ул. А. Иванова, д. 2 | C44: 1960 | E44: кирпич | F44: 2 | G44: 2 | H44: 729.6 | I44: 729.6 | J44: 624.45 | K44: 27 | L44: ремонт систем водоотведения | M44: =N44+O44+P44+Q44 -> 636940.8 | Q44: =реестр!C40 -> 636940.8 | R44: =M44/I44 -> 873 | S44: 24561.9 | T44: на счете рег. оператора | U44: 13.03 | V44: 2029
A45: 5 | B45: пгт Вурнары, ул. Ашмарова, д. 3 | C45: 1975 | E45: панель | F45: 5 | G45: 4 | H45: 2632.4 | I45: 925.7 | J45: 2622.63 | K45: 124 | L45: ремонт крыши | M45: =N45+O45+P45+Q45 -> 4427623.1 | Q45: =реестр!C41 -> 4427623.1 | R45: =M45/I45 -> 4783 | S45: 24561.9 | T45: на счете рег. оператора | U45: 13.03 | V45: 2029
A46: 6 | B46: пгт Вурнары, ул. Советская, д.6 | C46: 1989 | E46: кирпич | F46: 3 | G46: 1 | H46: 932.2 | I46: 341 | J46: 630.52 | K46: 26 | L46: ремонт системы теплоснабжения, крыши | M46: =N46+O46+P46+Q46 -> 3885994.8 | Q46: =реестр!C42 -> 3885994.8 | R46: =M46/I46 -> 11395.879 | S46: 24561.9 | T46: на счете рег. оператора | U46: 13.03 | V46: 2029
A47: 7 | B47: пгт Вурнары, ул. Советская, д. 8 | C47: 1966 | E47: кирпич | F47: 3 | G47: 2 | H47: 913.6 | I47: 522 | J47: 841 | K47: 41 | L47: ремонт системы водоснабжения, водоотведения, крыши | M47: =N47+O47+P47+Q47 -> 3769642.4 | Q47: =реестр!C43 -> 3769642.4 | R47: =M47/I47 -> 7221.5372 | S47: 24561.9 | T47: на счете рег. оператора | U47: 13.03 | V47: 2029
A48: 8 | B48: пгт Вурнары, ул. Чернышевского, д. 2 | C48: 1978 | E48: кирпич | F48: 2 | G48: 3 | H48: 949.1 | I48: 949.1 | J48: 889 | K48: 44 | L48: ремонт системы водоснабжения, водоотведения | M48: =N48+O48+P48+Q48 -> 1422700.9 | Q48: =реестр!C44 -> 1422700.9 | R48: =M48/I48 -> 1499 | S48: 24561.9 | T48: на счете рег. оператора | U48: 13.03 | V48: 2029
A49: 9 | B49: пгт Вурнары, ул. Чернышевского, д. 3 | C49: 1972 | E49: кирпич | F49: 2 | G49: 3 | H49: 862.4 | I49: 864.4 | J49: 850.43 | K49: 29 | L49: ремонт системы водоснабжения | M49: =N49+O49+P49+Q49 -> 539862.4 | Q49: =реестр!C45 -> 539862.4 | R49: =M49/I49 -> 624.5516 | S49: 24561.9 | T49: на счете рег. оператора | U49: 13.03 | V49: 2029
A50: 10 | B50: с. Калинино, ул. Ленина, д. 56 | C50: 1982 | E50: кирпич | F50: 2 | G50: 3 | H50: 964.4 | I50: 964.4 | J50: 816.46 | K50: 34 | L50: ремонт системы электроснабже- ния | M50: =N50+O50+P50+Q50 -> 1179461.2 | Q50: =реестр!C46 -> 1179461.2 | R50: =M50/I50 -> 1223 | S50: 24561.9 | T50: на счете рег. оператора | U50: 13.03 | V50: 2029
B51: Итого: 10 домов | H51: =SUM(H41:H50) -> 13737 | I51: =SUM(I41:I50) -> 11049.5 | J51: =SUM(J41:J50) -> 12435.53 | K51: =SUM(K41:K50) -> 516 | M51: =SUM(M41:M50) -> 31893167 | Q51: =SUM(Q41:Q50) -> 31893167 | R51: =SUM(R41:R50) -> 34259.968
B52: Итого за 2027–2029 годы: 32 дома | H52: =H33+H39+H51 -> 44009.29 | I52: =I33+I39+I51 -> 36337.29 | J52: =J33+J39+J51 -> 37650.25 | K52: =K33+K39+K51 -> 1766 | M52: =M33+M39+M51 -> 90072186 | N52: =N33+N39+N51 -> 0 | O52: =O33+O39+O51 -> 0 | P52: =P33+P39+P51 -> 0 | Q52: =Q33+Q39+Q51 -> 90072186

Sheet реестр
N3: Приложение № 2 к постановлению администрации Вурнарского муниципального округа от №
A10: Р Е Е С Т Р многоквартирных домов, расположенных на территории Вурнарского района Чувашской Республики, в отношении которых планируется проведение капитального ремонта общего имущества, по видам капитального ремонта
A12: № пп | B12: Адрес многоквартирного дома | C12: Стоимость услуг и (или) работ по капитальному ремонту общего имущества в многоквартирном доме – всего | D12: Ремонт внутридомовых инженерных систем | E12: Установка и замена коллективных (общедомовых) ПУ и УУ | F12: Ремонт крыши | H12: Ремонт, замена, модернизация лифтов, ремонт лифтовых шахт, машинных и блочных помещений | J12: Ремонт подвальных помещений, относящихся к общему имуществу в многоквартирном доме | L12: Утепление и ремонт фасада многоквартирного дома | N12: Ремонт фундамента многоквартирного дома | P12: Энергетическое обследование многоквартир-ного дома | Q12: Разработка проектной документации | R12: Услуги по строительному контролю
B13: улица, № дома | C13: рублей | D13: рублей | E13: рублей | F13: кв. м | G13: рублей | H13: ед. | I13: рублей | J13: кв. м | K13: рублей | L13: кв. м | M13: рублей | N13: куб. м | O13: рублей | P13: рублей | Q13: рублей | R13: рублей
A14: 1 | B14: 2 | C14: 3 | D14: 4 | E14: 5 | F14: 6 | G14: 7 | H14: 8 | I14: 9 | J14: 10 | K14: 11 | L14: 12 | M14: 13 | N14: 14 | O14: 15 | P14: 16 | Q14: 17 | R14: 18
A15: 2027 год
A16: 1 | B16: пгт Вурнары, пер. Северный, д. 2 | C16: =3918*2067.46 -> 8100308.3 | D16: =C16-Q16-R16 -> 7521946.3 | Q16: =C16*5% -> 405015.41 | R16: =C16*2.14% -> 173346.6
A17: 2 | B17: пгт. Вурнары, ул. А.Иванова, д.2 | C17: =1796*521 -> 935716 | D17: 0 | J17: 521 | K17: =C17-Q17-R17 -> 868905.88 | Q17: =C17*5% -> 46785.8 | R17: =C17*2.14% -> 20024.322
A18: 3 | B18: пгт Вурнары, ул. Ленина, д. 107 | C18: =586*371.4 -> 217640.4 | D18: =C18-Q18-R18 -> 202100.88 | Q18: =C18*5% -> 10882.02 | R18: =C18*2.14% -> 4657.5046
A19: 4 | B19: пгт Вурнары, ул. Ленина, д. 105 | C19: =586*390.3 -> 228715.8 | D19: =C19-Q19-R19 -> 212385.49 | Q19: =C19*5% -> 11435.79 | R19: =C19*2.14% -> 4894.5181
A20: 5 | B20: пгт Вурнары, ул. Ленина, д. 109 | C20: =586*377.8 -> 221390.8 | D20: =C20-Q20-R20 -> 205583.5 | Q20: =C20*5% -> 11069.54 | R20: =C20*2.14% -> 4737.7631
A21: 6 | B21: пгт Вурнары, ул. Ленина, д. 115 | C21: =586*701.4 -> 411020.4 | D21: =C21-Q21-R21 -> 381673.54 | Q21: =C21*5% -> 20551.02 | R21: =C21*2.14% -> 8795.8366
A22: 7 | B22: пгт Вурнары, ул. Ленина, д. 2 | C22: =1223*7445 -> 9105235 | D22: =C22-Q22-R22 -> 8455121.2 | Q22: =C22*5% -> 455261.75 | R22: =C22*2.14% -> 194852.03
A23: 8 | B23: пгт Вурнары, ул. Ленина, д. 43 | C23: =1223*2731.3 -> 3340379.9 | D23: 3101876.8 | Q23: =C23*5% -> 167019 | R23: =C23*2.14% -> 71484.13
A24: 9 | B24: пгт Вурнары, ул. Строительная, д. 5 | C24: =586*541.5 -> 317319 | D24: =C24-Q24-R24 -> 294662.42 | Q24: =C24*5% -> 15865.95 | R24: =C24*2.14% -> 6790.6266
A25: 10 | B25: пгт Вурнары, ул. Чернышевского, д. 1 | C25: =(873+626)*368.4 -> 552231.6 | D25: =C25-Q25-R25 -> 512802.26 | Q25: =C25*5% -> 27611.58 | R25: =C25*2.14% -> 11817.756
A26: 11 | B26: пгт Вурнары, ул. Чернышевского, д. 14 | C26: =586*563.7 -> 330328.2 | D26: =C26-Q26-R26 -> 306742.77 | Q26: =C26*5% -> 16516.41 | R26: =C26*2.14% -> 7069.0235
A27: 12 | B27: пгт Вурнары, ул. Чернышевского, д. 4 | C27: =873*366.1 -> 319605.3 | D27: =C27-Q27-R27 -> 296785.48 | Q27: =C27*5% -> 15980.265 | R27: =C27*2.14% -> 6839.5534
A28: 13 | B28: пгт Вурнары, ул. Советская, д. 17 | C28: =1223*2694.7 -> 3295618.1 | D28: 3060311 | Q28: =C28*5% -> 164780.9 | R28: =C28*2.14% -> 70526.227
B29: Итого | C29: =SUM(C16:C28) -> 27375509 | D29: =SUM(D16:D28) -> 24551992 | F29: =SUM(SUM(F16:F20)) -> 0 | G29: =SUM(SUM(G16:G20)) -> 0 | K29: =SUM(K17:K28) -> 868905.88 | Q29: =SUM(SUM(Q16:Q28)) -> 1368775.4 | R29: =SUM(SUM(R16:R28)) -> 585835.89
A30: 2028 год
A31: 1 | B31: д. Новые Яхакасы, ул. 40 лет Победы, д.1 | C31: =586*565.7 -> 331500.2 | D31: =C31-Q31-R31 -> 307831.09 | Q31: =C31*5% -> 16575.01 | R31: =C31*2.14% -> 7094.1043
A32: 2 | B32: пгт Вурнары, пер. Северный, д. 3 | C32: =17017699.4 -> 17017699 | D32: 11876355 | F32: 884 | G32: 3926280.5 | Q32: =C32*5% -> 850884.97 | R32: =C32*2.14% -> 364178.77
A33: 3 | B33: пгт Вурнары, пер. Северный, д. 4 | C33: =4783*884 -> 4228172 | D33: 0 | F33: 884 | G33: =C33-Q33-R33 -> 3926280.5 | Q33: =C33*5% -> 211408.6 | R33: =C33*2.14% -> 90482.881
A34: 4 | B34: пгт Вурнары, пер.Тракторный, д. 2а | C34: =2419*3814.03 -> 9226138.6 | D34: =C34-Q34-R34 -> 8567392.3 | Q34: =C34*5% -> 461306.93 | R34: =C34*2.14% -> 197439.37
B35: Итого | C35: =SUM(SUM(C31:C34)) -> 30803510 | D35: =SUM(SUM(D31:D34)) -> 20751579 | F35: =SUM(SUM(F31:F34)) -> 1768 | G35: =SUM(SUM(G31:G34)) -> 7852561 | Q35: =SUM(SUM(Q31:Q34)) -> 1540175.5 | R35: =SUM(SUM(R31:R34)) -> 659195.12
A36: 2029 год
A37: 1 | B37: д. Новые Яхакасы, ул. 40 лет Победы, д.1 | C37: =1499*565.7 -> 847984.3 | D37: =C37-Q37-R37 -> 787438.22 | Q37: =C37*5% -> 42399.215 | R37: =C37*2.14% -> 18146.864
A38: 2 | B38: пгт Вурнары, пер.Зеленый, д. 2 | C38: =1223*1908 -> 2333484 | D38: =C38-Q38-R38 -> 2166873.2 | Q38: =C38*5% -> 116674.2 | R38: =C38*2.14% -> 49936.558
A39: 3 | B39: пгт Вурнары, пер. Северный, д. 4 | C39: =3918*3279.6 -> 12849473 | D39: =C39-Q39-R39 -> 11932020 | Q39: =C39*5% -> 642473.64 | R39: =C39*2.14% -> 274978.72
A40: 4 | B40: пгт Вурнары, ул. А. Иванова, д. 2 | C40: =873*729.6 -> 636940.8 | D40: =C40-Q40-R40 -> 591463.23 | Q40: =C40*5% -> 31847.04 | R40: =C40*2.14% -> 13630.533
A41: 5 | B41: пгт Вурнары, ул. Ашмарова, д. 3 | C41: =4783*925.7 -> 4427623.1 | D41: 0 | F41: 925.7 | G41: =C41-Q41-R41 -> 4111490.8 | Q41: =C41*5% -> 221381.16 | R41: =C41*2.14% -> 94751.134
A42: 6 | B42: пгт Вурнары, ул. Советская, д.6 | C42: 3885994.8 | D42: 2093985.4 | F42: 341 | G42: =C42-D42-Q42-R42 -> 1514549.4 | Q42: =C42*5% -> 194299.74 | R42: =C42*2.14% -> 83160.289
A43: 7 | B43: пгт Вурнары, ул. Советская, д. 8 | C43: =3769642.4 -> 3769642.4 | D43: 1271705.1 | F43: 522 | G43: =C43-D43-Q43-R43 -> 2228784.9 | Q43: =C43*5% -> 188482.12 | R43: =C43*2.14% -> 80670.347
A44: 8 | B44: пгт Вурнары, ул. Чернышевского, д. 2 | C44: =1499*949.1 -> 1422700.9 | D44: =C44-Q44-R44 -> 1321120.1 | Q44: =C44*5% -> 71135.045 | R44: =C44*2.14% -> 30445.799
A45: 9 | B45: пгт Вурнары, ул. Чернышевского, д. 3 | C45: =626*862.4 -> 539862.4 | D45: =C45-Q45-R45 -> 501316.22 | Q45: =C45*5% -> 26993.12 | R45: =C45*2.14% -> 11553.055
A46: 10 | B46: с. Калинино, ул. Ленина, д. 56 | C46: =1223*964.4 -> 1179461.2 | D46: =C46-Q46-R46 -> 1095247.7 | Q46: =C46*5% -> 58973.06 | R46: =C46*2.14% -> 25240.47
B47: Итого | C47: =SUM(SUM(C37:C46)) -> 31893167 | D47: =SUM(SUM(D37:D46)) -> 21761170 | F47: =SUM(SUM(F37:F46)) -> 1788.7 | G47: =SUM(SUM(G37:G46)) -> 7854825 | J47: =SUM(SUM(J37:J46)) -> 0 | K47: =SUM(SUM(K37:K46)) -> 0 | Q47: =SUM(SUM(Q37:Q46)) -> 1594658.3 | R47: =SUM(SUM(R37:R46)) -> 682513.77 | S47: =SUM(S37:S46) -> 0 | T47: =SUM(T37:T46) -> 0
B48: Итого за 2027–2029 годы: 31 дом | C48: =C29+C35+C47 -> 90072186 | D48: =D29+D35+D47 -> 67064740 | F48: =F29+F35+F47 -> 3556.7 | G48: =G29+G35+G47 -> 15707386 | J48: =J29+J35+J47 -> 0 | K48: =K29+K35+K47 -> 868905.88 | Q48: =Q29+Q35+Q47 -> 4503609.3 | R48: 1927544.8

Sheet Лист1
