Workbook
Name Print_Titles: реестр!$12:$12

Sheet Перечень
Q1: Приложение № 1 к постановлению администрации Урмарского муниципального округа Чувашской Республики от 15.07.2026 № 806
B7: П Е Р Е Ч Е Н Ь многоквартирных домов, расположенных на территории Урмарского муниципального округа Чувашской Республики, в отношении которых в 2027–2029 годах планируется проведение капитального ремонта общего имущества
A8: № п/п | B8: Адрес многоквартирного дома | C8: Год | E8: Материал стен | F8: Количество этажей в многоквартирном доме | G8: Количество подъездов в многоквартирном доме | H8: Общая площадь МКД, всего | I8: Площадь помещений МКД | K8: Количество жителей, зарегистрированных в МКД на дату утверждения Республиканской программы капитального ремонта общего имущества в МКД, расположенных на территории Урмарского муниципального округа Чувашской Республики, на 2014–2055 годы | L8: Вид услуг и (или) работ по капитальному ремонту общего имущества в многоквартирном доме | M8: Стоимость услуг и (или) работ по капитальному ремонту общего имущества в многоквартирном доме | R8: Удельная стоимость капитального ремонта 1 кв. м общей площади помещений МКД | S8: Предельная стоимость капитального ремонта 1 кв. м общей площади помещений МКД | T8: Способ формиро-вания фонда капитального ремонта | U8: Минимальный размер фонда капитального ремонта (для домов, выбравших спецсчет) | V8: Год проведения капитального ремонта общего имущества в многоквартирных домах
C9: ввода в экс- плуата- цию мно- гоквар- тирного дома | D9: Завершение последнего капитального ремонта в многоквартирном доме | I9: Всего | J9: В том числе жилых помещений, находящихся в собственности граждан | M9: Всего: | N9: за счет средств государственной корпорации – Фонда содействия реформированию жилищно-коммунального хозяйства | O9: за счет средств государственной и муниципальной поддержки | Q9: За счет средств собственников помещений в МКД
O10: За счет средств республиканского бюджета Чувашской Республики | P10: За счет средств местного бюджета
H11: кв.метров | I11: кв.метров | J11: кв.метров | K11: чел. | M11: рублей | N11: рублей | O11: рублей | P11: рублей | Q11: рублей | R11: рублей/кв.м | S11: рублей/кв.м | U11: рублей
A12: 1 | B12: 2 | C12: 3 | D12: 4 | E12: 5 | F12: 6 | G12: 7 | H12: 8 | I12: 9 | J12: 10 | K12: 11 | L12: 12 | M12: 13 | N12: 14 | O12: 15 | P12: 16 | Q12: 17 | R12: 18 | S12: 19 | T12: 20 | U12: 21 | V12: 22
A13: 2027 г.
A14: Урмарский муниципальный округ
A15: 1 | B15: пгт Урмары, ул. Заводская, д. 38 | C15: 1991 | D15: 2019 | E15: панель | F15: 3 | G15: 3 | H15: 1474.9 | I15: 1320.31 | J15: 1268.41 | K15: 44 | L15: ремонт систем теплоснабжения, водоотведения | M15: =N15+O15+P15+Q15 -> 4855370.8 | Q15: 4855370.8 | R15: =M15/I15 -> 3677.4476 | S15: 24561.9 | T15: на счете рег. оператора | U15: 13.03 | V15: 2027
A16: 2 | B16: пгт Урмары, ул. Заводская, д. 47 | C16: 1994 | E16: кирпич | F16: 2 | G16: 3 | H16: 1054.43 | I16: 854.04 | J16: 804.68 | K16: 46 | L16: ремонт системы электроснабжения, ремонт крыши | M16: =N16+O16+P16+Q16 -> 9392857.9 | Q16: 9392857.9 | R16: =M16/I16 -> 10998.147 | S16: 24561.9 | T16: на счете рег. оператора | U16: 13.03 | V16: 2027
A17: 3 | B17: пгт Урмары, ул. Ленина, д. 37 | C17: 1962 | D17: 2009 | E17: кирпич | F17: 2 | G17: 1 | H17: 284.7 | I17: 264.97 | J17: 229.87 | K17: 14 | L17: ремонт системы холодного водоснабжения, теплоснабжения | M17: =N17+O17+P17+Q17 -> 866911.5 | Q17: 866911.5 | R17: =M17/I17 -> 3271.7345 | S17: 24561.9 | T17: на счете рег. оператора | U17: 13.03 | V17: 2027
A18: 4 | B18: пгт Урмары, ул. Ленина, д. 47 | C18: 1959 | D18: 2009 | E18: кирпич | F18: 2 | G18: 1 | H18: 257.8 | I18: 231.1 | J18: 231.1 | K18: 4 | L18: ремонт систем холодного водоснабжения, теплоснабжения | M18: =N18+O18+P18+Q18 -> 785001 | Q18: 785001 | R18: =M18/I18 -> 3396.8023 | S18: 24561.9 | T18: на счете рег. оператора | U18: 13.03 | V18: 2027
A19: 5 | B19: пгт Урмары, ул. Мира, д. 3 | C19: 1969 | D19: 2009 | E19: кирпич | F19: 2 | G19: 2 | H19: 485.2 | I19: 453.22 | J19: 412.6 | K19: 25 | L19: ремонт системы электроснабжения | M19: =N19+O19+P19+Q19 -> 593399.6 | Q19: 593399.6 | R19: =M19/I19 -> 1309.297 | S19: 24561.9 | T19: на счете рег. оператора | U19: 13.03 | V19: 2027
A20: 6 | B20: пгт Урмары, ул. Новая, д. 5 | C20: 1969 | D20: 2009 | E20: кирпич | F20: 2 | G20: 2 | H20: 536.7 | I20: 489.49 | J20: 451.47 | K20: 27 | L20: ремонт системы электроснабжения | M20: =N20+O20+P20+Q20 -> 656384.1 | Q20: 656384.1 | R20: =M20/I20 -> 1340.9551 | S20: 24561.9 | T20: на счете рег. оператора | U20: 13.03 | V20: 2027
A21: 7 | B21: пгт Урмары, ул. Порфирьева, д. 3 | C21: 1968 | D21: 2011 | E21: кирпич | F21: 2 | G21: 2 | H21: 564.9 | I21: 517.26 | J21: 517.26 | K21: 25 | L21: ремонт систем теплоснабжения, водоотведения | M21: =N21+O21+P21+Q21 -> 1859650.8 | Q21: 1859650.8 | R21: =M21/I21 -> 3595.1955 | S21: 24561.9 | T21: на счете рег. оператора | U21: 13.03 | V21: 2027
B22: Итого: 7 домов | H22: =SUM(H15:H21) -> 4658.63 | I22: =SUM(I15:I21) -> 4130.39 | J22: =SUM(J15:J21) -> 3915.39 | K22: =SUM(K15:K21) -> 185 | M22: =SUM(M15:M21) -> 19009576 | Q22: =SUM(Q15:Q21) -> 19009576 | R22: =M22/I22 -> 4602.3682
A23: 2028 г.
A24: Урмарский муниципальный округ
A25: 1 | B25: пгт Урмары, ул. Заводская, д. 27 | C25: 1975 | D25: 2020 | E25: кирпич | F25: 2 | G25: 3 | H25: 992.1 | I25: 881.33 | J25: 840.43 | K25: 44 | L25: ремонт подвальных помещений | M25: =N25+O25+P25+Q25 -> 939667.2 | Q25: 939667.2 | R25: =M25/I25 -> 1066.1922 | S25: 24561.9 | T25: на счете рег. оператора | U25: 13.03 | V25: 2028
A26: 2 | B26: пгт Урмары, ул. Заводская, д. 40 | C26: 1983 | D26: 2009 | E26: кирпич | F26: 2 | G26: 3 | H26: 941 | I26: 856.1 | J26: 767.3 | K26: 35 | L26: ремонт системы элетроснабжения | M26: =N26+O26+P26+Q26 -> 1150843 | Q26: 1150843 | R26: =M26/I26 -> 1344.2857 | S26: 24561.9 | T26: на счете рег. оператора | U26: 13.03 | V26: 2028
A27: 3 | B27: пгт Урмары, ул. Заводская, д. 41 | C27: 1982 | D27: 2013 | E27: кирпич | F27: 3 | G27: 3 | H27: 1900.5 | I27: 1753.92 | J27: 1719.82 | K27: 75 | L27: ремонт системы элетроснабжения | M27: =N27+O27+P27+Q27 -> 2324311.5 | Q27: 2324311.5 | R27: =M27/I27 -> 1325.2095 | S27: 24561.9 | T27: на счете рег. оператора | U27: 13.03 | V27: 2028
A28: 4 | B28: пгт Урмары, ул. Ленина, д. 45 | C28: 1961 | D28: 2009 | E28: кирпич | F28: 2 | G28: 2 | H28: 701.9 | I28: 642.68 | J28: 642.68 | K28: 27 | L28: ремонт систем холодного водоснабжения, водоотведения, теплоснабжения, замена коллективных (общедомовых) приборов учета потребления холодной воды | M28: =N28+O28+P28+Q28 -> 2812507.2 | Q28: =2750044.2+62463 -> 2812507.2 | R28: =M28/I28 -> 4376.2171 | S28: 24561.9 | T28: на счете рег. оператора | U28: 13.03 | V28: 2028
A29: 5 | B29: пгт Урмары, ул. Мира, д. 18 | C29: 1975 | D29: 2016 | E29: кирпич | F29: 2 | G29: 3 | H29: 963.9 | I29: 884.01 | J29: 836.27 | K29: 40 | L29: ремонт системы электроснабжения | M29: =N29+O29+P29+Q29 -> 1178849.7 | Q29: 1178849.7 | R29: =M29/I29 -> 1333.5253 | S29: 24561.9 | T29: на счете рег. оператора | U29: 13.03 | V29: 2028
A30: 6 | B30: пгт Урмары, ул. Порфирьева, д. 11 | C30: 1975 | D30: 2013 | E30: кирпич | F30: 2 | G30: 1 | H30: 735.3 | I30: 700.44 | J30: 700.44 | K30: 38 | L30: ремонт систем теплоснабжения, электроснабжения, водоотведения | M30: =N30+O30+P30+Q30 -> 3319879.5 | Q30: 3319879.5 | R30: =M30/I30 -> 4739.7058 | S30: 24561.9 | T30: на счете рег. оператора | U30: 13.03 | V30: 2028
A31: 7 | B31: пгт Урмары, ул. Порфирьева, д. 9 | C31: 1973 | D31: 2016 | E31: кирпич | F31: 2 | G31: 1 | H31: 709.3 | I31: 634.93 | J31: 570.13 | K31: 73 | L31: ремонт крыши | M31: =N31+O31+P31+Q31 -> 6171880 | Q31: 6171880 | R31: =M31/I31 -> 9720.5676 | S31: 24561.9 | T31: на счете рег. оператора | U31: 13.03 | V31: 2028
B32: Итого: 7 домов | H32: =SUM(H25:H31) -> 6944 | I32: =SUM(I25:I31) -> 6353.41 | J32: =SUM(J25:J31) -> 6077.07 | K32: =SUM(K25:K31) -> 332 | M32: =SUM(M25:M31) -> 17897938 | Q32: =SUM(Q25:Q31) -> 17897938 | R32: =M32/I32 -> 2817.0601
A33: 2029 г.
A34: Урмарский муниципальный округ
A35: 1 | B35: пгт Урмары, пер.Чапаева, д. 2 | C35: 1968 | D35: 2009 | E35: кирпич | F35: 2 | G35: 2 | H35: 408.5 | I35: 380.91 | J35: 286.29 | K35: 16 | L35: ремонт системы электроснабжения | M35: =N35+O35+P35+Q35 -> 499595.5 | Q35: 499595.5 | R35: =M35/I35 -> 1311.5841 | S35: 24561.9 | T35: на счете рег. оператора | U35: 13.03 | V35: 2029
A36: 2 | B36: пгт Урмары, пер. Школьный, д. 4 | C36: 2001 | E36: кирпич | F36: 3 | G36: 4 | H36: 2052 | I36: 1917.08 | J36: 1917.08 | K36: 65 | L36: ремонт системы электроснабжения | M36: =N36+O36+P36+Q36 -> 2509596 | Q36: 2509596 | R36: =M36/I36 -> 1309.0721 | S36: 24561.9 | T36: на счете рег. оператора | U36: 13.03 | V36: 2029
A37: 3 | B37: пгт Урмары, ул. Заводская, д. 36 | C37: 1997 | D37: 2021 | E37: кирпич | F37: 3 | G37: 3 | H37: 1945 | I37: 1686.07 | J37: 1686.07 | K37: 59 | L37: ремонт систем холодного водоснабжения, теплоснабжения, водоотведения, замена коллективных (общедомовых) приборов учета потребления холодной воды, замена узлов управления и регулирования потребления тепловой энергии | M37: =N37+O37+P37+Q37 -> 9413649 | Q37: =7620510+62463+1730676 -> 9413649 | R37: =M37/I37 -> 5583.1899 | S37: 24561.9 | T37: на счете рег. оператора | U37: 13.03 | V37: 2029
A38: 4 | B38: пгт Урмары, ул. Заводская, д. 44 | C38: 1998 | E38: кирпич | F38: 3 | G38: 3 | H38: 1687 | I38: 1536.46 | J38: 1475.86 | K38: 63 | L38: ремонт системы электроснабжения | M38: =N38+O38+P38+Q38 -> 2063201 | Q38: 2063201 | R38: =M38/I38 -> 1342.8277 | S38: 24561.9 | T38: на счете рег. оператора | U38: 13.03 | V38: 2029
A39: 5 | B39: пгт Урмары, ул. Ленина, д. 35 | C39: 1962 | D39: 2018 | E39: кирпич | F39: 2 | G39: 1 | H39: 284.7 | I39: 264.66 | J39: 186.8 | K39: 9 | L39: ремонт системы холодного водоснабжения | M39: =N39+O39+P39+Q39 -> 178222.2 | Q39: 178222.2 | R39: =M39/I39 -> 673.40059 | S39: 24561.9 | T39: на счете рег. оператора | U39: 13.03 | V39: 2029
A40: 6 | B40: пгт Урмары, ул. Ленина, д. 39 | C40: 1962 | D40: 2009 | E40: кирпич | F40: 2 | G40: 1 | H40: 289.1 | I40: 260.94 | J40: 260.94 | K40: 15 | L40: ремонт систем холодного водоснабжения, электроснабжения | M40: =N40+O40+P40+Q40 -> 534545.9 | Q40: 534545.9 | R40: =M40/I40 -> 2048.5395 | S40: 24561.9 | T40: на счете рег. оператора | U40: 13.03 | V40: 2029
A41: 7 | B41: пгт Урмары, ул. Ленина, д. 41 | C41: 1962 | D41: 2009 | E41: кирпич | F41: 2 | G41: 1 | H41: 279.5 | I41: 256.1 | J41: 256.1 | K41: 11 | L41: ремонт системы холодного водоснабжения | M41: =N41+O41+P41+Q41 -> 174967 | Q41: 174967 | R41: =M41/I41 -> 683.19797 | S41: 24561.9 | T41: на счете рег. оператора | U41: 13.03 | V41: 2029
A42: 8 | B42: пгт Урмары, ул. Ленина, д. 47 | C42: 1959 | D42: 2009 | E42: кирпич | F42: 2 | G42: 1 | H42: 257.8 | I42: 231.1 | J42: 231.1 | K42: 4 | L42: ремонт системы электроснабжения | M42: =N42+O42+P42+Q42 -> 315289.4 | Q42: 315289.4 | R42: =M42/I42 -> 1364.2986 | S42: 24561.9 | T42: на счете рег. оператора | U42: 13.03 | V42: 2029
A43: 9 | B43: пгт Урмары, ул. Мира, д. 1 | C43: 1974 | D43: 2009 | E43: кирпич | F43: 2 | G43: 2 | H43: 470.6 | I43: 441.4 | J43: 279.3 | K43: 27 | L43: ремонт системы электроснабжения | M43: =N43+O43+P43+Q43 -> 575543.8 | Q43: 575543.8 | R43: =M43/I43 -> 1303.9053 | S43: 24561.9 | T43: на счете рег. оператора | U43: 13.03 | V43: 2029
A44: 10 | B44: пгт Урмары, ул. Новая, д. 1 | C44: 1967 | D44: 2009 | E44: кирпич | F44: 2 | G44: 2 | H44: 396.5 | I44: 359.8 | J44: 359.8 | K44: 10 | L44: ремонт системы электроснабжения | M44: =N44+O44+P44+Q44 -> 484919.5 | Q44: 484919.5 | R44: =M44/I44 -> 1347.7474 | S44: 24561.9 | T44: на счете рег. оператора | U44: 13.03 | V44: 2029
A45: 11 | B45: пгт Урмары, ул. Новая, д. 3 | C45: 1966 | D45: 2009 | E45: кирпич | F45: 2 | G45: 2 | H45: 522.9 | I45: 500.9 | J45: 500.9 | K45: 23 | L45: ремонт системы электроснабжения | M45: =N45+O45+P45+Q45 -> 639506.7 | Q45: 639506.7 | R45: =M45/I45 -> 1276.7153 | S45: 24561.9 | T45: на счете рег. оператора | U45: 13.03 | V45: 2029
...

Sheet реестр
P2: Приложение № 2 к постановлению администрации Урмарского муниципального округа Чувашской Республики от 15.07.2026 № 806
A8: Р Е Е С Т Р многоквартирных домов, расположенных на территории Урмарского муниципального округа Чувашской Республики, в отношении которых планируется проведение капитального ремонта общего имущества, по видам услуг и (или) работ
A10: № пп | B10: Адрес многоквартирного дома | C10: Стоимость услуг и (или) работ по капитальному ремонту общего имущества в многоквартирном доме – всего | D10: Ремонт внутридомовых инженерных систем | E10: Установка и замена коллективных (общедомовых) ПУ и УУ | F10: Ремонт крыши | H10: Ремонт, замена, модернизация лифтов, ремонт лифтовых шахт, машинных и блочных помещений | J10: Ремонт подвальных помещений, относящихся к общему имуществу в многоквартирном доме | L10: Утепление и ремонт фасада многоквартирного дома | N10: Ремонт фундамента многоквартирного дома | P10: Энергетическое обследование многоквартир-ного дома | Q10: Разработка проектной документации | R10: Услуги по строительному контролю
B11: улица, № дома | C11: рублей | D11: рублей | E11: рублей | F11: кв. м | G11: рублей | H11: ед. | I11: рублей | J11: кв. м | K11: рублей | L11: кв. м | M11: рублей | N11: куб. м | O11: рублей | P11: рублей | Q11: рублей | R11: рублей
A12: 1 | B12: 2 | C12: 3 | D12: 4 | E12: 5 | F12: 6 | G12: 7 | H12: 8 | I12: 9 | J12: 10 | K12: 11 | L12: 12 | M12: 13 | N12: 14 | O12: 15 | P12: 16 | Q12: 17 | R12: 18
A13: 2027 год
A14: Урмарский муниципальный округ
A15: 1 | B15: пгт Урмары, ул. Заводская, д. 38 | C15: 4855370.8 | D15: =C15-Q15-R15 -> 4508697.3 | Q15: =C15*0.05 -> 242768.54 | R15: =C15*0.0214 -> 103904.94
A16: 2 | B16: пгт Урмары, ул. Заводская, д. 47 | C16: 9392857.9 | D16: 1197492.8 | F16: 751 | G16: 7524715.1 | Q16: =C16*0.05 -> 469642.89 | R16: =C16*0.0214 -> 201007.16
A17: 3 | B17: пгт Урмары, ул. Ленина, д. 37 | C17: 866911.5 | D17: 805014.01 | Q17: =C17*0.05 -> 43345.575 | R17: =C17*0.0214 -> 18551.906
A18: 4 | B18: пгт Урмары, ул. Ленина, д. 47 | C18: 785001 | D18: =C18-Q18-R18 -> 728951.93 | Q18: =C18*0.05 -> 39250.05 | R18: =C18*0.0214 -> 16799.021
A19: 5 | B19: пгт Урмары, ул. Мира, д. 3 | C19: 593399.6 | D19: =C19-Q19-R19 -> 551030.87 | Q19: =C19*0.05 -> 29669.98 | R19: =C19*0.0214 -> 12698.751
A20: 6 | B20: пгт Урмары, ул. Новая, д. 5 | C20: 656384.1 | D20: 609518.27 | Q20: =C20*0.05 -> 32819.205 | R20: =C20*0.0214 -> 14046.62
A21: 7 | B21: пгт Урмары, ул. Порфирьева, д. 3 | C21: 1859650.8 | D21: =C21-Q21-R21 -> 1726871.7 | Q21: =C21*0.05 -> 92982.54 | R21: =C21*0.0214 -> 39796.527
B22: Итого по округу | C22: =SUM(C15:C21) -> 19009576 | D22: =SUM(D15:D21) -> 10127577 | F22: =SUM(F15:F21) -> 751 | G22: =SUM(G15:G21) -> 7524715.1 | Q22: 950478.79 | R22: 406804.93
A23: 2028 год
A24: Урмарский муниципальный округ
A25: 1 | B25: пгт Урмары, ул. Заводская, д. 27 | C25: =D25+E25+G25+I25+K25+M25+O25+P25+Q25+R25 -> 939667.2 | J25: 523.2 | K25: 872574.96 | Q25: =Перечень!Q25*5/100 -> 46983.36 | R25: =Перечень!Q25*2.14/100 -> 20108.878
A26: 2 | B26: пгт Урмары, ул. Заводская, д. 40 | C26: =D26+E26+G26+I26+K26+M26+O26+P26+Q26+R26 -> 1150843 | D26: =Перечень!Q26-Q26-R26 -> 1068672.8 | Q26: =Перечень!Q26*5/100 -> 57542.15 | R26: =Перечень!Q26*2.14/100 -> 24628.04
A27: 3 | B27: пгт Урмары, ул. Заводская, д. 41 | C27: =D27+E27+G27+I27+K27+M27+O27+P27+Q27+R27 -> 2324311.5 | D27: =Перечень!Q27-Q27-R27 -> 2158355.7 | Q27: =Перечень!Q27*5/100 -> 116215.57 | R27: =Перечень!Q27*2.14/100 -> 49740.266
A28: 4 | B28: пгт Урмары, ул. Ленина, д. 45 | C28: =D28+E28+G28+I28+K28+M28+O28+P28+Q28+R28 -> 2812507.2 | D28: 2553691 | E28: 58003.14 | Q28: =Перечень!Q28*5/100 -> 140625.36 | R28: =Перечень!Q28*2.14/100 -> 60187.654
A29: 5 | B29: пгт Урмары, ул. Мира, д. 18 | C29: =D29+E29+G29+I29+K29+M29+O29+P29+Q29+R29 -> 1178849.7 | D29: =Перечень!Q29-Q29-R29 -> 1094679.8 | Q29: =Перечень!Q29*5/100 -> 58942.485 | R29: =Перечень!Q29*2.14/100 -> 25227.384
A30: 6 | B30: пгт Урмары, ул. Порфирьева, д. 11 | C30: =D30+E30+G30+I30+K30+M30+O30+P30+Q30+R30 -> 3319879.5 | D30: =Перечень!Q30-Q30-R30 -> 3082840.1 | Q30: =Перечень!Q30*5/100 -> 165993.98 | R30: =Перечень!Q30*2.14/100 -> 71045.421
A31: 7 | B31: пгт Урмары, ул. Порфирьева, д. 9 | C31: =D31+E31+G31+I31+K31+M31+O31+P31+Q31+R31 -> 6171880 | F31: 572 | G31: 5731207.8 | Q31: =Перечень!Q31*5/100 -> 308594 | R31: =Перечень!Q31*2.14/100 -> 132078.23
B32: Итого по округу | C32: =SUM(C25:C31) -> 17897938 | D32: =SUM(D25:D31) -> 9958239.5 | E32: =SUM(E25:E31) -> 58003.14 | F32: =SUM(F25:F31) -> 572 | G32: =SUM(G25:G31) -> 5731207.8 | J32: =SUM(J25:J31) -> 523.2 | K32: =SUM(K25:K31) -> 872574.96 | Q32: =SUM(Q25:Q31) -> 894896.91 | R32: =SUM(R25:R31) -> 383015.88
A33: 2029 год
A34: Урмарский муниципальный округ
A35: 1 | B35: пгт Урмары, пер.Чапаева, д. 2 | C35: 499595.5 | D35: =C35-Q35-R35 -> 463924.38 | Q35: =C35*0.05 -> 24979.775 | R35: =C35*0.0214 -> 10691.344
A36: 2 | B36: пгт Урмары, пер. Школьный, д. 4 | C36: 2509596 | D36: =C36-Q36-R36 -> 2330410.8 | Q36: =C36*0.05 -> 125479.8 | R36: =C36*0.0214 -> 53705.354
A37: 3 | B37: пгт Урмары, ул. Заводская, д. 36 | C37: =D37+E37+Q37+R37 -> 9413649 | D37: 7076405.6 | E37: 1665108.9 | Q37: 470682.45 | R37: 201452.09
A38: 4 | B38: пгт Урмары, ул. Заводская, д. 44 | C38: 2063201 | D38: =C38-Q38-R38 -> 1915888.4 | Q38: =C38*0.05 -> 103160.05 | R38: =C38*0.0214 -> 44152.501
A39: 5 | B39: пгт Урмары, ул. Ленина, д. 35 | C39: 178222.2 | D39: =C39-Q39-R39 -> 165497.13 | Q39: =C39*0.05 -> 8911.11 | R39: =C39*0.0214 -> 3813.9551
A40: 6 | B40: пгт Урмары, ул. Ленина, д. 39 | C40: 534545.9 | D40: =C40-Q40-R40 -> 496379.32 | Q40: =C40*0.05 -> 26727.295 | R40: =C40*0.0214 -> 11439.282
A41: 7 | B41: пгт Урмары, ул. Ленина, д. 41 | C41: 174967 | D41: =C41-Q41-R41 -> 162474.36 | Q41: =C41*0.05 -> 8748.35 | R41: =C41*0.0214 -> 3744.2938
A42: 8 | B42: пгт Урмары, ул. Ленина, д. 47 | C42: 315289.4 | D42: =C42-Q42-R42 -> 292777.74 | Q42: =C42*0.05 -> 15764.47 | R42: =C42*0.0214 -> 6747.1932
A43: 9 | B43: пгт Урмары, ул. Мира, д. 1 | C43: 575543.8 | D43: =C43-Q43-R43 -> 534449.97 | Q43: =C43*0.05 -> 28777.19 | R43: =C43*0.0214 -> 12316.637
A44: 10 | B44: пгт Урмары, ул. Новая, д. 1 | C44: 484919.5 | D44: 450296.25 | Q44: =C44*0.05 -> 24245.975 | R44: =C44*0.0214 -> 10377.277
A45: 11 | B45: пгт Урмары, ул. Новая, д. 3 | C45: 639506.7 | D45: =C45-Q45-R45 -> 593845.92 | Q45: =C45*0.05 -> 31975.335 | R45: =C45*0.0214 -> 13685.443
A46: 12 | B46: пгт Урмары, ул. Порфирьева, д. 1 | C46: 667146.5 | D46: 619512.24 | Q46: =C46*0.05 -> 33357.325 | R46: =C46*0.0214 -> 14276.935
B47: Итого по округу | C47: =SUM(C35:C46) -> 18056182 | D47: =SUM(D35:D46) -> 15101862 | E47: =SUM(E35:E46) -> 1665108.9 | Q47: =SUM(Q35:Q46) -> 902809.12 | R47: =SUM(R35:R46) -> 386402.31
...

Sheet Планируемые показатели
C1: Единого портала
L3: Приложение № 3 к постановлению администрации Урмарского муниципального округа Чувашской Республики от 15.07.2026 № 806
A8: ПЛАНИРУЕМЫЕ ПОКАЗАТЕЛИ выполнения услуг и (или) работ по капитальному ремонту общего имущества в многоквартирных домах, расположенных на территории Урмарского муниципального округа Чувашской Республики, в 2027–2029 годах
A10: 2027 год
A11: № пп | B11: № пп | C11: Наименование муниципального образования | D11: Общая площадь многоквар-тирных домов | E11: Количество жителей, зарегистри-рованных в многоквар-тирных домах на дату утверждения кратко-срочного плана | F11: Количество многоквартирных домов | K11: Стоимость услуг и (или) работ по капитальному ремонту общего имущества в многоквартирном доме
F12: I квартал 2027 г. | G12: II квартал 2027 г. | H12: III квартал 2027 г. | I12: IV квартал 2027 г. | J12: всего | K12: I квартал 2027 г. | L12: II квартал 2027 г. | M12: III квартал 2027 г. | N12: IV квартал 2027 г. | O12: всего
D13: кв. м | E13: чел. | F13: ед. | G13: ед. | H13: ед. | I13: ед. | J13: ед. | K13: рублей | L13: рублей | M13: рублей | N13: рублей | O13: рублей
A14: 1 | B14: 1 | C14: 2 | D14: 3 | E14: 4 | F14: 5 | G14: 6 | H14: 7 | I14: 8 | J14: 9 | K14: 10 | L14: 11 | M14: 12 | N14: 13 | O14: 14 | X14: 6
A15: 13 | B15: 1 | C15: Урмарский муниципальный округ | D15: =Перечень!H22 -> 4658.63 | E15: =Перечень!K22 -> 185 | I15: 7 | J15: 7 | N15: =реестр!C22 -> 19009576 | O15: =реестр!C22 -> 19009576
B16: Итого | D16: =SUM(D15:D15) -> 4658.63 | E16: =SUM(E15:E15) -> 185 | I16: =SUM(I15:I15) -> 7 | J16: =SUM(J15:J15) -> 7 | N16: =SUM(N15:N15) -> 19009576 | O16: =SUM(O15:O15) -> 19009576
A17: 2028 год
A18: № пп | B18: № пп | C18: Наименование муниципального образования | D18: Общая площадь многоквар-тирных домов | E18: Количество жителей, зарегистри-рованных в многоквар-тирных домах на дату утверждения краткосроч-ного плана | F18: Количество многоквартирных домов | K18: Стоимость капитального ремонта общего имущества в многоквартирных домах
F19: I квартал 2028 г. | G19: II квартал 2028 г. | H19: III квартал 2028 г. | I19: IV квартал 2028 г. | J19: всего | K19: I квартал 2028 г. | L19: II квартал 2028 г. | M19: III квартал 2028 г. | N19: IV квартал 2028 г. | O19: всего
D20: кв. м | E20: чел. | F20: ед. | G20: ед. | H20: ед. | I20: ед. | J20: ед. | K20: рублей | L20: рублей | M20: рублей | N20: рублей | O20: рублей
A21: 1 | B21: 1 | C21: 2 | D21: 3 | E21: 4 | F21: 5 | G21: 6 | H21: 7 | I21: 8 | J21: 9 | K21: 10 | L21: 11 | M21: 12 | N21: 13 | O21: 14
A22: 13 | B22: 1 | C22: Урмарский муниципальный округ | D22: =Перечень!H32 -> 6944 | E22: =Перечень!K32 -> 332 | I22: 7 | J22: 7 | N22: =реестр!C32 -> 17897938 | O22: =реестр!C32 -> 17897938
B23: Итого | D23: =SUM(D22:D22) -> 6944 | E23: =SUM(E22:E22) -> 332 | I23: =SUM(I22:I22) -> 7 | J23: =SUM(J22:J22) -> 7 | N23: =SUM(N22:N22) -> 17897938 | O23: =SUM(SUM(O22:O22)) -> 17897938
A24: 2029 год
A25: № пп | B25: № пп | C25: Наименование муниципального образования | D25: Общая площадь многоквар-тирных домов | E25: Количество жителей, зарегистри-рованных в многоквар-тирных домах на дату утверждения краткосроч-ного плана | F25: Количество многоквартирных домов | K25: Стоимость капитального ремонта общего имущества в многоквартирных домах
F26: I квартал 2029 г. | G26: II квартал 2029 г. | H26: III квартал 2029 г. | I26: IV квартал 2029 г. | J26: всего | K26: I квартал 2029 г. | L26: II квартал 2029 г. | M26: III квартал 2029 г. | N26: IV квартал 2029 г. | O26: всего
D27: кв. метров | E27: чел. | F27: ед. | G27: ед. | H27: ед. | I27: ед. | J27: ед. | K27: рублей | L27: рублей | M27: рублей | N27: рублей | O27: рублей
A28: 1 | B28: 1 | C28: 2 | D28: 3 | E28: 4 | F28: 5 | G28: 6 | H28: 7 | I28: 8 | J28: 9 | K28: 10 | L28: 11 | M28: 12 | N28: 13 | O28: 14
A29: 14 | B29: 1 | C29: Урмарский муниципальный округ | D29: =Перечень!H47 -> 9139.1 | E29: =Перечень!K47 -> 330 | I29: 12 | J29: 12 | N29: =реестр!C47 -> 18056182 | O29: =реестр!C47 -> 18056182
B30: Итого | D30: =SUM(D29:D29) -> 9139.1 | E30: =SUM(E29:E29) -> 330 | I30: =SUM(I29:I29) -> 12 | J30: =SUM(J29:J29) -> 12 | N30: =SUM(N29:N29) -> 18056182 | O30: =SUM(O29:O29) -> 18056182
B31: Всего по Урмарскому муниципальному округу за 2027–2029 годы | D31: =SUM(D16+D23+D30) -> 20741.73 | E31: =SUM(E16+E23+E30) -> 847 | I31: =I16+I23+I30 -> 26 | J31: =J16+J23+J30 -> 26 | N31: =N16+N23+N29 -> 54963696 | O31: =O16+O23+O29 -> 54963696
